Back to Multiple platform build/check report for BioC 3.18:   simplified   long
AB[C]DEFGHIJKLMNOPQRSTUVWXYZ

This page was generated on 2023-09-27 11:38:52 -0400 (Wed, 27 Sep 2023).

HostnameOSArch (*)R versionInstalled pkgs
nebbiolo2Linux (Ubuntu 22.04.2 LTS)x86_644.3.1 (2023-06-16) -- "Beagle Scouts" 4659
palomino4Windows Server 2022 Datacenterx644.3.1 (2023-06-16 ucrt) -- "Beagle Scouts" 4394
lconwaymacOS 12.6.5 Montereyx86_644.3.1 Patched (2023-06-17 r84564) -- "Beagle Scouts" 4408
kunpeng2Linux (openEuler 22.03 LTS-SP1)aarch644.3.1 (2023-06-16) -- "Beagle Scouts" 4399
Click on any hostname to see more info about the system (e.g. compilers)      (*) as reported by 'uname -p', except on Windows and Mac OS X

Package 296/2233HostnameOS / ArchINSTALLBUILDCHECKBUILD BIN
cellmigRation 1.9.0  (landing page)
Waldir Leoncio
Snapshot Date: 2023-09-26 14:05:06 -0400 (Tue, 26 Sep 2023)
git_url: https://git.bioconductor.org/packages/cellmigRation
git_branch: devel
git_last_commit: b0bc2f4
git_last_commit_date: 2023-04-25 11:28:31 -0400 (Tue, 25 Apr 2023)
nebbiolo2Linux (Ubuntu 22.04.2 LTS) / x86_64  OK    OK    OK  UNNEEDED, same version is already published
palomino4Windows Server 2022 Datacenter / x64  OK    OK    OK    OK  UNNEEDED, same version is already published
lconwaymacOS 12.6.5 Monterey / x86_64  OK    OK    OK    OK  UNNEEDED, same version is already published
kunpeng2Linux (openEuler 22.03 LTS-SP1) / aarch64  OK    OK    OK  

CHECK results for cellmigRation on lconway


To the developers/maintainers of the cellmigRation package:
- Allow up to 24 hours (and sometimes 48 hours) for your latest push to git@git.bioconductor.org:packages/cellmigRation.git to reflect on this report. See Troubleshooting Build Report for more information.
- Use the following Renviron settings to reproduce errors and warnings.
- If 'R CMD check' started to fail recently on the Linux builder(s) over a missing dependency, add the missing dependency to 'Suggests:' in your DESCRIPTION file. See Renviron.bioc for more information.

raw results


Summary

Package: cellmigRation
Version: 1.9.0
Command: /Library/Frameworks/R.framework/Resources/bin/R CMD check --install=check:cellmigRation.install-out.txt --library=/Library/Frameworks/R.framework/Resources/library --no-vignettes --timings cellmigRation_1.9.0.tar.gz
StartedAt: 2023-09-26 19:28:11 -0400 (Tue, 26 Sep 2023)
EndedAt: 2023-09-26 19:30:43 -0400 (Tue, 26 Sep 2023)
EllapsedTime: 151.7 seconds
RetCode: 0
Status:   OK  
CheckDir: cellmigRation.Rcheck
Warnings: 0

Command output

##############################################################################
##############################################################################
###
### Running command:
###
###   /Library/Frameworks/R.framework/Resources/bin/R CMD check --install=check:cellmigRation.install-out.txt --library=/Library/Frameworks/R.framework/Resources/library --no-vignettes --timings cellmigRation_1.9.0.tar.gz
###
##############################################################################
##############################################################################


* using log directory ‘/Users/biocbuild/bbs-3.18-bioc/meat/cellmigRation.Rcheck’
* using R version 4.3.1 Patched (2023-06-17 r84564)
* using platform: x86_64-apple-darwin20 (64-bit)
* R was compiled by
    Apple clang version 14.0.3 (clang-1403.0.22.14.1)
    GNU Fortran (GCC) 12.2.0
* running under: macOS Monterey 12.6.5
* using session charset: UTF-8
* using option ‘--no-vignettes’
* checking for file ‘cellmigRation/DESCRIPTION’ ... OK
* checking extension type ... Package
* this is package ‘cellmigRation’ version ‘1.9.0’
* package encoding: UTF-8
* checking package namespace information ... OK
* checking package dependencies ... OK
* checking if this is a source package ... OK
* checking if there is a namespace ... OK
* checking for hidden files and directories ... OK
* checking for portable file names ... OK
* checking for sufficient/correct file permissions ... OK
* checking whether package ‘cellmigRation’ can be installed ... OK
* checking installed package size ... OK
* checking package directory ... OK
* checking ‘build’ directory ... OK
* checking DESCRIPTION meta-information ... OK
* checking top-level files ... OK
* checking for left-over files ... OK
* checking index information ... OK
* checking package subdirectories ... OK
* checking R files for non-ASCII characters ... OK
* checking R files for syntax errors ... OK
* checking whether the package can be loaded ... OK
* checking whether the package can be loaded with stated dependencies ... OK
* checking whether the package can be unloaded cleanly ... OK
* checking whether the namespace can be loaded with stated dependencies ... OK
* checking whether the namespace can be unloaded cleanly ... OK
* checking dependencies in R code ... OK
* checking S3 generic/method consistency ... OK
* checking replacement functions ... OK
* checking foreign function calls ... OK
* checking R code for possible problems ... OK
* checking Rd files ... OK
* checking Rd metadata ... OK
* checking Rd cross-references ... OK
* checking for missing documentation entries ... OK
* checking for code/documentation mismatches ... OK
* checking Rd \usage sections ... OK
* checking Rd contents ... OK
* checking for unstated dependencies in examples ... OK
* checking contents of ‘data’ directory ... OK
* checking data for non-ASCII characters ... OK
* checking data for ASCII and uncompressed saves ... OK
* checking files in ‘vignettes’ ... OK
* checking examples ... OK
* checking for unstated dependencies in ‘tests’ ... OK
* checking tests ...
  Running ‘runTests.R’
 OK
* checking for unstated dependencies in vignettes ... OK
* checking package vignettes in ‘inst/doc’ ... OK
* checking running R code from vignettes ... SKIPPED
* checking re-building of vignette outputs ... SKIPPED
* checking PDF version of manual ... OK
* DONE

Status: OK


Installation output

cellmigRation.Rcheck/00install.out

##############################################################################
##############################################################################
###
### Running command:
###
###   /Library/Frameworks/R.framework/Resources/bin/R CMD INSTALL cellmigRation
###
##############################################################################
##############################################################################


* installing to library ‘/Library/Frameworks/R.framework/Versions/4.3-x86_64/Resources/library’
* installing *source* package ‘cellmigRation’ ...
** using staged installation
** R
** data
** inst
** byte-compile and prepare package for lazy loading
** help
*** installing help indices
** building package indices
** installing vignettes
** testing if installed package can be loaded from temporary location
** testing if installed package can be loaded from final location
** testing if installed package keeps a record of temporary installation path
* DONE (cellmigRation)

Tests output

cellmigRation.Rcheck/tests/runTests.Rout


R version 4.3.1 Patched (2023-06-17 r84564) -- "Beagle Scouts"
Copyright (C) 2023 The R Foundation for Statistical Computing
Platform: x86_64-apple-darwin20 (64-bit)

R is free software and comes with ABSOLUTELY NO WARRANTY.
You are welcome to redistribute it under certain conditions.
Type 'license()' or 'licence()' for distribution details.

R is a collaborative project with many contributors.
Type 'contributors()' for more information and
'citation()' on how to cite R or R packages in publications.

Type 'demo()' for some demos, 'help()' for on-line help, or
'help.start()' for an HTML browser interface to help.
Type 'q()' to quit R.

> BiocGenerics:::testPackage("cellmigRation")
The legacy packages maptools, rgdal, and rgeos, underpinning the sp package,
which was just loaded, will retire in October 2023.
Please refer to R-spatial evolution reports for details, especially
https://r-spatial.org/r/2023/05/15/evolution4.html.
It may be desirable to make the sf package available;
package maintainers should consider adding sf to Suggests:.
The sp package is now running under evolution status 2
     (status 2 uses the sf package in place of rgdal)


RUNIT TEST PROTOCOL -- Tue Sep 26 19:30:31 2023 
*********************************************** 
Number of test functions: 7 
Number of errors: 0 
Number of failures: 0 

 
1 Test Suite : 
cellmigRation RUnit Tests - 7 test functions, 0 errors, 0 failures
Number of test functions: 7 
Number of errors: 0 
Number of failures: 0 
> 
> proc.time()
   user  system elapsed 
  3.436   0.393   3.877 

Example timings

cellmigRation.Rcheck/cellmigRation-Ex.timings

nameusersystemelapsed
AddDimension0.0020.0020.004
CellMig-class0.0320.0030.036
CellMigPCA1.5440.0361.606
CellMigPCAclust0.0080.0020.009
CellMigPCAclustALL0.8390.0100.865
CellTracker0.0180.0040.023
CellTrackerMainLoop0.0050.0110.032
CentroidArray0.0190.0040.031
CentroidValidation0.5010.0150.518
ComputeTracksStats0.0230.0030.026
DetectRadii0.0020.0000.002
DiAutoCor1.5620.0151.583
DiRatio0.0190.0020.022
DiRatioPlot0.0370.0200.066
EstimateDiameterRange0.0170.0020.021
FMI0.8300.0330.866
FianlizeOptiParams0.0000.0000.001
FilterTrackedCells0.0020.0010.004
FinRes0.7300.0350.780
ForwardMigration1.0380.0101.056
GenAllCombos0.0030.0010.004
LinearConv20.0220.0020.025
LoadTiff0.0010.0000.002
MSD1.8770.0291.933
MakeHypercube0.0010.0020.003
MigrationStats0.0010.0020.002
NextOdd0.0000.0010.000
NonParallel4OptimizeParams0.0010.0000.001
NonParallelTrackLoop0.0010.0000.000
OptimizeParams0.0160.0030.019
OptimizeParamsMainLoop0.0040.0080.023
Parallel4OptimizeParams0.0010.0010.001
ParallelTrackLoop0.0010.0010.001
PerAndSpeed0.3300.0350.401
PlotTracksSeparately0.0090.0020.011
PostProcessTracking000
Prep4OptimizeParams0.1080.0040.112
ThreeConditions0.0120.0030.014
TrackCellsDataset0.0170.0020.019
TrajectoryDataset0.0230.0020.026
ValidateTrackingArgs0.0010.0010.001
VeAutoCor1.1620.0161.193
VisualizeCntr0.0020.0010.003
VisualizeImg0.0060.0010.006
VisualizeStackCentroids0.0520.0120.065
WSADataset0.0080.0010.009
aggregateFR0.6710.0080.681
aggregateTrackedCells0.0220.0080.031
bpass0.0630.0040.075
circshift0.0010.0010.001
cntrd0.7830.0130.803
fixDA0.0000.0000.001
fixExpName0.0000.0000.001
fixFM10.0000.0000.001
fixFM2000
fixFM30.0010.0000.001
fixFM4000
fixFM50.0000.0000.001
fixFM60.0010.0000.001
fixID10.0010.0000.001
fixMSD0.0010.0010.000
fixPER10.0000.0010.000
fixPER2000
fixPER30.0000.0000.001
getAvailableAggrMetrics1.0960.0111.114
getCellImages0.2831.0171.679
getCellMigSlot0.3230.5951.167
getCellTrackMeta0.0170.0010.018
getCellTrackStats0.0210.0030.024
getCellTracks0.0160.0040.021
getCellsMeta0.0160.0020.024
getCellsStats0.0200.0030.025
getDACtable1.8900.0211.972
getDiRatio0.0150.0020.021
getFMItable0.3890.0070.448
getForMigtable0.5350.0340.760
getImageCentroids0.0240.0040.030
getImageStacks0.0590.0120.079
getMSDtable4.1920.0704.757
getOptimizedParameters0.0140.0020.017
getOptimizedParams0.0180.0050.023
getPerAndSpeed0.3340.0330.382
getPopulationStats0.0180.0030.022
getProcessedImages0.3893.9244.897
getProcessingStatus0.0160.0020.017
getResults0.7910.0190.823
getTracks0.0170.0030.021
getVACtable1.2870.0131.308
initializeTrackParams0.0010.0010.001
innerBondRaster0.0020.0010.003
internalPermutation0.0010.0000.002
matfix0.0010.0000.002
nontrivialBondTracking0.0020.0000.002
pkfnd0.7900.0140.810
plot3DAllTracks0.0010.0000.001
plot3DTracks000
plotAllTracks0.0200.0050.027
plotSampleTracks0.0150.0040.020
preProcCellMig0.0080.0020.011
rmPreProcessing0.1040.0040.113
runTrackingPermutation0.0020.0000.003
setAnalyticParams0.0150.0030.020
setCellMigSlot0.0260.0030.032
setCellTracks0.0160.0030.019
setCellsMeta0.0160.0030.018
setExpName0.0250.0020.026
setOptimizedParams0.0180.0030.020
setProcessedImages0.0150.0020.017
setProcessingStatus0.0160.0020.019
setTrackedCellsMeta0.0150.0030.018
setTrackedCentroids0.0310.0040.036
setTrackedPositions0.0160.0020.021
setTrackingStats0.0150.0010.017
sinkAway0.0000.0010.001
subNetworkTracking0.0020.0000.003
track0.0120.0010.013
trackHypercubeBuild0.0010.0000.001
trackSlideProcessing0.0000.0010.001
trackSlideWrapUp000
trivialBondRaster0.0010.0000.002
trivialBondTracking0.0010.0000.001
visualizeCellTracks0.0550.0120.068
visualizeTrcks0.0280.0020.032
warnMessage0.0000.0010.006
wsaPreProcessing0.0600.0030.064