Back to Multiple platform build/check report for BioC 3.16
ABCDEFGHIJKLMNOPQR[S]TUVWXYZ

This page was generated on 2022-08-13 11:04:43 -0400 (Sat, 13 Aug 2022).

HostnameOSArch (*)R versionInstalled pkgs
nebbiolo2Linux (Ubuntu 20.04.4 LTS)x86_644.2.1 (2022-06-23) -- "Funny-Looking Kid" 4378
palomino4Windows Server 2022 Datacenterx644.2.1 (2022-06-23 ucrt) -- "Funny-Looking Kid" 4161
lconwaymacOS 12.2.1 Montereyx86_644.2.1 Patched (2022-07-09 r82577) -- "Funny-Looking Kid" 4169
Click on any hostname to see more info about the system (e.g. compilers)      (*) as reported by 'uname -p', except on Windows and Mac OS X

All results for package scMerge


To the developers/maintainers of the scMerge package:
- Please allow up to 24 hours (and sometimes 48 hours) for your latest push to git@git.bioconductor.org:packages/scMerge.git to
reflect on this report. See How and When does the builder pull? When will my changes propagate? for more information.
- Make sure to use the following settings in order to reproduce any error or warning you see on this page.

raw results

Package 1772/2140HostnameOS / ArchINSTALLBUILDCHECKBUILD BIN
scMerge 1.13.0  (landing page)
Yingxin Lin
Snapshot Date: 2022-08-12 14:00:06 -0400 (Fri, 12 Aug 2022)
git_url: https://git.bioconductor.org/packages/scMerge
git_branch: master
git_last_commit: 817dc74
git_last_commit_date: 2022-04-26 11:55:26 -0400 (Tue, 26 Apr 2022)
nebbiolo2Linux (Ubuntu 20.04.4 LTS) / x86_64  OK    OK    OK  UNNEEDED, same version is already published
palomino4Windows Server 2022 Datacenter / x64  OK    OK    OK    OK  UNNEEDED, same version is already published
lconwaymacOS 12.2.1 Monterey / x86_64  OK    OK    OK    OK  UNNEEDED, same version is already published

Results for Bioconductor software packages that depend directly on package scMerge

QUICK STATSOS / ArchINSTALLBUILDCHECKBUILD BIN
nebbiolo2Linux (Ubuntu 20.04.4 LTS) / x86_64
001
001
0100
palomino4Windows Server 2022 Datacenter / x64
001
001
0100
001
lconwaymacOS 12.2.1 Monterey / x86_64
001
001
0100
001
Package 1/1HostnameOS / ArchINSTALLBUILDCHECKBUILD BIN
singleCellTK 2.7.1  (landing page)
Yichen Wang
git_last_commit: 99e76b9c
git_last_commit_date: 2022-06-30 14:32:34 -0400
nebbiolo2Linux (Ubuntu 20.04.4 LTS) / x86_64  OK    OK    ERROR  
palomino4Windows Server 2022 Datacenter / x64  OK    OK    ERROR    OK  
lconwaymacOS 12.2.1 Monterey / x86_64  OK    OK    ERROR    OK