Back to Multiple platform build/check report for BioC 3.18:   simplified   long
ABCDEFGHIJKLMNO[P]QRSTUVWXYZ

This page was generated on 2023-06-09 12:34:56 -0400 (Fri, 09 Jun 2023).

HostnameOSArch (*)R versionInstalled pkgs
nebbiolo2Linux (Ubuntu 22.04.2 LTS)x86_644.3.0 RC (2023-04-18 r84287) -- "Already Tomorrow" 4598
lconwaymacOS 12.6.5 Montereyx86_644.3.0 RC (2023-04-13 r84266) -- "Already Tomorrow" 4354
kunpeng2Linux (openEuler 22.03 LTS-SP1)aarch644.3.0 (2023-04-21) -- "Already Tomorrow" 4379
Click on any hostname to see more info about the system (e.g. compilers)      (*) as reported by 'uname -p', except on Windows and Mac OS X

All results for package pathwayPCA


The builds on kunpeng2 (Linux ARM64) are experimental!
To the developers/maintainers of the pathwayPCA package:
- Allow up to 24 hours (and sometimes 48 hours) for your latest push to git@git.bioconductor.org:packages/pathwayPCA.git to reflect on this report. See Troubleshooting Build Report for more information.
- Use the following Renviron settings to reproduce errors and warnings.
- If 'R CMD check' started to fail recently on the Linux builder(s) over a missing dependency, add the missing dependency to 'Suggests:' in your DESCRIPTION file. See Renviron.bioc for more information.

raw results

Package 1460/2199HostnameOS / ArchINSTALLBUILDCHECKBUILD BIN
pathwayPCA 1.17.0  (landing page)
Gabriel Odom
Snapshot Date: 2023-06-08 14:00:07 -0400 (Thu, 08 Jun 2023)
git_url: https://git.bioconductor.org/packages/pathwayPCA
git_branch: devel
git_last_commit: b3ab14b
git_last_commit_date: 2023-04-25 11:08:43 -0400 (Tue, 25 Apr 2023)
nebbiolo2Linux (Ubuntu 22.04.2 LTS) / x86_64  OK    OK    ERROR  
lconwaymacOS 12.6.5 Monterey / x86_64  OK    OK    ERROR    OK  
kunpeng2Linux (openEuler 22.03 LTS-SP1) / aarch64  OK    OK    ERROR  

Results for Bioconductor software packages that depend directly on package pathwayPCA

QUICK STATSOS / ArchINSTALLBUILDCHECKBUILD BIN
nebbiolo2Linux (Ubuntu 22.04.2 LTS) / x86_64
001
010
0000
lconwaymacOS 12.6.5 Monterey / x86_64
001
010
0000
000
kunpeng2Linux (openEuler 22.03 LTS-SP1) / aarch64
001
010
0000
Package 1/1HostnameOS / ArchINSTALLBUILDCHECKBUILD BIN
fcoex 1.15.0  (landing page)
Tiago Lubiana
git_last_commit: 1205a5f
git_last_commit_date: 2023-04-25 11:14:01 -0400
nebbiolo2Linux (Ubuntu 22.04.2 LTS) / x86_64  OK    ERROR  skipped
lconwaymacOS 12.6.5 Monterey / x86_64  OK    ERROR  skippedskipped
kunpeng2Linux (openEuler 22.03 LTS-SP1) / aarch64  OK    ERROR  skipped