Back to Multiple platform build/check report for BioC 3.16
ABCDEFGHIJKLMNOPQRSTU[V]WXYZ

This page was generated on 2022-08-17 11:04:55 -0400 (Wed, 17 Aug 2022).

HostnameOSArch (*)R versionInstalled pkgs
nebbiolo2Linux (Ubuntu 20.04.4 LTS)x86_644.2.1 (2022-06-23) -- "Funny-Looking Kid" 4379
palomino4Windows Server 2022 Datacenterx644.2.1 (2022-06-23 ucrt) -- "Funny-Looking Kid" 4161
lconwaymacOS 12.2.1 Montereyx86_644.2.1 Patched (2022-07-09 r82577) -- "Funny-Looking Kid" 4169
Click on any hostname to see more info about the system (e.g. compilers)      (*) as reported by 'uname -p', except on Windows and Mac OS X

All results for package vsn


To the developers/maintainers of the vsn package:
- Please allow up to 24 hours (and sometimes 48 hours) for your latest push to git@git.bioconductor.org:packages/vsn.git to
reflect on this report. See How and When does the builder pull? When will my changes propagate? for more information.
- Make sure to use the following settings in order to reproduce any error or warning you see on this page.

raw results

Package 2110/2140HostnameOS / ArchINSTALLBUILDCHECKBUILD BIN
vsn 3.65.0  (landing page)
Wolfgang Huber
Snapshot Date: 2022-08-16 14:00:04 -0400 (Tue, 16 Aug 2022)
git_url: https://git.bioconductor.org/packages/vsn
git_branch: master
git_last_commit: c57d4b1
git_last_commit_date: 2022-04-26 10:54:44 -0400 (Tue, 26 Apr 2022)
nebbiolo2Linux (Ubuntu 20.04.4 LTS) / x86_64  OK    OK    OK  UNNEEDED, same version is already published
palomino4Windows Server 2022 Datacenter / x64  OK    OK    OK    OK  UNNEEDED, same version is already published
lconwaymacOS 12.2.1 Monterey / x86_64  OK    OK    OK    OK  UNNEEDED, same version is already published

Results for Bioconductor software packages that depend directly on package vsn

QUICK STATSOS / ArchINSTALLBUILDCHECKBUILD BIN
nebbiolo2Linux (Ubuntu 20.04.4 LTS) / x86_64
0016
0016
01312
palomino4Windows Server 2022 Datacenter / x64
0016
0016
01312
0016
lconwaymacOS 12.2.1 Monterey / x86_64
0016
0016
01312
0016
Package 1/16HostnameOS / ArchINSTALLBUILDCHECKBUILD BIN
arrayQualityMetrics 3.53.0  (landing page)
Mike Smith
git_last_commit: e6ca80d
git_last_commit_date: 2022-04-26 11:00:12 -0400
nebbiolo2Linux (Ubuntu 20.04.4 LTS) / x86_64  OK    OK    OK  UNNEEDED, same version is already published
palomino4Windows Server 2022 Datacenter / x64  OK    OK    OK    OK  NO, package depends on 'affyPLM' which is not available
lconwaymacOS 12.2.1 Monterey / x86_64  OK    OK    OK    OK  UNNEEDED, same version is already published
Package 2/16HostnameOS / ArchINSTALLBUILDCHECKBUILD BIN
bnem 1.5.0  (landing page)
Martin Pirkl
git_last_commit: e472cb1
git_last_commit_date: 2022-06-30 04:24:10 -0400
nebbiolo2Linux (Ubuntu 20.04.4 LTS) / x86_64  OK    OK    OK  UNNEEDED, same version is already published
palomino4Windows Server 2022 Datacenter / x64  OK    OK    OK    OK  UNNEEDED, same version is already published
lconwaymacOS 12.2.1 Monterey / x86_64  OK    OK    OK    OK  UNNEEDED, same version is already published
Package 3/16HostnameOS / ArchINSTALLBUILDCHECKBUILD BIN
cellHTS2 2.61.0  (landing page)
Joseph Barry
git_last_commit: 06688f6
git_last_commit_date: 2022-04-26 10:59:59 -0400
nebbiolo2Linux (Ubuntu 20.04.4 LTS) / x86_64  OK    OK    OK  UNNEEDED, same version is already published
palomino4Windows Server 2022 Datacenter / x64  OK    OK    OK    OK  UNNEEDED, same version is already published
lconwaymacOS 12.2.1 Monterey / x86_64  OK    OK    OK    OK  UNNEEDED, same version is already published
Package 4/16HostnameOS / ArchINSTALLBUILDCHECKBUILD BIN
coexnet 1.19.1  (landing page)
Juan David Henao
git_last_commit: 091421d
git_last_commit_date: 2022-05-10 08:22:24 -0400
nebbiolo2Linux (Ubuntu 20.04.4 LTS) / x86_64  OK    OK    ERROR  
palomino4Windows Server 2022 Datacenter / x64  OK    OK    ERROR    OK  
lconwaymacOS 12.2.1 Monterey / x86_64  OK    OK    ERROR    OK  
Package 5/16HostnameOS / ArchINSTALLBUILDCHECKBUILD BIN
DEP 1.19.0  (landing page)
Arne Smits
git_last_commit: e955502
git_last_commit_date: 2022-04-26 11:42:30 -0400
nebbiolo2Linux (Ubuntu 20.04.4 LTS) / x86_64  OK    OK    WARNINGS  UNNEEDED, same version is already published
palomino4Windows Server 2022 Datacenter / x64  OK    OK    WARNINGS    OK  UNNEEDED, same version is already published
lconwaymacOS 12.2.1 Monterey / x86_64  OK    OK    WARNINGS    OK  UNNEEDED, same version is already published
Package 6/16HostnameOS / ArchINSTALLBUILDCHECKBUILD BIN
Doscheda 1.19.0  (landing page)
Bruno Contrino
git_last_commit: 5898794
git_last_commit_date: 2022-04-26 11:42:43 -0400
nebbiolo2Linux (Ubuntu 20.04.4 LTS) / x86_64  OK    OK    OK  UNNEEDED, same version is already published
palomino4Windows Server 2022 Datacenter / x64  OK    OK    OK    OK  UNNEEDED, same version is already published
lconwaymacOS 12.2.1 Monterey / x86_64  OK    OK    OK    OK  UNNEEDED, same version is already published
Package 7/16HostnameOS / ArchINSTALLBUILDCHECKBUILD BIN
imageHTS 1.47.2  (landing page)
Joseph Barry
git_last_commit: a04668c
git_last_commit_date: 2022-05-14 14:15:48 -0400
nebbiolo2Linux (Ubuntu 20.04.4 LTS) / x86_64  OK    OK    WARNINGS  UNNEEDED, same version is already published
palomino4Windows Server 2022 Datacenter / x64  OK    OK    WARNINGS    OK  UNNEEDED, same version is already published
lconwaymacOS 12.2.1 Monterey / x86_64  OK    OK    WARNINGS    OK  UNNEEDED, same version is already published
Package 8/16HostnameOS / ArchINSTALLBUILDCHECKBUILD BIN
MatrixQCvis 1.5.3  (landing page)
Thomas Naake
git_last_commit: dcc205e
git_last_commit_date: 2022-08-01 09:26:04 -0400
nebbiolo2Linux (Ubuntu 20.04.4 LTS) / x86_64  OK    OK    OK  UNNEEDED, same version is already published
palomino4Windows Server 2022 Datacenter / x64  OK    OK    OK    OK  UNNEEDED, same version is already published
lconwaymacOS 12.2.1 Monterey / x86_64  OK    OK    OK    OK  UNNEEDED, same version is already published
Package 9/16HostnameOS / ArchINSTALLBUILDCHECKBUILD BIN
metaseqR2 1.9.2  (landing page)
Panagiotis Moulos
git_last_commit: 01daf91
git_last_commit_date: 2022-07-08 15:44:29 -0400
nebbiolo2Linux (Ubuntu 20.04.4 LTS) / x86_64  OK    OK    WARNINGS  UNNEEDED, same version is already published
palomino4Windows Server 2022 Datacenter / x64  OK    OK    WARNINGS    OK  UNNEEDED, same version is already published
lconwaymacOS 12.2.1 Monterey / x86_64  OK    OK    WARNINGS    OK  UNNEEDED, same version is already published
Package 10/16HostnameOS / ArchINSTALLBUILDCHECKBUILD BIN
MSnbase 2.23.0  (landing page)
Laurent Gatto
git_last_commit: 253f4c0
git_last_commit_date: 2022-04-26 11:07:12 -0400
nebbiolo2Linux (Ubuntu 20.04.4 LTS) / x86_64  OK    OK    OK  UNNEEDED, same version is already published
palomino4Windows Server 2022 Datacenter / x64  OK    OK    OK    OK  UNNEEDED, same version is already published
lconwaymacOS 12.2.1 Monterey / x86_64  OK    OK    OK    OK  UNNEEDED, same version is already published
Package 11/16HostnameOS / ArchINSTALLBUILDCHECKBUILD BIN
NormalyzerDE 1.15.0  (landing page)
Jakob Willforss
git_last_commit: 4c3d0e2
git_last_commit_date: 2022-04-26 11:50:51 -0400
nebbiolo2Linux (Ubuntu 20.04.4 LTS) / x86_64  OK    OK    OK  UNNEEDED, same version is already published
palomino4Windows Server 2022 Datacenter / x64  OK    OK    OK    OK  UNNEEDED, same version is already published
lconwaymacOS 12.2.1 Monterey / x86_64  OK    OK    OK    OK  UNNEEDED, same version is already published
Package 12/16HostnameOS / ArchINSTALLBUILDCHECKBUILD BIN
protGear 1.1.0  (landing page)
Kennedy Mwai
git_last_commit: 3b82349
git_last_commit_date: 2022-04-26 12:22:27 -0400
nebbiolo2Linux (Ubuntu 20.04.4 LTS) / x86_64  OK    OK    OK  UNNEEDED, same version is already published
palomino4Windows Server 2022 Datacenter / x64  OK    OK    OK    OK  UNNEEDED, same version is already published
lconwaymacOS 12.2.1 Monterey / x86_64  OK    OK    OK    OK  UNNEEDED, same version is already published
Package 13/16HostnameOS / ArchINSTALLBUILDCHECKBUILD BIN
pvca 1.37.0  (landing page)
Jianying LI
git_last_commit: 75cd8ad
git_last_commit_date: 2022-04-26 11:12:48 -0400
nebbiolo2Linux (Ubuntu 20.04.4 LTS) / x86_64  OK    OK    OK  UNNEEDED, same version is already published
palomino4Windows Server 2022 Datacenter / x64  OK    OK    OK    OK  UNNEEDED, same version is already published
lconwaymacOS 12.2.1 Monterey / x86_64  OK    OK    OK    OK  UNNEEDED, same version is already published
Package 14/16HostnameOS / ArchINSTALLBUILDCHECKBUILD BIN
Ringo 1.61.0  (landing page)
J. Toedling
git_last_commit: 35ef686
git_last_commit_date: 2022-04-26 10:59:39 -0400
nebbiolo2Linux (Ubuntu 20.04.4 LTS) / x86_64  OK    OK    OK  UNNEEDED, same version is already published
palomino4Windows Server 2022 Datacenter / x64  OK    OK    OK    OK  UNNEEDED, same version is already published
lconwaymacOS 12.2.1 Monterey / x86_64  OK    OK    OK    OK  UNNEEDED, same version is already published
Package 15/16HostnameOS / ArchINSTALLBUILDCHECKBUILD BIN
tilingArray 1.75.0  (landing page)
Zhenyu Xu
git_last_commit: 45c4639
git_last_commit_date: 2022-04-26 10:56:47 -0400
nebbiolo2Linux (Ubuntu 20.04.4 LTS) / x86_64  OK    OK    OK  UNNEEDED, same version is already published
palomino4Windows Server 2022 Datacenter / x64  OK    OK    OK    OK  UNNEEDED, same version is already published
lconwaymacOS 12.2.1 Monterey / x86_64  OK    OK    OK    OK  UNNEEDED, same version is already published
Package 16/16HostnameOS / ArchINSTALLBUILDCHECKBUILD BIN
webbioc 1.69.0  (landing page)
Colin A. Smith
git_last_commit: 3d080f8
git_last_commit_date: 2022-04-26 10:55:19 -0400
nebbiolo2Linux (Ubuntu 20.04.4 LTS) / x86_64  OK    OK    OK  UNNEEDED, same version is already published
palomino4Windows Server 2022 Datacenter / x64  OK    OK    OK    OK  UNNEEDED, same version is already published
lconwaymacOS 12.2.1 Monterey / x86_64  OK    OK    OK    OK  UNNEEDED, same version is already published