Back to Multiple platform build/check report for BioC 3.18:   simplified   long
ABCDEFGHIJKLMNO[P]QRSTUVWXYZ

This page was generated on 2023-06-06 11:05:20 -0400 (Tue, 06 Jun 2023).

HostnameOSArch (*)R versionInstalled pkgs
nebbiolo2Linux (Ubuntu 22.04.2 LTS)x86_644.3.0 RC (2023-04-18 r84287) -- "Already Tomorrow" 4598
palomino4Windows Server 2022 Datacenterx644.3.0 RC (2023-04-18 r84287 ucrt) -- "Already Tomorrow" 4347
lconwaymacOS 12.6.5 Montereyx86_644.3.0 RC (2023-04-13 r84266) -- "Already Tomorrow" 4348
Click on any hostname to see more info about the system (e.g. compilers)      (*) as reported by 'uname -p', except on Windows and Mac OS X

All results for package pcaMethods


To the developers/maintainers of the pcaMethods package:
- Allow up to 24 hours (and sometimes 48 hours) for your latest push to git@git.bioconductor.org:packages/pcaMethods.git to reflect on this report. See Troubleshooting Build Report for more information.
- Use the following Renviron settings to reproduce errors and warnings.
- If 'R CMD check' started to fail recently on the Linux builder(s) over a missing dependency, add the missing dependency to 'Suggests:' in your DESCRIPTION file. See Renviron.bioc for more information.

raw results

Package 1463/2199HostnameOS / ArchINSTALLBUILDCHECKBUILD BIN
pcaMethods 1.93.0  (landing page)
Henning Redestig
Snapshot Date: 2023-06-05 14:00:06 -0400 (Mon, 05 Jun 2023)
git_url: https://git.bioconductor.org/packages/pcaMethods
git_branch: devel
git_last_commit: 78f61f8
git_last_commit_date: 2023-04-25 09:44:25 -0400 (Tue, 25 Apr 2023)
nebbiolo2Linux (Ubuntu 22.04.2 LTS) / x86_64  OK    OK    OK  UNNEEDED, same version is already published
palomino4Windows Server 2022 Datacenter / x64  OK    OK    OK    OK  UNNEEDED, same version is already published
lconwaymacOS 12.6.5 Monterey / x86_64  OK    OK    OK    OK  UNNEEDED, same version is already published

Results for Bioconductor software packages that depend directly on package pcaMethods

QUICK STATSOS / ArchINSTALLBUILDCHECKBUILD BIN
nebbiolo2Linux (Ubuntu 22.04.2 LTS) / x86_64
0015
0015
00312
palomino4Windows Server 2022 Datacenter / x64
0015
0015
00312
0015
lconwaymacOS 12.6.5 Monterey / x86_64
0015
0015
00312
0015
Package 1/15HostnameOS / ArchINSTALLBUILDCHECKBUILD BIN
autonomics 1.9.0  (landing page)
Aditya Bhagwat
git_last_commit: b7118ef
git_last_commit_date: 2023-04-25 11:27:21 -0400
nebbiolo2Linux (Ubuntu 22.04.2 LTS) / x86_64  OK    OK    WARNINGS  UNNEEDED, same version is already published
palomino4Windows Server 2022 Datacenter / x64  OK    OK    WARNINGS    OK  UNNEEDED, same version is already published
lconwaymacOS 12.6.5 Monterey / x86_64  OK    OK    WARNINGS    OK  UNNEEDED, same version is already published
Package 2/15HostnameOS / ArchINSTALLBUILDCHECKBUILD BIN
consensusDE 1.19.0  (landing page)
Ashley J. Waardenberg
git_last_commit: 53e3824
git_last_commit_date: 2023-04-25 11:05:52 -0400
nebbiolo2Linux (Ubuntu 22.04.2 LTS) / x86_64  OK    OK    OK  UNNEEDED, same version is already published
palomino4Windows Server 2022 Datacenter / x64  OK    OK    OK    OK  UNNEEDED, same version is already published
lconwaymacOS 12.6.5 Monterey / x86_64  OK    OK    OK    OK  UNNEEDED, same version is already published
Package 3/15HostnameOS / ArchINSTALLBUILDCHECKBUILD BIN
DeconRNASeq 1.43.0  (landing page)
Ting Gong
git_last_commit: ea39f80
git_last_commit_date: 2023-04-25 10:24:11 -0400
nebbiolo2Linux (Ubuntu 22.04.2 LTS) / x86_64  OK    OK    OK  UNNEEDED, same version is already published
palomino4Windows Server 2022 Datacenter / x64  OK    OK    OK    OK  UNNEEDED, same version is already published
lconwaymacOS 12.6.5 Monterey / x86_64  OK    OK    OK    OK  UNNEEDED, same version is already published
Package 4/15HostnameOS / ArchINSTALLBUILDCHECKBUILD BIN
destiny 3.15.0  (landing page)
Philipp Angerer
git_last_commit: aa9bb6f
git_last_commit_date: 2023-04-25 11:35:39 -0400
nebbiolo2Linux (Ubuntu 22.04.2 LTS) / x86_64  OK    OK    WARNINGS  UNNEEDED, same version is already published
palomino4Windows Server 2022 Datacenter / x64  OK    OK    WARNINGS    OK  UNNEEDED, same version is already published
lconwaymacOS 12.6.5 Monterey / x86_64  OK    OK    WARNINGS    OK  UNNEEDED, same version is already published
Package 5/15HostnameOS / ArchINSTALLBUILDCHECKBUILD BIN
FRASER 1.13.0  (landing page)
Christian Mertes
git_last_commit: bb07dd3
git_last_commit_date: 2023-04-25 11:17:40 -0400
nebbiolo2Linux (Ubuntu 22.04.2 LTS) / x86_64  OK    OK    OK  UNNEEDED, same version is already published
palomino4Windows Server 2022 Datacenter / x64  OK    OK    OK    OK  UNNEEDED, same version is already published
lconwaymacOS 12.6.5 Monterey / x86_64  OK    OK    OK    OK  UNNEEDED, same version is already published
Package 6/15HostnameOS / ArchINSTALLBUILDCHECKBUILD BIN
MAI 1.7.0  (landing page)
Jonathan Dekermanjian
git_last_commit: 5427267
git_last_commit_date: 2023-04-25 11:31:47 -0400
nebbiolo2Linux (Ubuntu 22.04.2 LTS) / x86_64  OK    OK    OK  UNNEEDED, same version is already published
palomino4Windows Server 2022 Datacenter / x64  OK    OK    OK    OK  UNNEEDED, same version is already published
lconwaymacOS 12.6.5 Monterey / x86_64  OK    OK    OK    OK  UNNEEDED, same version is already published
Package 7/15HostnameOS / ArchINSTALLBUILDCHECKBUILD BIN
MatrixQCvis 1.9.0  (landing page)
Thomas Naake
git_last_commit: 41b9dc8
git_last_commit_date: 2023-04-25 11:29:50 -0400
nebbiolo2Linux (Ubuntu 22.04.2 LTS) / x86_64  OK    OK    OK  NO, package depends on 'vsn' which is not available
palomino4Windows Server 2022 Datacenter / x64  OK    OK    OK    OK  UNNEEDED, same version is already published
lconwaymacOS 12.6.5 Monterey / x86_64  OK    OK    OK    OK  UNNEEDED, same version is already published
Package 8/15HostnameOS / ArchINSTALLBUILDCHECKBUILD BIN
MSnbase 2.27.0  (landing page)
Laurent Gatto
git_last_commit: 66d8d8d
git_last_commit_date: 2023-04-25 10:19:06 -0400
nebbiolo2Linux (Ubuntu 22.04.2 LTS) / x86_64  OK    OK    OK  NO, package depends on 'vsn' which is not available
palomino4Windows Server 2022 Datacenter / x64  OK    OK    OK    OK  UNNEEDED, same version is already published
lconwaymacOS 12.6.5 Monterey / x86_64  OK    OK    OK    OK  UNNEEDED, same version is already published
Package 9/15HostnameOS / ArchINSTALLBUILDCHECKBUILD BIN
MSPrep 1.11.0  (landing page)
Max McGrath
git_last_commit: 205f940
git_last_commit_date: 2023-04-25 11:23:17 -0400
nebbiolo2Linux (Ubuntu 22.04.2 LTS) / x86_64  OK    OK    OK  UNNEEDED, same version is already published
palomino4Windows Server 2022 Datacenter / x64  OK    OK    OK    OK  UNNEEDED, same version is already published
lconwaymacOS 12.6.5 Monterey / x86_64  OK    OK    OK    OK  UNNEEDED, same version is already published
Package 10/15HostnameOS / ArchINSTALLBUILDCHECKBUILD BIN
MultiBaC 1.11.0  (landing page)
The package maintainer
git_last_commit: af09f35
git_last_commit_date: 2023-04-25 11:20:34 -0400
nebbiolo2Linux (Ubuntu 22.04.2 LTS) / x86_64  OK    OK    OK  UNNEEDED, same version is already published
palomino4Windows Server 2022 Datacenter / x64  OK    OK    OK    OK  UNNEEDED, same version is already published
lconwaymacOS 12.6.5 Monterey / x86_64  OK    OK    OK    OK  UNNEEDED, same version is already published
Package 11/15HostnameOS / ArchINSTALLBUILDCHECKBUILD BIN
OUTRIDER 1.19.0  (landing page)
Christian Mertes
git_last_commit: 9afeb99
git_last_commit_date: 2023-04-25 11:03:00 -0400
nebbiolo2Linux (Ubuntu 22.04.2 LTS) / x86_64  OK    OK    OK  UNNEEDED, same version is already published
palomino4Windows Server 2022 Datacenter / x64  OK    OK    OK    OK  UNNEEDED, same version is already published
lconwaymacOS 12.6.5 Monterey / x86_64  OK    OK    OK    OK  UNNEEDED, same version is already published
Package 12/15HostnameOS / ArchINSTALLBUILDCHECKBUILD BIN
PhosR 1.11.0  (landing page)
Taiyun Kim
git_last_commit: cdc7cc4
git_last_commit_date: 2023-04-25 11:22:59 -0400
nebbiolo2Linux (Ubuntu 22.04.2 LTS) / x86_64  OK    OK    OK  UNNEEDED, same version is already published
palomino4Windows Server 2022 Datacenter / x64  OK    OK    OK    OK  UNNEEDED, same version is already published
lconwaymacOS 12.6.5 Monterey / x86_64  OK    OK    OK    OK  UNNEEDED, same version is already published
Package 13/15HostnameOS / ArchINSTALLBUILDCHECKBUILD BIN
pmp 1.13.0  (landing page)
Gavin Rhys Lloyd
git_last_commit: 5ef74e5
git_last_commit_date: 2023-04-25 11:14:56 -0400
nebbiolo2Linux (Ubuntu 22.04.2 LTS) / x86_64  OK    OK    OK  UNNEEDED, same version is already published
palomino4Windows Server 2022 Datacenter / x64  OK    OK    OK    OK  UNNEEDED, same version is already published
lconwaymacOS 12.6.5 Monterey / x86_64  OK    OK    OK    OK  UNNEEDED, same version is already published
Package 14/15HostnameOS / ArchINSTALLBUILDCHECKBUILD BIN
scde 2.29.0  (landing page)
Evan Biederstedt
git_last_commit: d45e759
git_last_commit_date: 2023-04-25 10:42:38 -0400
nebbiolo2Linux (Ubuntu 22.04.2 LTS) / x86_64  OK    OK    WARNINGS  UNNEEDED, same version is already published
palomino4Windows Server 2022 Datacenter / x64  OK    OK    WARNINGS    OK  UNNEEDED, same version is already published
lconwaymacOS 12.6.5 Monterey / x86_64  OK    OK    WARNINGS    OK  UNNEEDED, same version is already published
Package 15/15HostnameOS / ArchINSTALLBUILDCHECKBUILD BIN
SomaticSignatures 2.37.0  (landing page)
Julian Gehring
git_last_commit: 4cd9ffb
git_last_commit_date: 2023-04-25 10:30:17 -0400
nebbiolo2Linux (Ubuntu 22.04.2 LTS) / x86_64  OK    OK    OK  UNNEEDED, same version is already published
palomino4Windows Server 2022 Datacenter / x64  OK    OK    OK    OK  NO, package depends on 'ggbio' which is not available
lconwaymacOS 12.6.5 Monterey / x86_64  OK    OK    OK    OK  UNNEEDED, same version is already published