Back to Build/check report for BioC 3.19:   simplified   long
ABCDEFG[H]IJKLMNOPQRSTUVWXYZ

This page was generated on 2024-02-20 13:14:49 -0500 (Tue, 20 Feb 2024).

HostnameOSArch (*)R versionInstalled pkgs
nebbiolo1Linux (Ubuntu 22.04.3 LTS)x86_64R Under development (unstable) (2024-01-16 r85808) -- "Unsuffered Consequences" 4657
Click on any hostname to see more info about the system (e.g. compilers)      (*) as reported by 'uname -p', except on Windows and Mac OS X

All results for package hiAnnotator


To the developers/maintainers of the hiAnnotator package:
- Allow up to 24 hours (and sometimes 48 hours) for your latest push to git@git.bioconductor.org:packages/hiAnnotator.git to reflect on this report. See Troubleshooting Build Report for more information.
- Use the following Renviron settings to reproduce errors and warnings.
- If 'R CMD check' started to fail recently on the Linux builder(s) over a missing dependency, add the missing dependency to 'Suggests:' in your DESCRIPTION file. See Renviron.bioc for more information.

raw results

Package 938/2244HostnameOS / ArchINSTALLBUILDCHECKBUILD BIN
hiAnnotator 1.37.0  (landing page)
Nirav V Malani
Snapshot Date: 2024-02-19 14:10:08 -0500 (Mon, 19 Feb 2024)
git_url: https://git.bioconductor.org/packages/hiAnnotator
git_branch: devel
git_last_commit: 8fad872
git_last_commit_date: 2023-10-24 09:59:04 -0500 (Tue, 24 Oct 2023)
nebbiolo1Linux (Ubuntu 22.04.3 LTS) / x86_64  OK    OK    OK  UNNEEDED, same version is already published

Results for Bioconductor software packages that depend directly on package hiAnnotator

QUICK STATSOS / ArchINSTALLBUILDCHECKBUILD BIN
nebbiolo1Linux (Ubuntu 22.04.3 LTS) / x86_64
001
001
0001
Package 1/1HostnameOS / ArchINSTALLBUILDCHECKBUILD BIN
hiReadsProcessor 1.39.0  (landing page)
Nirav V Malani
git_last_commit: ff35660
git_last_commit_date: 2023-10-24 10:00:50 -0500
nebbiolo1Linux (Ubuntu 22.04.3 LTS) / x86_64  OK    OK    OK  UNNEEDED, same version is already published