Back to Multiple platform build/check report for BioC 3.15
ABC[D]EFGHIJKLMNOPQRSTUVWXYZ

This page was generated on 2021-11-30 13:53:58 -0500 (Tue, 30 Nov 2021).

All results for package DExMA

To the developers/maintainers of the DExMA package:
- Please allow up to 24 hours (and sometimes 48 hours) for your latest push to git@git.bioconductor.org:packages/DExMA.git to
reflect on this report. See How and When does the builder pull? When will my changes propagate? here for more information.
- Make sure to use the following settings in order to reproduce any error or warning you see on this page.

raw results

Package 496/2068HostnameOS / ArchINSTALLBUILDCHECKBUILD BIN
DExMA 1.3.1  (landing page)
Juan Antonio Villatoro-GarcĂ­a
Snapshot Date: 2021-11-29 14:50:17 -0500 (Mon, 29 Nov 2021)
git_url: https://git.bioconductor.org/packages/DExMA
git_branch: master
git_last_commit: 654dbef
git_last_commit_date: 2021-11-26 13:06:34 -0500 (Fri, 26 Nov 2021)
nebbiolo1Linux (Ubuntu 20.04.3 LTS) / x86_64  OK    OK    OK  UNNEEDED, same version is already published
riesling1Windows Server 2019 Standard / x64  OK    OK    OK    OK  
merida1macOS 10.14.6 Mojave / x86_64  OK    OK    OK    OK  UNNEEDED, same version is already published