Back to Multiple platform build/check report for BioC 3.16
ABCDEFGHIJ[K]LMNOPQRSTUVWXYZ

This page was generated on 2022-08-11 11:05:31 -0400 (Thu, 11 Aug 2022).

HostnameOSArch (*)R versionInstalled pkgs
nebbiolo2Linux (Ubuntu 20.04.4 LTS)x86_644.2.1 (2022-06-23) -- "Funny-Looking Kid" 4375
palomino4Windows Server 2022 Datacenterx644.2.1 (2022-06-23 ucrt) -- "Funny-Looking Kid" 4159
lconwaymacOS 12.2.1 Montereyx86_644.2.1 Patched (2022-07-09 r82577) -- "Funny-Looking Kid" 4165
Click on any hostname to see more info about the system (e.g. compilers)      (*) as reported by 'uname -p', except on Windows and Mac OS X

CHECK results for KEGGREST on nebbiolo2


To the developers/maintainers of the KEGGREST package:
- Please allow up to 24 hours (and sometimes 48 hours) for your latest push to git@git.bioconductor.org:packages/KEGGREST.git to
reflect on this report. See How and When does the builder pull? When will my changes propagate? for more information.
- Make sure to use the following settings in order to reproduce any error or warning you see on this page.

raw results

Package 1006/2139HostnameOS / ArchINSTALLBUILDCHECKBUILD BIN
KEGGREST 1.37.3  (landing page)
Bioconductor Package Maintainer
Snapshot Date: 2022-08-10 14:00:02 -0400 (Wed, 10 Aug 2022)
git_url: https://git.bioconductor.org/packages/KEGGREST
git_branch: master
git_last_commit: 8f21a71
git_last_commit_date: 2022-07-08 11:20:48 -0400 (Fri, 08 Jul 2022)
nebbiolo2Linux (Ubuntu 20.04.4 LTS) / x86_64  OK    OK    OK  UNNEEDED, same version is already published
palomino4Windows Server 2022 Datacenter / x64  OK    OK    OK    OK  UNNEEDED, same version is already published
lconwaymacOS 12.2.1 Monterey / x86_64  OK    OK    OK    OK  UNNEEDED, same version is already published

Summary

Package: KEGGREST
Version: 1.37.3
Command: /home/biocbuild/bbs-3.16-bioc/R/bin/R CMD check --install=check:KEGGREST.install-out.txt --library=/home/biocbuild/bbs-3.16-bioc/R/library --no-vignettes --timings KEGGREST_1.37.3.tar.gz
StartedAt: 2022-08-10 20:30:46 -0400 (Wed, 10 Aug 2022)
EndedAt: 2022-08-10 20:34:26 -0400 (Wed, 10 Aug 2022)
EllapsedTime: 220.5 seconds
RetCode: 0
Status:   OK  
CheckDir: KEGGREST.Rcheck
Warnings: 0

Command output

##############################################################################
##############################################################################
###
### Running command:
###
###   /home/biocbuild/bbs-3.16-bioc/R/bin/R CMD check --install=check:KEGGREST.install-out.txt --library=/home/biocbuild/bbs-3.16-bioc/R/library --no-vignettes --timings KEGGREST_1.37.3.tar.gz
###
##############################################################################
##############################################################################


* using log directory ‘/home/biocbuild/bbs-3.16-bioc/meat/KEGGREST.Rcheck’
* using R version 4.2.1 (2022-06-23)
* using platform: x86_64-pc-linux-gnu (64-bit)
* using session charset: UTF-8
* using option ‘--no-vignettes’
* checking for file ‘KEGGREST/DESCRIPTION’ ... OK
* this is package ‘KEGGREST’ version ‘1.37.3’
* checking package namespace information ... OK
* checking package dependencies ... OK
* checking if this is a source package ... OK
* checking if there is a namespace ... OK
* checking for hidden files and directories ... OK
* checking for portable file names ... OK
* checking for sufficient/correct file permissions ... OK
* checking whether package ‘KEGGREST’ can be installed ... OK
* checking installed package size ... OK
* checking package directory ... OK
* checking ‘build’ directory ... OK
* checking DESCRIPTION meta-information ... OK
* checking top-level files ... OK
* checking for left-over files ... OK
* checking index information ... OK
* checking package subdirectories ... OK
* checking R files for non-ASCII characters ... OK
* checking R files for syntax errors ... OK
* checking whether the package can be loaded ... OK
* checking whether the package can be loaded with stated dependencies ... OK
* checking whether the package can be unloaded cleanly ... OK
* checking whether the namespace can be loaded with stated dependencies ... OK
* checking whether the namespace can be unloaded cleanly ... OK
* checking dependencies in R code ... OK
* checking S3 generic/method consistency ... OK
* checking replacement functions ... OK
* checking foreign function calls ... OK
* checking R code for possible problems ... OK
* checking Rd files ... OK
* checking Rd metadata ... OK
* checking Rd cross-references ... OK
* checking for missing documentation entries ... OK
* checking for code/documentation mismatches ... OK
* checking Rd \usage sections ... OK
* checking Rd contents ... OK
* checking for unstated dependencies in examples ... OK
* checking files in ‘vignettes’ ... OK
* checking examples ... OK
Examples with CPU (user + system) or elapsed time > 5s
               user system elapsed
keggList      0.459  0.039  18.974
listDatabases 0.460  0.032  22.124
keggLink      0.339  0.029   9.088
keggConv      0.136  0.012  10.109
* checking for unstated dependencies in ‘tests’ ... OK
* checking tests ...
  Running ‘KEGGREST_unit_tests.R’
 OK
* checking for unstated dependencies in vignettes ... OK
* checking package vignettes in ‘inst/doc’ ... OK
* checking running R code from vignettes ... SKIPPED
* checking re-building of vignette outputs ... SKIPPED
* checking PDF version of manual ... OK
* DONE

Status: OK


Installation output

KEGGREST.Rcheck/00install.out

##############################################################################
##############################################################################
###
### Running command:
###
###   /home/biocbuild/bbs-3.16-bioc/R/bin/R CMD INSTALL KEGGREST
###
##############################################################################
##############################################################################


* installing to library ‘/home/biocbuild/bbs-3.16-bioc/R/library’
* installing *source* package ‘KEGGREST’ ...
** using staged installation
** R
** inst
** byte-compile and prepare package for lazy loading
** help
*** installing help indices
** building package indices
** installing vignettes
** testing if installed package can be loaded from temporary location
** testing if installed package can be loaded from final location
** testing if installed package keeps a record of temporary installation path
* DONE (KEGGREST)

Tests output

KEGGREST.Rcheck/tests/KEGGREST_unit_tests.Rout


R version 4.2.1 (2022-06-23) -- "Funny-Looking Kid"
Copyright (C) 2022 The R Foundation for Statistical Computing
Platform: x86_64-pc-linux-gnu (64-bit)

R is free software and comes with ABSOLUTELY NO WARRANTY.
You are welcome to redistribute it under certain conditions.
Type 'license()' or 'licence()' for distribution details.

R is a collaborative project with many contributors.
Type 'contributors()' for more information and
'citation()' on how to cite R or R packages in publications.

Type 'demo()' for some demos, 'help()' for on-line help, or
'help.start()' for an HTML browser interface to help.
Type 'q()' to quit R.

> BiocGenerics:::testPackage("KEGGREST")
No encoding supplied: defaulting to UTF-8.


RUNIT TEST PROTOCOL -- Wed Aug 10 20:34:23 2022 
*********************************************** 
Number of test functions: 11 
Number of errors: 0 
Number of failures: 0 

 
1 Test Suite : 
KEGGREST RUnit Tests - 11 test functions, 0 errors, 0 failures
Number of test functions: 11 
Number of errors: 0 
Number of failures: 0 
> 
> proc.time()
   user  system elapsed 
 11.887   0.615  85.453 

Example timings

KEGGREST.Rcheck/KEGGREST-Ex.timings

nameusersystemelapsed
keggConv 0.136 0.01210.109
keggFind0.0870.0082.627
keggGet1.1480.3724.523
keggInfo0.0350.0001.486
keggLink0.3390.0299.088
keggList 0.459 0.03918.974
listDatabases 0.460 0.03222.124
mark.pathway.by.objects0.0450.0003.520