Back to Multiple platform build/check report for BioC 3.15
[A]BCDEFGHIJKLMNOPQRSTUVWXYZ

This page was generated on 2021-11-30 13:53:50 -0500 (Tue, 30 Nov 2021).

All results for package ASSIGN

To the developers/maintainers of the ASSIGN package:
- Please allow up to 24 hours (and sometimes 48 hours) for your latest push to git@git.bioconductor.org:packages/ASSIGN.git to
reflect on this report. See How and When does the builder pull? When will my changes propagate? here for more information.
- Make sure to use the following settings in order to reproduce any error or warning you see on this page.

raw results

Package 90/2068HostnameOS / ArchINSTALLBUILDCHECKBUILD BIN
ASSIGN 1.31.0  (landing page)
Ying Shen , W. Evan Johnson
Snapshot Date: 2021-11-29 14:50:17 -0500 (Mon, 29 Nov 2021)
git_url: https://git.bioconductor.org/packages/ASSIGN
git_branch: master
git_last_commit: f1c4527
git_last_commit_date: 2021-10-26 12:12:42 -0500 (Tue, 26 Oct 2021)
nebbiolo1Linux (Ubuntu 20.04.3 LTS) / x86_64  OK    OK    OK  UNNEEDED, same version is already published
riesling1Windows Server 2019 Standard / x64  OK    OK    OK    OK  
merida1macOS 10.14.6 Mojave / x86_64  OK    OK    OK    OK  UNNEEDED, same version is already published

Results for Bioconductor software packages that depend directly on package ASSIGN

QUICK STATSOS / ArchINSTALLBUILDCHECKBUILD BIN
nebbiolo1Linux (Ubuntu 20.04.3 LTS) / x86_64
001
001
0001
riesling1Windows Server 2019 Standard / x64
001
001
0001
001
merida1macOS 10.14.6 Mojave / x86_64
001
001
0001
001
Package 1/1HostnameOS / ArchINSTALLBUILDCHECKBUILD BIN
TBSignatureProfiler 1.7.1  (landing page)
Aubrey Odom
git_last_commit: 9ce9d17
git_last_commit_date: 2021-11-21 00:59:28 -0500
nebbiolo1Linux (Ubuntu 20.04.3 LTS) / x86_64  OK    OK    OK  UNNEEDED, same version is already published
riesling1Windows Server 2019 Standard / x64  OK    OK    OK    OK  
merida1macOS 10.14.6 Mojave / x86_64  OK    OK    OK    OK  UNNEEDED, same version is already published