Back to Multiple platform build/check report for BioC 3.14
ABCDEFGHIJKLMNO[P]QRSTUVWXYZ

This page was generated on 2021-10-20 12:04:50 -0400 (Wed, 20 Oct 2021).

BUILD results for PhIPData on nebbiolo2

To the developers/maintainers of the PhIPData package:
- Please allow up to 24 hours (and sometimes 48 hours) for your latest push to git@git.bioconductor.org:packages/PhIPData.git to
reflect on this report. See How and When does the builder pull? When will my changes propagate? here for more information.
- Make sure to use the following settings in order to reproduce any error or warning you see on this page.

raw results

Package 1404/2072HostnameOS / ArchINSTALLBUILDCHECKBUILD BIN
PhIPData 1.1.2  (landing page)
Athena Chen
Snapshot Date: 2021-10-19 14:50:04 -0400 (Tue, 19 Oct 2021)
git_url: https://git.bioconductor.org/packages/PhIPData
git_branch: master
git_last_commit: 7a1a190
git_last_commit_date: 2021-08-23 12:02:56 -0400 (Mon, 23 Aug 2021)
nebbiolo2Linux (Ubuntu 20.04.2 LTS) / x86_64  OK    OK    OK  UNNEEDED, same version is already published
riesling1Windows Server 2019 Standard / x64  OK    OK    OK    OK  UNNEEDED, same version is already published
merida1macOS 10.14.6 Mojave / x86_64  OK    OK    OK    NA  

Summary

Package: PhIPData
Version: 1.1.2
Command: /home/biocbuild/bbs-3.14-bioc/R/bin/R CMD build --keep-empty-dirs --no-resave-data PhIPData
StartedAt: 2021-10-19 18:07:30 -0400 (Tue, 19 Oct 2021)
EndedAt: 2021-10-19 18:08:17 -0400 (Tue, 19 Oct 2021)
EllapsedTime: 47.6 seconds
RetCode: 0
Status:   OK  
PackageFile: PhIPData_1.1.2.tar.gz
PackageFileSize: 821.4 KiB

Command output

##############################################################################
##############################################################################
###
### Running command:
###
###   /home/biocbuild/bbs-3.14-bioc/R/bin/R CMD build --keep-empty-dirs --no-resave-data PhIPData
###
##############################################################################
##############################################################################


* checking for file ‘PhIPData/DESCRIPTION’ ... OK
* preparing ‘PhIPData’:
* checking DESCRIPTION meta-information ... OK
* installing the package to build vignettes
* creating vignettes ... OK
* checking for LF line-endings in source and make files and shell scripts
* checking for empty or unneeded directories
Omitted ‘LazyData’ from DESCRIPTION
* building ‘PhIPData_1.1.2.tar.gz’