Back to Multiple platform build/check report for BioC 3.16
ABCDEFGHIJKLM[N]OPQRSTUVWXYZ

This page was generated on 2022-07-01 11:04:21 -0400 (Fri, 01 Jul 2022).

HostnameOSArch (*)R versionInstalled pkgs
nebbiolo2Linux (Ubuntu 20.04.4 LTS)x86_644.2.0 Patched (2022-06-02 r82447) -- "Vigorous Calisthenics" 4343
palomino4Windows Server 2022 Datacenterx644.2.0 Patched (2022-06-02 r82447 ucrt) -- "Vigorous Calisthenics" 4147
lconwaymacOS 12.2.1 Montereyx86_644.2.0 Patched (2022-05-29 r82424) -- "Vigorous Calisthenics" 4159
Click on any hostname to see more info about the system (e.g. compilers)      (*) as reported by 'uname -p', except on Windows and Mac OS X

All results for package NCIgraph


To the developers/maintainers of the NCIgraph package:
- Please allow up to 24 hours (and sometimes 48 hours) for your latest push to git@git.bioconductor.org:packages/NCIgraph.git to
reflect on this report. See How and When does the builder pull? When will my changes propagate? for more information.
- Make sure to use the following settings in order to reproduce any error or warning you see on this page.

raw results

Package 1298/2124HostnameOS / ArchINSTALLBUILDCHECKBUILD BIN
NCIgraph 1.45.0  (landing page)
Laurent Jacob
Snapshot Date: 2022-06-30 14:00:04 -0400 (Thu, 30 Jun 2022)
git_url: https://git.bioconductor.org/packages/NCIgraph
git_branch: master
git_last_commit: ef4148e
git_last_commit_date: 2022-04-26 11:07:30 -0400 (Tue, 26 Apr 2022)
nebbiolo2Linux (Ubuntu 20.04.4 LTS) / x86_64  OK    OK    OK  UNNEEDED, same version is already published
palomino4Windows Server 2022 Datacenter / x64... NOT SUPPORTED ...
lconwaymacOS 12.2.1 Monterey / x86_64... NOT SUPPORTED ...

Results for Bioconductor software packages that depend directly on package NCIgraph

QUICK STATSOS / ArchINSTALLBUILDCHECKBUILD BIN
nebbiolo2Linux (Ubuntu 20.04.4 LTS) / x86_64
001
001
0001
palomino4Windows Server 2022 Datacenter / x64
000
000
0000
000
lconwaymacOS 12.2.1 Monterey / x86_64
000
000
0000
000
Package 1/1HostnameOS / ArchINSTALLBUILDCHECKBUILD BIN
DEGraph 1.49.0  (landing page)
Laurent Jacob
git_last_commit: 8e709bb
git_last_commit_date: 2022-04-26 11:06:25 -0400
nebbiolo2Linux (Ubuntu 20.04.4 LTS) / x86_64  OK    OK    OK  UNNEEDED, same version is already published
palomino4Windows Server 2022 Datacenter / x64... NOT SUPPORTED ...
lconwaymacOS 12.2.1 Monterey / x86_64... NOT SUPPORTED ...