Back to Build/check report for BioC 3.15
ABCDEFGHIJKLMNOPQRS[T]UVWXYZ

This page was generated on 2021-12-04 12:32:11 -0500 (Sat, 04 Dec 2021).

All results for package tkWidgets

To the developers/maintainers of the tkWidgets package:
- Please allow up to 24 hours (and sometimes 48 hours) for your latest push to git@git.bioconductor.org:packages/tkWidgets.git to
reflect on this report. See How and When does the builder pull? When will my changes propagate? here for more information.
- Make sure to use the following settings in order to reproduce any error or warning you see on this page.

raw results

Package 1949/2068HostnameOS / ArchINSTALLBUILDCHECKBUILD BIN
tkWidgets 1.73.0  (landing page)
J. Zhang
Snapshot Date: 2021-12-03 13:55:11 -0500 (Fri, 03 Dec 2021)
git_url: https://git.bioconductor.org/packages/tkWidgets
git_branch: master
git_last_commit: 132750d
git_last_commit_date: 2021-10-26 11:45:41 -0500 (Tue, 26 Oct 2021)
nebbiolo1Linux (Ubuntu 20.04.3 LTS) / x86_64  OK    OK    OK  UNNEEDED, same version is already published

Results for Bioconductor software packages that depend directly on package tkWidgets

QUICK STATSOS / ArchINSTALLBUILDCHECKBUILD BIN
nebbiolo1Linux (Ubuntu 20.04.3 LTS) / x86_64
002
002
0002
Package 1/2HostnameOS / ArchINSTALLBUILDCHECKBUILD BIN
Mfuzz 2.55.0  (landing page)
Matthias Futschik
git_last_commit: db37301
git_last_commit_date: 2021-10-26 11:49:16 -0500
nebbiolo1Linux (Ubuntu 20.04.3 LTS) / x86_64  OK    OK    OK  UNNEEDED, same version is already published
Package 2/2HostnameOS / ArchINSTALLBUILDCHECKBUILD BIN
OLINgui 1.69.0  (landing page)
Matthias Futschik
git_last_commit: c70c093
git_last_commit_date: 2021-10-26 11:47:24 -0500
nebbiolo1Linux (Ubuntu 20.04.3 LTS) / x86_64  OK    OK    OK  UNNEEDED, same version is already published