Back to Multiple platform build/check report for BioC 3.16
ABCDEFGHIJKLMNOPQ[R]STUVWXYZ

This page was generated on 2022-06-24 11:08:27 -0400 (Fri, 24 Jun 2022).

HostnameOSArch (*)R versionInstalled pkgs
nebbiolo2Linux (Ubuntu 20.04.4 LTS)x86_644.2.0 Patched (2022-06-02 r82447) -- "Vigorous Calisthenics" 4331
palomino4Windows Server 2022 Datacenterx644.2.0 Patched (2022-06-02 r82447 ucrt) -- "Vigorous Calisthenics" 4136
lconwaymacOS 12.2.1 Montereyx86_644.2.0 Patched (2022-05-29 r82424) -- "Vigorous Calisthenics" 4147
Click on any hostname to see more info about the system (e.g. compilers)      (*) as reported by 'uname -p', except on Windows and Mac OS X

CHECK results for RCy3 on lconway


To the developers/maintainers of the RCy3 package:
- Please allow up to 24 hours (and sometimes 48 hours) for your latest push to git@git.bioconductor.org:packages/RCy3.git to
reflect on this report. See How and When does the builder pull? When will my changes propagate? for more information.
- Make sure to use the following settings in order to reproduce any error or warning you see on this page.

raw results

Package 1576/2118HostnameOS / ArchINSTALLBUILDCHECKBUILD BIN
RCy3 2.17.0  (landing page)
Alex Pico
Snapshot Date: 2022-06-23 14:00:04 -0400 (Thu, 23 Jun 2022)
git_url: https://git.bioconductor.org/packages/RCy3
git_branch: master
git_last_commit: 49a28e6
git_last_commit_date: 2022-04-26 11:27:59 -0400 (Tue, 26 Apr 2022)
nebbiolo2Linux (Ubuntu 20.04.4 LTS) / x86_64  OK    OK    OK  UNNEEDED, same version is already published
palomino4Windows Server 2022 Datacenter / x64  OK    OK    OK    OK  UNNEEDED, same version is already published
lconwaymacOS 12.2.1 Monterey / x86_64  OK    OK    OK    OK  UNNEEDED, same version is already published

Summary

Package: RCy3
Version: 2.17.0
Command: /Library/Frameworks/R.framework/Resources/bin/R CMD check --install=check:RCy3.install-out.txt --library=/Library/Frameworks/R.framework/Resources/library --no-vignettes --timings RCy3_2.17.0.tar.gz
StartedAt: 2022-06-23 22:05:57 -0400 (Thu, 23 Jun 2022)
EndedAt: 2022-06-23 22:07:18 -0400 (Thu, 23 Jun 2022)
EllapsedTime: 81.2 seconds
RetCode: 0
Status:   OK  
CheckDir: RCy3.Rcheck
Warnings: 0

Command output

##############################################################################
##############################################################################
###
### Running command:
###
###   /Library/Frameworks/R.framework/Resources/bin/R CMD check --install=check:RCy3.install-out.txt --library=/Library/Frameworks/R.framework/Resources/library --no-vignettes --timings RCy3_2.17.0.tar.gz
###
##############################################################################
##############################################################################


* using log directory ‘/Users/biocbuild/bbs-3.16-bioc/meat/RCy3.Rcheck’
* using R version 4.2.0 Patched (2022-05-29 r82424)
* using platform: x86_64-apple-darwin17.0 (64-bit)
* using session charset: UTF-8
* using option ‘--no-vignettes’
* checking for file ‘RCy3/DESCRIPTION’ ... OK
* checking extension type ... Package
* this is package ‘RCy3’ version ‘2.17.0’
* checking package namespace information ... OK
* checking package dependencies ... OK
* checking if this is a source package ... OK
* checking if there is a namespace ... OK
* checking for hidden files and directories ... NOTE
Found the following hidden files and directories:
  .travis.yml
These were most likely included in error. See section ‘Package
structure’ in the ‘Writing R Extensions’ manual.
* checking for portable file names ... OK
* checking for sufficient/correct file permissions ... OK
* checking whether package ‘RCy3’ can be installed ... OK
* checking installed package size ... OK
* checking package directory ... OK
* checking ‘build’ directory ... OK
* checking DESCRIPTION meta-information ... OK
* checking top-level files ... OK
* checking for left-over files ... OK
* checking index information ... OK
* checking package subdirectories ... OK
* checking R files for non-ASCII characters ... OK
* checking R files for syntax errors ... OK
* checking whether the package can be loaded ... OK
* checking whether the package can be loaded with stated dependencies ... OK
* checking whether the package can be unloaded cleanly ... OK
* checking whether the namespace can be loaded with stated dependencies ... OK
* checking whether the namespace can be unloaded cleanly ... OK
* checking dependencies in R code ... OK
* checking S3 generic/method consistency ... OK
* checking replacement functions ... OK
* checking foreign function calls ... OK
* checking R code for possible problems ... NOTE
createNetworkFromDataFrames: no visible binding for global variable
  ‘SUID’
Undefined global functions or variables:
  SUID
* checking Rd files ... OK
* checking Rd metadata ... OK
* checking Rd cross-references ... OK
* checking for missing documentation entries ... OK
* checking for code/documentation mismatches ... OK
* checking Rd \usage sections ... OK
* checking Rd contents ... OK
* checking for unstated dependencies in examples ... OK
* checking files in ‘vignettes’ ... OK
* checking examples ... OK
* checking for unstated dependencies in ‘tests’ ... OK
* checking tests ...
  Running ‘runTests.R’
 OK
* checking for unstated dependencies in vignettes ... OK
* checking package vignettes in ‘inst/doc’ ... OK
* checking running R code from vignettes ... SKIPPED
* checking re-building of vignette outputs ... SKIPPED
* checking PDF version of manual ... OK
* DONE

Status: 2 NOTEs
See
  ‘/Users/biocbuild/bbs-3.16-bioc/meat/RCy3.Rcheck/00check.log’
for details.



Installation output

RCy3.Rcheck/00install.out

##############################################################################
##############################################################################
###
### Running command:
###
###   /Library/Frameworks/R.framework/Resources/bin/R CMD INSTALL RCy3
###
##############################################################################
##############################################################################


* installing to library ‘/Library/Frameworks/R.framework/Versions/4.2/Resources/library’
* installing *source* package ‘RCy3’ ...
** using staged installation
** R
** inst
** byte-compile and prepare package for lazy loading
** help
*** installing help indices
** building package indices
** installing vignettes
** testing if installed package can be loaded from temporary location
** testing if installed package can be loaded from final location
** testing if installed package keeps a record of temporary installation path
* DONE (RCy3)

Tests output

RCy3.Rcheck/tests/runTests.Rout


R version 4.2.0 Patched (2022-05-29 r82424) -- "Vigorous Calisthenics"
Copyright (C) 2022 The R Foundation for Statistical Computing
Platform: x86_64-apple-darwin17.0 (64-bit)

R is free software and comes with ABSOLUTELY NO WARRANTY.
You are welcome to redistribute it under certain conditions.
Type 'license()' or 'licence()' for distribution details.

R is a collaborative project with many contributors.
Type 'contributors()' for more information and
'citation()' on how to cite R or R packages in publications.

Type 'demo()' for some demos, 'help()' for on-line help, or
'help.start()' for an HTML browser interface to help.
Type 'q()' to quit R.

> # tests disabled as the Bioconductor build system no longer supports interactive sessions
> #require(RCy3) || stop("unable to load RCy3")
> #BiocGenerics:::testPackage('RCy3')
> 
> proc.time()
   user  system elapsed 
  0.196   0.066   0.245 

Example timings

RCy3.Rcheck/RCy3-Ex.timings

nameusersystemelapsed
AddToGroup0.0000.0010.000
RemoveFromGroup0.0000.0010.000
UpdateAnnotationBoundedText0.0000.0010.001
addAnnotationBoundedText0.0000.0010.000
addAnnotationImage0.0000.0000.001
addAnnotationShape000
addAnnotationText0.0000.0010.000
addCyEdges000
addCyNodes000
analyzeNetwork000
applyFilter000
bundleEdges000
checkNotebookIsRunning000
checkRunningRemote000
clearEdgeBends000
clearEdgePropertyBypass000
clearNetworkCenterBypass000
clearNetworkPropertyBypass000
clearNetworkZoomBypass000
clearNodeOpacityBypass000
clearNodePropertyBypass000
clearSelection000
cloneNetwork000
closeSession000
collapseGroup000
commandEcho000
commandOpenDialog000
commandPause000
commandQuit000
commandRunFile000
commandSleep0.0000.0000.001
commandsAPI000
commandsGET000
commandsHelp000
commandsPOST000
commandsRun000
copyVisualStyle000
createColumnFilter000
createCompositeFilter000
createDegreeFilter0.0000.0000.001
createGraphFromNetwork000
createGroup0.0000.0000.001
createGroupByColumn000
createIgraphFromNetwork0.0000.0000.001
createNetworkFromDataFrames0.0000.0000.001
createNetworkFromGraph000
createNetworkFromIgraph000
createSubnetwork0.0000.0000.001
createView000
createVisualStyle000
cybrowserClose000
cybrowserDialog000
cybrowserHide000
cybrowserList000
cybrowserSend000
cybrowserShow000
cybrowserVersion000
cyrestAPI000
cyrestDELETE000
cyrestGET000
cyrestPOST000
cyrestPUT000
cytoscapeApiVersions000
cytoscapeFreeMemory0.0010.0000.000
cytoscapeMemoryStatus000
cytoscapeNumberOfCores000
cytoscapePing0.0000.0010.000
cytoscapeVersionInfo000
deleteAllNetworks000
deleteAnnotation000
deleteDuplicateEdges000
deleteGroup000
deleteNetwork000
deleteSelectedEdges000
deleteSelectedNodes000
deleteSelfLoops000
deleteStyleMapping000
deleteTableColumn000
deleteVisualStyle0.0000.0010.005
diffusionAdvanced000
diffusionBasic000
disableApp000
doInitializeSandbox0.0000.0000.001
doRequestRemote0.0000.0000.001
doSetSandbox0.0000.0000.001
dockPanel0.0000.0000.001
dot-exportShowImage0.0000.0000.001
dot-getDefaultSandbox0.0000.0000.001
dot-getRequester0.0000.0000.001
enableApp000
expandGroup000
exportFilters000
exportImage000
exportNetwork0.0010.0000.000
exportNetworkToNDEx000
exportVisualStyles0.0000.0010.000
findRemoteCytoscape000
fitContent0.0000.0010.000
floatPanel000
getAbsSandboxPath000
getAllEdges000
getAllNodes000
getAllStyleMappings000
getAnnotationList000
getAppInformation000
getAppStatus0.0000.0010.000
getAppUpdates000
getArrowShapes000
getAvailableApps000
getBackgroundColorDefault000
getBrowserClientChannel000
getBrowserClientJs0.0010.0000.000
getCollectionList0.0000.0010.000
getCollectionName0.0010.0000.000
getCollectionNetworks000
getCollectionSuid000
getCurrentSandbox0.0000.0000.001
getCurrentSandboxName0.0000.0010.000
getCurrentSandboxPath000
getCurrentStyle0.0000.0010.000
getDefaultSandbox000
getDefaultSandboxPath000
getDisabledApps000
getEdgeColor000
getEdgeCount000
getEdgeInfo0.0000.0000.001
getEdgeLineStyle0.0000.0010.000
getEdgeLineWidth000
getEdgeProperty000
getEdgeSelectionColorDefault000
getEdgeTargetArrowShape000
getFilterList000
getFirstNeighbors000
getGroupInfo000
getInstalledApps0.0010.0000.000
getJupyterBridgeURL000
getLayoutNameMapping000
getLayoutNames000
getLayoutPropertyNames000
getLayoutPropertyType000
getLayoutPropertyValue0.0000.0000.001
getLineStyles000
getNetworkCenter000
getNetworkCount0.0010.0000.000
getNetworkList0.0000.0000.001
getNetworkNDExId0.0010.0000.000
getNetworkName000
getNetworkProperty000
getNetworkSuid0.0000.0010.000
getNetworkViewSuid000
getNetworkViews000
getNetworkZoom000
getNodeColor000
getNodeCount0.0000.0000.001
getNodeHeight000
getNodePosition000
getNodeProperty000
getNodeSelectionColorDefault000
getNodeShapes000
getNodeSize0.0010.0000.001
getNodeWidth000
getNotebookIsRunning000
getSandboxReinitialize000
getSelectedEdgeCount000
getSelectedEdges0.0010.0000.000
getSelectedNodeCount000
getSelectedNodes000
getStyleDependencies000
getStyleMapping000
getTableColumnNames000
getTableColumnTypes000
getTableColumns000
getTableValue0.0000.0000.001
getUninstalledApps0.0000.0000.001
getVisualPropertyDefault0.0000.0000.001
getVisualPropertyNames000
getVisualStyleNames000
groupAnnotation000
hideAllPanels000
hideEdges000
hideNodes000
hidePanel000
hideSelectedEdges000
hideSelectedNodes000
importFilters0.0010.0000.000
importNetworkFromFile0.0000.0000.001
importNetworkFromNDEx0.0000.0000.001
importVisualStyles0.0000.0000.001
installApp0.0000.0000.001
invertEdgeSelection000
invertNodeSelection000
layoutCopycat000
layoutNetwork000
listGroups0.0000.0000.001
lockNodeDimensions000
makeSimpleGraph0.0620.0000.062
makeSimpleIgraph0.0480.0050.054
mapTableColumn000
mapVisualProperty000
matchArrowColorToEdge000
mergeNetworks000
notebookExportShowImage000
notebookShowImage000
openAppStore000
openSession000
paletteColorBrewerAccent0.0030.0010.004
paletteColorBrewerBlues000
paletteColorBrewerBrBG0.0010.0010.000
paletteColorBrewerBuGn000
paletteColorBrewerBuPu0.0000.0000.001
paletteColorBrewerDark20.0000.0010.000
paletteColorBrewerGnBu000
paletteColorBrewerGreens000
paletteColorBrewerGreys000
paletteColorBrewerOrRd0.0000.0000.001
paletteColorBrewerOranges000
paletteColorBrewerPRGn0.0010.0000.000
paletteColorBrewerPaired000
paletteColorBrewerPastel10.0010.0000.001
paletteColorBrewerPastel2000
paletteColorBrewerPiYG000
paletteColorBrewerPuBu000
paletteColorBrewerPuBuGn000
paletteColorBrewerPuOr000
paletteColorBrewerPuRd0.0000.0000.001
paletteColorBrewerPurples000
paletteColorBrewerRdBu000
paletteColorBrewerRdPu000
paletteColorBrewerRdYlBu000
paletteColorBrewerReds0.0010.0000.001
paletteColorBrewerSet10.0000.0010.000
paletteColorBrewerSet2000
paletteColorBrewerSet3000
paletteColorBrewerYlGn000
paletteColorBrewerYlGnBu0.0000.0000.001
paletteColorBrewerYlOrBr000
paletteColorBrewerYlOrRd000
paletteColorRandom0.0010.0000.001
removeNodeCustomGraphics000
renameNetwork0.0000.0000.001
renameTableColumn0.0000.0000.001
resetDefaultSandbox000
runningRemoteCheck000
sandboxGetFileInfo000
sandboxGetFrom000
sandboxInitializer000
sandboxRemove000
sandboxRemoveFile000
sandboxSendTo000
sandboxSet000
sandboxUrlTo000
saveSession000
selectAll000
selectAllEdges000
selectAllNodes000
selectEdges000
selectEdgesAdjacentToSelectedNodes0.0000.0010.000
selectEdgesConnectingSelectedNodes000
selectFirstNeighbors000
selectNodes000
selectNodesConnectedBySelectedEdges000
setBackgroundColorDefault0.0010.0000.000
setCatchupFilterSecs0.0000.0000.001
setCatchupNetworkSecs000
setCurrentNetwork0.0000.0000.001
setCurrentSandbox0.0000.0000.001
setCurrentView0.0000.0000.001
setDefaultSandbox000
setDefaultSandboxPath000
setEdgeColorBypass000
setEdgeColorDefault0.0000.0010.000
setEdgeColorMapping0.0000.0000.001
setEdgeFontFaceBypass0.0000.0010.000
setEdgeFontFaceDefault000
setEdgeFontFaceMapping000
setEdgeFontSizeBypass000
setEdgeFontSizeDefault000
setEdgeFontSizeMapping000
setEdgeLabelBypass0.0000.0010.000
setEdgeLabelColorBypass000
setEdgeLabelColorDefault0.0000.0000.001
setEdgeLabelColorMapping000
setEdgeLabelDefault000
setEdgeLabelMapping000
setEdgeLabelOpacityBypass000
setEdgeLabelOpacityDefault0.0000.0000.001
setEdgeLabelOpacityMapping000
setEdgeLineStyleBypass000
setEdgeLineStyleDefault0.0000.0010.000
setEdgeLineStyleMapping000
setEdgeLineWidthBypass0.0000.0010.000
setEdgeLineWidthDefault000
setEdgeLineWidthMapping0.0000.0010.000
setEdgeOpacityBypass000
setEdgeOpacityDefault000
setEdgeOpacityMapping000
setEdgePropertyBypass0.0000.0000.001
setEdgeSelectionColorDefault000
setEdgeSourceArrowColorBypass000
setEdgeSourceArrowColorDefault000
setEdgeSourceArrowColorMapping0.0000.0000.001
setEdgeSourceArrowMapping0.0000.0010.001
setEdgeSourceArrowShapeBypass000
setEdgeSourceArrowShapeDefault000
setEdgeSourceArrowShapeMapping000
setEdgeTargetArrowColorBypass000
setEdgeTargetArrowColorDefault000
setEdgeTargetArrowColorMapping000
setEdgeTargetArrowMapping000
setEdgeTargetArrowShapeBypass000
setEdgeTargetArrowShapeDefault000
setEdgeTargetArrowShapeMapping000
setEdgeTooltipBypass000
setEdgeTooltipDefault000
setEdgeTooltipMapping000
setLayoutProperties000
setModelPropagationSecs0.0000.0000.001
setNetworkCenterBypass0.0000.0000.001
setNetworkPropertyBypass000
setNetworkZoomBypass0.0010.0000.000
setNodeBorderColorBypass000
setNodeBorderColorDefault000
setNodeBorderColorMapping000
setNodeBorderOpacityBypass0.0010.0000.000
setNodeBorderOpacityDefault000
setNodeBorderOpacityMapping000
setNodeBorderWidthBypass000
setNodeBorderWidthDefault0.0000.0000.001
setNodeBorderWidthMapping000
setNodeColorBypass000
setNodeColorDefault000
setNodeColorMapping000
setNodeComboOpacityMapping0.0000.0000.001
setNodeCustomBarChart000
setNodeCustomBoxChart0.0000.0010.000
setNodeCustomHeatMapChart000
setNodeCustomLineChart000
setNodeCustomLinearGradient000
setNodeCustomPieChart000
setNodeCustomPosition0.0010.0000.000
setNodeCustomRadialGradient000
setNodeCustomRingChart000
setNodeFillOpacityBypass0.0000.0010.000
setNodeFillOpacityDefault000
setNodeFillOpacityMapping000
setNodeFontFaceBypass000
setNodeFontFaceDefault000
setNodeFontFaceMapping000
setNodeFontSizeBypass000
setNodeFontSizeDefault000
setNodeFontSizeMapping000
setNodeHeightBypass0.0010.0000.001
setNodeHeightDefault000
setNodeHeightMapping000
setNodeLabelBypass0.0000.0010.000
setNodeLabelColorBypass000
setNodeLabelColorDefault0.0000.0000.001
setNodeLabelColorMapping000
setNodeLabelDefault000
setNodeLabelMapping0.0000.0000.001
setNodeLabelOpacityBypass0.0000.0000.001
setNodeLabelOpacityDefault0.0000.0000.001
setNodeLabelOpacityMapping0.0000.0000.001
setNodeOpacityBypass0.0000.0010.001
setNodePropertyBypass0.0000.0000.001
setNodeSelectionColorDefault000
setNodeShapeBypass000
setNodeShapeDefault000
setNodeShapeMapping0.0000.0010.000
setNodeSizeBypass000
setNodeSizeDefault000
setNodeSizeMapping000
setNodeTooltipBypass000
setNodeTooltipDefault000
setNodeTooltipMapping000
setNodeWidthBypass000
setNodeWidthDefault0.0000.0000.001
setNodeWidthMapping0.0000.0010.000
setNotebookIsRunning000
setSandboxReinitialize0.0000.0010.000
setStyleDependencies0.0010.0000.000
setVisualPropertyDefault0.0000.0010.000
setVisualStyle000
syncNodeCustomGraphicsSize000
toggleGraphicsDetails0.0000.0010.000
ungroupAnnotation0.0010.0000.000
unhideAll000
unhideEdges0.0000.0010.000
unhideNodes0.0000.0000.001
uninstallApp0.0000.0010.001
updateAnnotationImage0.0000.0000.001
updateAnnotationShape0.0000.0010.001
updateAnnotationText0.0000.0000.001
updateApp0.0000.0000.001
updateGroupAnnotation0.0000.0000.001
updateNetworkInNDEx0.0000.0000.001
updateStyleDefaults0.0000.0000.001
updateStyleMapping0.0000.0000.001