Back to Multiple platform build/check report for BioC 3.16
ABCDEFGHIJKLMNOPQRS[T]UVWXYZ

This page was generated on 2022-08-12 11:04:35 -0400 (Fri, 12 Aug 2022).

HostnameOSArch (*)R versionInstalled pkgs
nebbiolo2Linux (Ubuntu 20.04.4 LTS)x86_644.2.1 (2022-06-23) -- "Funny-Looking Kid" 4375
palomino4Windows Server 2022 Datacenterx644.2.1 (2022-06-23 ucrt) -- "Funny-Looking Kid" 4159
lconwaymacOS 12.2.1 Montereyx86_644.2.1 Patched (2022-07-09 r82577) -- "Funny-Looking Kid" 4167
Click on any hostname to see more info about the system (e.g. compilers)      (*) as reported by 'uname -p', except on Windows and Mac OS X

All results for package topGO


To the developers/maintainers of the topGO package:
- Please allow up to 24 hours (and sometimes 48 hours) for your latest push to git@git.bioconductor.org:packages/topGO.git to
reflect on this report. See How and When does the builder pull? When will my changes propagate? for more information.
- Make sure to use the following settings in order to reproduce any error or warning you see on this page.

raw results

Package 2026/2139HostnameOS / ArchINSTALLBUILDCHECKBUILD BIN
topGO 2.49.0  (landing page)
Adrian Alexa
Snapshot Date: 2022-08-11 14:00:04 -0400 (Thu, 11 Aug 2022)
git_url: https://git.bioconductor.org/packages/topGO
git_branch: master
git_last_commit: 5dbcfd1
git_last_commit_date: 2022-04-26 10:59:24 -0400 (Tue, 26 Apr 2022)
nebbiolo2Linux (Ubuntu 20.04.4 LTS) / x86_64  OK    OK    OK  UNNEEDED, same version is already published
palomino4Windows Server 2022 Datacenter / x64  OK    OK    OK    OK  UNNEEDED, same version is already published
lconwaymacOS 12.2.1 Monterey / x86_64  OK    OK    OK    OK  UNNEEDED, same version is already published

Results for Bioconductor software packages that depend directly on package topGO

QUICK STATSOS / ArchINSTALLBUILDCHECKBUILD BIN
nebbiolo2Linux (Ubuntu 20.04.4 LTS) / x86_64
0018
0315
00411
palomino4Windows Server 2022 Datacenter / x64
0018
0117
00512
0017
lconwaymacOS 12.2.1 Monterey / x86_64
0018
0216
00412
0016
Package 1/18HostnameOS / ArchINSTALLBUILDCHECKBUILD BIN
APL 1.1.0  (landing page)
Elzbieta Gralinska
git_last_commit: 1589d1c
git_last_commit_date: 2022-04-27 15:43:58 -0400
nebbiolo2Linux (Ubuntu 20.04.4 LTS) / x86_64  OK    ERROR  skipped
palomino4Windows Server 2022 Datacenter / x64  OK    OK    OK    OK  UNNEEDED, same version is already published
lconwaymacOS 12.2.1 Monterey / x86_64  OK    ERROR  skippedskipped
Package 2/18HostnameOS / ArchINSTALLBUILDCHECKBUILD BIN
BgeeDB 2.23.1  (landing page)
Julien Wollbrett , Julien Roux , Andrea Komljenovic , Frederic Bastian
git_last_commit: f52f54e
git_last_commit_date: 2022-06-23 10:34:36 -0400
nebbiolo2Linux (Ubuntu 20.04.4 LTS) / x86_64  OK    OK    OK  UNNEEDED, same version is already published
palomino4Windows Server 2022 Datacenter / x64  OK    OK    OK    OK  UNNEEDED, same version is already published
lconwaymacOS 12.2.1 Monterey / x86_64  OK    OK    OK    OK  UNNEEDED, same version is already published
Package 3/18HostnameOS / ArchINSTALLBUILDCHECKBUILD BIN
BioMM 1.13.0  (landing page)
Junfang Chen
git_last_commit: c29e70b
git_last_commit_date: 2022-04-26 11:53:14 -0400
nebbiolo2Linux (Ubuntu 20.04.4 LTS) / x86_64  OK    OK    OK  UNNEEDED, same version is already published
palomino4Windows Server 2022 Datacenter / x64  OK    OK    OK    OK  UNNEEDED, same version is already published
lconwaymacOS 12.2.1 Monterey / x86_64  OK    OK    OK    OK  UNNEEDED, same version is already published
Package 4/18HostnameOS / ArchINSTALLBUILDCHECKBUILD BIN
cellity 1.25.0  (landing page)
Tomislav Ilicic
git_last_commit: 9962230
git_last_commit_date: 2022-04-26 11:29:34 -0400
nebbiolo2Linux (Ubuntu 20.04.4 LTS) / x86_64  OK    OK    OK  UNNEEDED, same version is already published
palomino4Windows Server 2022 Datacenter / x64  OK    OK    OK    OK  UNNEEDED, same version is already published
lconwaymacOS 12.2.1 Monterey / x86_64  OK    OK    OK    OK  UNNEEDED, same version is already published
Package 5/18HostnameOS / ArchINSTALLBUILDCHECKBUILD BIN
cellTree 1.27.0  (landing page)
David duVerle
git_last_commit: 5667f3b
git_last_commit_date: 2022-04-26 11:28:54 -0400
nebbiolo2Linux (Ubuntu 20.04.4 LTS) / x86_64  OK    ERROR  skipped
palomino4Windows Server 2022 Datacenter / x64  OK    ERROR  skippedskipped
lconwaymacOS 12.2.1 Monterey / x86_64  OK    ERROR  skippedskipped
Package 6/18HostnameOS / ArchINSTALLBUILDCHECKBUILD BIN
compEpiTools 1.31.0  (landing page)
Kamal Kishore
git_last_commit: dfb90eb
git_last_commit_date: 2022-04-26 11:21:05 -0400
nebbiolo2Linux (Ubuntu 20.04.4 LTS) / x86_64  OK    OK    WARNINGS  UNNEEDED, same version is already published
palomino4Windows Server 2022 Datacenter / x64  OK    OK    WARNINGS    OK  UNNEEDED, same version is already published
lconwaymacOS 12.2.1 Monterey / x86_64  OK    OK    WARNINGS    OK  UNNEEDED, same version is already published
Package 7/18HostnameOS / ArchINSTALLBUILDCHECKBUILD BIN
EGSEA 1.25.0  (landing page)
Monther Alhamdoosh
git_last_commit: 3785909
git_last_commit_date: 2022-04-26 11:32:13 -0400
nebbiolo2Linux (Ubuntu 20.04.4 LTS) / x86_64  OK    OK    WARNINGS  UNNEEDED, same version is already published
palomino4Windows Server 2022 Datacenter / x64  OK    OK    WARNINGS    OK  UNNEEDED, same version is already published
lconwaymacOS 12.2.1 Monterey / x86_64  OK    OK    WARNINGS    OK  UNNEEDED, same version is already published
Package 8/18HostnameOS / ArchINSTALLBUILDCHECKBUILD BIN
FoldGO 1.15.0  (landing page)
Daniil Wiebe
git_last_commit: 06a7fe6
git_last_commit_date: 2022-04-26 11:50:59 -0400
nebbiolo2Linux (Ubuntu 20.04.4 LTS) / x86_64  OK    OK    OK  UNNEEDED, same version is already published
palomino4Windows Server 2022 Datacenter / x64  OK    OK    OK    OK  UNNEEDED, same version is already published
lconwaymacOS 12.2.1 Monterey / x86_64  OK    OK    OK    OK  UNNEEDED, same version is already published
Package 9/18HostnameOS / ArchINSTALLBUILDCHECKBUILD BIN
GOSim 1.35.0  (landing page)
Holger Froehlich
git_last_commit: 0cb943f
git_last_commit_date: 2022-04-26 11:16:18 -0400
nebbiolo2Linux (Ubuntu 20.04.4 LTS) / x86_64  OK    OK    OK  UNNEEDED, same version is already published
palomino4Windows Server 2022 Datacenter / x64  OK    OK    OK    OK  UNNEEDED, same version is already published
lconwaymacOS 12.2.1 Monterey / x86_64  OK    OK    OK    OK  UNNEEDED, same version is already published
Package 10/18HostnameOS / ArchINSTALLBUILDCHECKBUILD BIN
GRaNIE 1.1.9  (landing page)
Christian Arnold
git_last_commit: 39704b5
git_last_commit_date: 2022-08-11 09:45:45 -0400
nebbiolo2Linux (Ubuntu 20.04.4 LTS) / x86_64  OK    ERROR  skipped
palomino4Windows Server 2022 Datacenter / x64  OK    OK    WARNINGS    OK  UNNEEDED, same version is already published
lconwaymacOS 12.2.1 Monterey / x86_64  OK    OK    OK    OK  UNNEEDED, same version is already published
Package 11/18HostnameOS / ArchINSTALLBUILDCHECKBUILD BIN
ideal 1.21.0  (landing page)
Federico Marini
git_last_commit: 90f1553
git_last_commit_date: 2022-04-26 11:40:43 -0400
nebbiolo2Linux (Ubuntu 20.04.4 LTS) / x86_64  OK    OK    OK  UNNEEDED, same version is already published
palomino4Windows Server 2022 Datacenter / x64  OK    OK    OK    OK  NO, package depends on 'IHW' which is not available
lconwaymacOS 12.2.1 Monterey / x86_64  OK    OK    OK    OK  UNNEEDED, same version is already published
Package 12/18HostnameOS / ArchINSTALLBUILDCHECKBUILD BIN
moanin 1.5.0  (landing page)
Nelle Varoquaux
git_last_commit: 125bc3a
git_last_commit_date: 2022-04-26 12:11:02 -0400
nebbiolo2Linux (Ubuntu 20.04.4 LTS) / x86_64  OK    OK    OK  UNNEEDED, same version is already published
palomino4Windows Server 2022 Datacenter / x64  OK    OK    OK    OK  UNNEEDED, same version is already published
lconwaymacOS 12.2.1 Monterey / x86_64  OK    OK    OK    OK  UNNEEDED, same version is already published
Package 13/18HostnameOS / ArchINSTALLBUILDCHECKBUILD BIN
OmaDB 2.13.0  (landing page)
Klara Kaleb , Adrian Altenhoff
git_last_commit: bafd9d6
git_last_commit_date: 2022-04-26 11:45:37 -0400
nebbiolo2Linux (Ubuntu 20.04.4 LTS) / x86_64  OK    OK    OK  UNNEEDED, same version is already published
palomino4Windows Server 2022 Datacenter / x64  OK    OK    OK    OK  UNNEEDED, same version is already published
lconwaymacOS 12.2.1 Monterey / x86_64  OK    OK    OK    OK  UNNEEDED, same version is already published
Package 14/18HostnameOS / ArchINSTALLBUILDCHECKBUILD BIN
pcaExplorer 2.23.0  (landing page)
Federico Marini
git_last_commit: ba8d53c
git_last_commit_date: 2022-04-26 11:31:37 -0400
nebbiolo2Linux (Ubuntu 20.04.4 LTS) / x86_64  OK    OK    OK  UNNEEDED, same version is already published
palomino4Windows Server 2022 Datacenter / x64  OK    OK    OK    OK  UNNEEDED, same version is already published
lconwaymacOS 12.2.1 Monterey / x86_64  OK    OK    OK    OK  UNNEEDED, same version is already published
Package 15/18HostnameOS / ArchINSTALLBUILDCHECKBUILD BIN
psygenet2r 1.29.0  (landing page)
Alba Gutierrez-Sacristan
git_last_commit: 253c4b6
git_last_commit_date: 2022-04-26 11:29:58 -0400
nebbiolo2Linux (Ubuntu 20.04.4 LTS) / x86_64  OK    OK    OK  UNNEEDED, same version is already published
palomino4Windows Server 2022 Datacenter / x64  OK    OK    OK    OK  UNNEEDED, same version is already published
lconwaymacOS 12.2.1 Monterey / x86_64  OK    OK    OK    OK  UNNEEDED, same version is already published
Package 16/18HostnameOS / ArchINSTALLBUILDCHECKBUILD BIN
transcriptogramer 1.19.0  (landing page)
Diego Morais
git_last_commit: e932293
git_last_commit_date: 2022-04-26 11:45:24 -0400
nebbiolo2Linux (Ubuntu 20.04.4 LTS) / x86_64  OK    OK    OK  UNNEEDED, same version is already published
palomino4Windows Server 2022 Datacenter / x64  OK    OK    OK    OK  UNNEEDED, same version is already published
lconwaymacOS 12.2.1 Monterey / x86_64  OK    OK    OK    OK  UNNEEDED, same version is already published
Package 17/18HostnameOS / ArchINSTALLBUILDCHECKBUILD BIN
tRanslatome 1.35.0  (landing page)
Toma Tebaldi , Erik Dassi
git_last_commit: f59e200
git_last_commit_date: 2022-04-26 11:15:02 -0400
nebbiolo2Linux (Ubuntu 20.04.4 LTS) / x86_64  OK    OK    WARNINGS  UNNEEDED, same version is already published
palomino4Windows Server 2022 Datacenter / x64  OK    OK    WARNINGS    OK  UNNEEDED, same version is already published
lconwaymacOS 12.2.1 Monterey / x86_64  OK    OK    WARNINGS    OK  UNNEEDED, same version is already published
Package 18/18HostnameOS / ArchINSTALLBUILDCHECKBUILD BIN
ViSEAGO 1.11.0  (landing page)
Aurelien Brionne
git_last_commit: 377deca
git_last_commit_date: 2022-04-26 11:57:22 -0400
nebbiolo2Linux (Ubuntu 20.04.4 LTS) / x86_64  OK    OK    WARNINGS  UNNEEDED, same version is already published
palomino4Windows Server 2022 Datacenter / x64  OK    OK    WARNINGS    OK  UNNEEDED, same version is already published
lconwaymacOS 12.2.1 Monterey / x86_64  OK    OK    WARNINGS    OK  UNNEEDED, same version is already published