Back to Multiple platform build/check report for BioC 3.14
AB[C]DEFGHIJKLMNOPQRSTUVWXYZ

This page was generated on 2021-10-21 12:03:46 -0400 (Thu, 21 Oct 2021).

All results for package CGHcall

To the developers/maintainers of the CGHcall package:
- Please allow up to 24 hours (and sometimes 48 hours) for your latest push to git@git.bioconductor.org:packages/CGHcall.git to
reflect on this report. See How and When does the builder pull? When will my changes propagate? here for more information.
- Make sure to use the following settings in order to reproduce any error or warning you see on this page.

raw results

Package 284/2075HostnameOS / ArchINSTALLBUILDCHECKBUILD BIN
CGHcall 2.55.0  (landing page)
Mark van de Wiel
Snapshot Date: 2021-10-20 14:50:05 -0400 (Wed, 20 Oct 2021)
git_url: https://git.bioconductor.org/packages/CGHcall
git_branch: master
git_last_commit: 9962ce2
git_last_commit_date: 2021-05-19 11:39:33 -0400 (Wed, 19 May 2021)
nebbiolo2Linux (Ubuntu 20.04.2 LTS) / x86_64  OK    OK    WARNINGS  UNNEEDED, same version is already published
riesling1Windows Server 2019 Standard / x64  OK    OK    WARNINGS    OK  UNNEEDED, same version is already published
merida1macOS 10.14.6 Mojave / x86_64  OK    OK    WARNINGS    OK  UNNEEDED, same version is already published

Results for Bioconductor software packages that depend directly on package CGHcall

QUICK STATSOS / ArchINSTALLBUILDCHECKBUILD BIN
nebbiolo2Linux (Ubuntu 20.04.2 LTS) / x86_64
003
003
0003
riesling1Windows Server 2019 Standard / x64
003
003
0003
003
merida1macOS 10.14.6 Mojave / x86_64
003
003
0003
002
Package 1/3HostnameOS / ArchINSTALLBUILDCHECKBUILD BIN
CGHnormaliter 1.47.0  (landing page)
Bart P.P. van Houte
git_last_commit: 6c66f36
git_last_commit_date: 2021-05-19 11:44:00 -0400
nebbiolo2Linux (Ubuntu 20.04.2 LTS) / x86_64  OK    OK    OK  UNNEEDED, same version is already published
riesling1Windows Server 2019 Standard / x64  OK    OK    OK    OK  UNNEEDED, same version is already published
merida1macOS 10.14.6 Mojave / x86_64  OK    OK    OK    OK  UNNEEDED, same version is already published
Package 2/3HostnameOS / ArchINSTALLBUILDCHECKBUILD BIN
GeneBreak 1.23.0  (landing page)
Evert van den Broek
git_last_commit: c48ff88
git_last_commit_date: 2021-05-19 12:16:21 -0400
nebbiolo2Linux (Ubuntu 20.04.2 LTS) / x86_64  OK    OK    OK  UNNEEDED, same version is already published
riesling1Windows Server 2019 Standard / x64  OK    OK    OK    OK  UNNEEDED, same version is already published
merida1macOS 10.14.6 Mojave / x86_64  OK    OK    OK    OK  UNNEEDED, same version is already published
Package 3/3HostnameOS / ArchINSTALLBUILDCHECKBUILD BIN
QDNAseq 1.29.5  (landing page)
Daoud Sie
git_last_commit: a32bf44
git_last_commit_date: 2021-10-20 13:07:57 -0400
nebbiolo2Linux (Ubuntu 20.04.2 LTS) / x86_64  OK    OK    OK  YES
riesling1Windows Server 2019 Standard / x64  OK    OK    OK    OK  YES
merida1macOS 10.14.6 Mojave / x86_64  OK    OK    OK    NA