Back to Build/check report for BioC 3.16
ABCD[E]FGHIJKLMNOPQRSTUVWXYZ

This page was generated on 2022-06-27 11:05:18 -0400 (Mon, 27 Jun 2022).

HostnameOSArch (*)R versionInstalled pkgs
nebbiolo2Linux (Ubuntu 20.04.4 LTS)x86_644.2.0 Patched (2022-06-02 r82447) -- "Vigorous Calisthenics" 4331
Click on any hostname to see more info about the system (e.g. compilers)      (*) as reported by 'uname -p', except on Windows and Mac OS X

INSTALL results for EpiTxDb on nebbiolo2


To the developers/maintainers of the EpiTxDb package:
- Please allow up to 24 hours (and sometimes 48 hours) for your latest push to git@git.bioconductor.org:packages/EpiTxDb.git to
reflect on this report. See How and When does the builder pull? When will my changes propagate? for more information.
- Make sure to use the following settings in order to reproduce any error or warning you see on this page.

raw results

Package 608/2118HostnameOS / ArchINSTALLBUILDCHECKBUILD BIN
EpiTxDb 1.9.0  (landing page)
Felix G.M. Ernst
Snapshot Date: 2022-06-26 14:00:03 -0400 (Sun, 26 Jun 2022)
git_url: https://git.bioconductor.org/packages/EpiTxDb
git_branch: master
git_last_commit: 781f4bd
git_last_commit_date: 2022-04-26 12:03:24 -0400 (Tue, 26 Apr 2022)
nebbiolo2Linux (Ubuntu 20.04.4 LTS) / x86_64  OK    OK    OK  UNNEEDED, same version is already published

Summary

Package: EpiTxDb
Version: 1.9.0
Command: /home/biocbuild/bbs-3.16-bioc/R/bin/R CMD INSTALL EpiTxDb
StartedAt: 2022-06-26 15:28:21 -0400 (Sun, 26 Jun 2022)
EndedAt: 2022-06-26 15:29:00 -0400 (Sun, 26 Jun 2022)
EllapsedTime: 38.5 seconds
RetCode: 0
Status:   OK  

Command output

##############################################################################
##############################################################################
###
### Running command:
###
###   /home/biocbuild/bbs-3.16-bioc/R/bin/R CMD INSTALL EpiTxDb
###
##############################################################################
##############################################################################


* installing to library ‘/home/biocbuild/bbs-3.16-bioc/R/library’
* installing *source* package ‘EpiTxDb’ ...
** using staged installation
** R
** data
** inst
** byte-compile and prepare package for lazy loading
** help
*** installing help indices
** building package indices
** installing vignettes
** testing if installed package can be loaded from temporary location
** testing if installed package can be loaded from final location
** testing if installed package keeps a record of temporary installation path
* DONE (EpiTxDb)