Back to Multiple platform build/check report for BioC 3.20:   simplified   long
ABCDEF[G]HIJKLMNOPQRSTUVWXYZ

This page was generated on 2024-07-18 11:41 -0400 (Thu, 18 Jul 2024).

HostnameOSArch (*)R versionInstalled pkgs
nebbiolo2Linux (Ubuntu 22.04.3 LTS)x86_644.4.1 (2024-06-14) -- "Race for Your Life" 4683
palomino8Windows Server 2022 Datacenterx644.4.1 (2024-06-14 ucrt) -- "Race for Your Life" 4379
lconwaymacOS 12.7.1 Montereyx86_644.4.1 (2024-06-14) -- "Race for Your Life" 4450
kjohnson3macOS 13.6.5 Venturaarm644.4.1 (2024-06-14) -- "Race for Your Life" 4399
Click on any hostname to see more info about the system (e.g. compilers)      (*) as reported by 'uname -p', except on Windows and Mac OS X

Package 789/2248HostnameOS / ArchINSTALLBUILDCHECKBUILD BIN
geneplotter 1.83.0  (landing page)
Bioconductor Package Maintainer
Snapshot Date: 2024-07-17 14:00 -0400 (Wed, 17 Jul 2024)
git_url: https://git.bioconductor.org/packages/geneplotter
git_branch: devel
git_last_commit: 7f7fe9b
git_last_commit_date: 2024-04-30 10:10:54 -0400 (Tue, 30 Apr 2024)
nebbiolo2Linux (Ubuntu 22.04.3 LTS) / x86_64  OK    OK    OK  UNNEEDED, same version is already published
palomino8Windows Server 2022 Datacenter / x64  OK    OK    OK    OK  UNNEEDED, same version is already published
lconwaymacOS 12.7.1 Monterey / x86_64  OK    OK    OK    OK  UNNEEDED, same version is already published
kjohnson3macOS 13.6.5 Ventura / arm64  OK    OK    OK    OK  UNNEEDED, same version is already published


CHECK results for geneplotter on lconway

To the developers/maintainers of the geneplotter package:
- Allow up to 24 hours (and sometimes 48 hours) for your latest push to git@git.bioconductor.org:packages/geneplotter.git to reflect on this report. See Troubleshooting Build Report for more information.
- Use the following Renviron settings to reproduce errors and warnings.
- If 'R CMD check' started to fail recently on the Linux builder(s) over a missing dependency, add the missing dependency to 'Suggests:' in your DESCRIPTION file. See Renviron.bioc for more information.

raw results


Summary

Package: geneplotter
Version: 1.83.0
Command: /Library/Frameworks/R.framework/Resources/bin/R CMD check --install=check:geneplotter.install-out.txt --library=/Library/Frameworks/R.framework/Resources/library --no-vignettes --timings geneplotter_1.83.0.tar.gz
StartedAt: 2024-07-17 21:26:15 -0400 (Wed, 17 Jul 2024)
EndedAt: 2024-07-17 21:28:44 -0400 (Wed, 17 Jul 2024)
EllapsedTime: 149.6 seconds
RetCode: 0
Status:   OK  
CheckDir: geneplotter.Rcheck
Warnings: 0

Command output

##############################################################################
##############################################################################
###
### Running command:
###
###   /Library/Frameworks/R.framework/Resources/bin/R CMD check --install=check:geneplotter.install-out.txt --library=/Library/Frameworks/R.framework/Resources/library --no-vignettes --timings geneplotter_1.83.0.tar.gz
###
##############################################################################
##############################################################################


* using log directory ‘/Users/biocbuild/bbs-3.20-bioc/meat/geneplotter.Rcheck’
* using R version 4.4.1 (2024-06-14)
* using platform: x86_64-apple-darwin20
* R was compiled by
    Apple clang version 14.0.0 (clang-1400.0.29.202)
    GNU Fortran (GCC) 12.2.0
* running under: macOS Monterey 12.7.1
* using session charset: UTF-8
* using option ‘--no-vignettes’
* checking for file ‘geneplotter/DESCRIPTION’ ... OK
* this is package ‘geneplotter’ version ‘1.83.0’
* checking package namespace information ... OK
* checking package dependencies ... OK
* checking if this is a source package ... OK
* checking if there is a namespace ... OK
* checking for hidden files and directories ... OK
* checking for portable file names ... OK
* checking for sufficient/correct file permissions ... OK
* checking whether package ‘geneplotter’ can be installed ... OK
* checking installed package size ... OK
* checking package directory ... OK
* checking ‘build’ directory ... OK
* checking DESCRIPTION meta-information ... NOTE
Malformed Description field: should contain one or more complete sentences.
* checking top-level files ... OK
* checking for left-over files ... OK
* checking index information ... OK
* checking package subdirectories ... OK
* checking code files for non-ASCII characters ... OK
* checking R files for syntax errors ... OK
* checking whether the package can be loaded ... OK
* checking whether the package can be loaded with stated dependencies ... OK
* checking whether the package can be unloaded cleanly ... OK
* checking whether the namespace can be loaded with stated dependencies ... OK
* checking whether the namespace can be unloaded cleanly ... OK
* checking whether startup messages can be suppressed ... OK
* checking dependencies in R code ... NOTE
'library' or 'require' call to ‘annotate’ which was already attached by Depends.
  Please remove these calls from your code.
'library' or 'require' call to ‘Rgraphviz’ in package code.
  Please use :: or requireNamespace() instead.
  See section 'Suggested packages' in the 'Writing R Extensions' manual.
Package in Depends field not imported from: ‘lattice’
  These packages need to be imported from (in the NAMESPACE file)
  for when this namespace is loaded but not attached.
* checking S3 generic/method consistency ... OK
* checking replacement functions ... OK
* checking foreign function calls ... OK
* checking R code for possible problems ... NOTE
plotExpressionGraph: no visible global function definition for
  ‘selectMethod’
Undefined global functions or variables:
  selectMethod
Consider adding
  importFrom("methods", "selectMethod")
to your NAMESPACE file (and ensure that your DESCRIPTION Imports field
contains 'methods').
* checking Rd files ... OK
* checking Rd metadata ... OK
* checking Rd cross-references ... NOTE
Unknown package ‘prada’ in Rd xrefs
* checking for missing documentation entries ... OK
* checking for code/documentation mismatches ... OK
* checking Rd \usage sections ... OK
* checking Rd contents ... OK
* checking for unstated dependencies in examples ... OK
* checking contents of ‘data’ directory ... OK
* checking data for non-ASCII characters ... OK
* checking data for ASCII and uncompressed saves ... OK
* checking sizes of PDF files under ‘inst/doc’ ... OK
* checking files in ‘vignettes’ ... OK
* checking examples ... OK
* checking for unstated dependencies in vignettes ... OK
* checking package vignettes ... OK
* checking running R code from vignettes ... SKIPPED
* checking re-building of vignette outputs ... SKIPPED
* checking PDF version of manual ... OK
* DONE

Status: 4 NOTEs
See
  ‘/Users/biocbuild/bbs-3.20-bioc/meat/geneplotter.Rcheck/00check.log’
for details.


Installation output

geneplotter.Rcheck/00install.out

##############################################################################
##############################################################################
###
### Running command:
###
###   /Library/Frameworks/R.framework/Resources/bin/R CMD INSTALL geneplotter
###
##############################################################################
##############################################################################


* installing to library ‘/Library/Frameworks/R.framework/Versions/4.4-x86_64/Resources/library’
* installing *source* package ‘geneplotter’ ...
** using staged installation
** R
** data
** inst
** byte-compile and prepare package for lazy loading
** help
*** installing help indices
** building package indices
** installing vignettes
** testing if installed package can be loaded from temporary location
** testing if installed package can be loaded from final location
** testing if installed package keeps a record of temporary installation path
* DONE (geneplotter)

Tests output


Example timings

geneplotter.Rcheck/geneplotter-Ex.timings

nameusersystemelapsed
GetColor0.0010.0010.002
Makesense1.7000.0841.819
alongChrom1.6720.0621.753
amplicon.plot0.0000.0010.000
cColor1.0370.0411.088
cPlot0.8880.0290.934
cScale0.8470.0240.879
eset133a0.1280.0050.133
groupedHeatmap0.0170.0030.020
histStack0.0140.0020.017
imageMap0.0330.0100.047
make.chromOrd0.1210.0140.135
multiecdf0.0430.0030.047
openHtmlPage0.0010.0010.001
plotChr1.0990.0331.145
plotExpressionGraph0.7370.0360.790
plotMA0.0180.0030.021
savepng0.0780.0100.095