Back to Build/check report for BioC 3.15
ABCDE[F]GHIJKLMNOPQRSTUVWXYZ

This page was generated on 2021-12-02 12:32:11 -0500 (Thu, 02 Dec 2021).

All results for package flowMeans

To the developers/maintainers of the flowMeans package:
- Please allow up to 24 hours (and sometimes 48 hours) for your latest push to git@git.bioconductor.org:packages/flowMeans.git to
reflect on this report. See How and When does the builder pull? When will my changes propagate? here for more information.
- Make sure to use the following settings in order to reproduce any error or warning you see on this page.

raw results

Package 658/2068HostnameOS / ArchINSTALLBUILDCHECKBUILD BIN
flowMeans 1.55.0  (landing page)
Nima Aghaeepour
Snapshot Date: 2021-12-01 15:06:11 -0500 (Wed, 01 Dec 2021)
git_url: https://git.bioconductor.org/packages/flowMeans
git_branch: master
git_last_commit: 7dffc9a
git_last_commit_date: 2021-10-26 11:55:58 -0500 (Tue, 26 Oct 2021)
nebbiolo1Linux (Ubuntu 20.04.3 LTS) / x86_64  OK    OK    OK  UNNEEDED, same version is already published

Results for Bioconductor software packages that depend directly on package flowMeans

QUICK STATSOS / ArchINSTALLBUILDCHECKBUILD BIN
nebbiolo1Linux (Ubuntu 20.04.3 LTS) / x86_64
002
002
0011
Package 1/2HostnameOS / ArchINSTALLBUILDCHECKBUILD BIN
CONFESS 1.23.0  (landing page)
Diana LOW
git_last_commit: 3f2aa3c
git_last_commit_date: 2021-10-26 12:26:56 -0500
nebbiolo1Linux (Ubuntu 20.04.3 LTS) / x86_64  OK    OK    WARNINGS  UNNEEDED, same version is already published
Package 2/2HostnameOS / ArchINSTALLBUILDCHECKBUILD BIN
optimalFlow 1.7.0  (landing page)
Hristo Inouzhe
git_last_commit: 3e7c594
git_last_commit_date: 2021-10-26 12:59:43 -0500
nebbiolo1Linux (Ubuntu 20.04.3 LTS) / x86_64  OK    OK    OK  UNNEEDED, same version is already published