Back to Multiple platform build/check report for BioC 3.12
ABCDEFGHIJKLMNOPQ[R]STUVWXYZ

Multiple platform build/check report for BioC 3.12

Results for REBET

This page was generated on 2020-10-27 11:49:46 -0400 (Tue, 27 Oct 2020).

Package 1485/1974HostnameOS / ArchINSTALLBUILDCHECKBUILD BIN
REBET 1.7.0
Bill Wheeler
Snapshot Date: 2020-10-26 14:42:55 -0400 (Mon, 26 Oct 2020)
URL: https://git.bioconductor.org/packages/REBET
Branch: master
Last Commit: be9c54d
Last Changed Date: 2020-04-27 15:18:55 -0400 (Mon, 27 Apr 2020)
malbec1 Linux (Ubuntu 18.04.4 LTS) / x86_64  OK  OK  OK UNNEEDED, same version exists in internal repository
nebbiolo1 Linux (Ubuntu 20.04.1 LTS) / x86_64  OK  OK  OK 
tokay1 Windows Server 2012 R2 Standard / x64  OK  OK  OK  OK UNNEEDED, same version exists in internal repository
riesling1 Windows Server 2019 Standard / x64  OK  OK  OK  OK 
merida1 macOS 10.14.6 Mojave / x86_64  OK  OK  OK  OK UNNEEDED, same version exists in internal repository