Back to Multiple platform build/check report for BioC 3.16
A[B]CDEFGHIJKLMNOPQRSTUVWXYZ

This page was generated on 2022-08-15 11:03:53 -0400 (Mon, 15 Aug 2022).

HostnameOSArch (*)R versionInstalled pkgs
nebbiolo2Linux (Ubuntu 20.04.4 LTS)x86_644.2.1 (2022-06-23) -- "Funny-Looking Kid" 4378
palomino4Windows Server 2022 Datacenterx644.2.1 (2022-06-23 ucrt) -- "Funny-Looking Kid" 4161
lconwaymacOS 12.2.1 Montereyx86_644.2.1 Patched (2022-07-09 r82577) -- "Funny-Looking Kid" 4169
Click on any hostname to see more info about the system (e.g. compilers)      (*) as reported by 'uname -p', except on Windows and Mac OS X

All results for package baySeq


To the developers/maintainers of the baySeq package:
- Please allow up to 24 hours (and sometimes 48 hours) for your latest push to git@git.bioconductor.org:packages/baySeq.git to
reflect on this report. See How and When does the builder pull? When will my changes propagate? for more information.
- Make sure to use the following settings in order to reproduce any error or warning you see on this page.

raw results

Package 127/2140HostnameOS / ArchINSTALLBUILDCHECKBUILD BIN
baySeq 2.31.0  (landing page)
Thomas J. Hardcastle
Snapshot Date: 2022-08-14 14:00:05 -0400 (Sun, 14 Aug 2022)
git_url: https://git.bioconductor.org/packages/baySeq
git_branch: master
git_last_commit: c0f1a83
git_last_commit_date: 2022-04-26 11:03:44 -0400 (Tue, 26 Apr 2022)
nebbiolo2Linux (Ubuntu 20.04.4 LTS) / x86_64  OK    OK    OK  UNNEEDED, same version is already published
palomino4Windows Server 2022 Datacenter / x64  OK    OK    OK    OK  UNNEEDED, same version is already published
lconwaymacOS 12.2.1 Monterey / x86_64  OK    OK    OK    OK  UNNEEDED, same version is already published

Results for Bioconductor software packages that depend directly on package baySeq

QUICK STATSOS / ArchINSTALLBUILDCHECKBUILD BIN
nebbiolo2Linux (Ubuntu 20.04.4 LTS) / x86_64
007
007
0124
palomino4Windows Server 2022 Datacenter / x64
007
007
0124
007
lconwaymacOS 12.2.1 Monterey / x86_64
016
016
0024
006
Package 1/7HostnameOS / ArchINSTALLBUILDCHECKBUILD BIN
clusterSeq 1.21.0  (landing page)
Thomas J. Hardcastle
git_last_commit: 65224d9
git_last_commit_date: 2022-04-26 11:38:04 -0400
nebbiolo2Linux (Ubuntu 20.04.4 LTS) / x86_64  OK    OK    OK  UNNEEDED, same version is already published
palomino4Windows Server 2022 Datacenter / x64  OK    OK    OK    OK  UNNEEDED, same version is already published
lconwaymacOS 12.2.1 Monterey / x86_64  OK    OK    OK    OK  UNNEEDED, same version is already published
Package 2/7HostnameOS / ArchINSTALLBUILDCHECKBUILD BIN
metaseqR2 1.9.2  (landing page)
Panagiotis Moulos
git_last_commit: 01daf91
git_last_commit_date: 2022-07-08 15:44:29 -0400
nebbiolo2Linux (Ubuntu 20.04.4 LTS) / x86_64  OK    OK    WARNINGS  UNNEEDED, same version is already published
palomino4Windows Server 2022 Datacenter / x64  OK    OK    WARNINGS    OK  UNNEEDED, same version is already published
lconwaymacOS 12.2.1 Monterey / x86_64  OK    OK    WARNINGS    OK  UNNEEDED, same version is already published
Package 3/7HostnameOS / ArchINSTALLBUILDCHECKBUILD BIN
Rcade 1.39.1  (landing page)
Jonathan Cairns
git_last_commit: e9c9120
git_last_commit_date: 2022-05-10 13:48:38 -0400
nebbiolo2Linux (Ubuntu 20.04.4 LTS) / x86_64  OK    OK    ERROR  
palomino4Windows Server 2022 Datacenter / x64  OK    OK    ERROR    OK  
lconwaymacOS 12.2.1 Monterey / x86_64  ERROR    ERROR  skippedskipped
Package 4/7HostnameOS / ArchINSTALLBUILDCHECKBUILD BIN
riboSeqR 1.31.0  (landing page)
Thomas J. Hardcastle
git_last_commit: 8f94a0e
git_last_commit_date: 2022-04-26 11:20:16 -0400
nebbiolo2Linux (Ubuntu 20.04.4 LTS) / x86_64  OK    OK    OK  UNNEEDED, same version is already published
palomino4Windows Server 2022 Datacenter / x64  OK    OK    OK    OK  UNNEEDED, same version is already published
lconwaymacOS 12.2.1 Monterey / x86_64  OK    OK    OK    OK  UNNEEDED, same version is already published
Package 5/7HostnameOS / ArchINSTALLBUILDCHECKBUILD BIN
segmentSeq 2.31.0  (landing page)
Thomas J. Hardcastle
git_last_commit: 5751cb5
git_last_commit_date: 2022-04-26 11:04:22 -0400
nebbiolo2Linux (Ubuntu 20.04.4 LTS) / x86_64  OK    OK    OK  UNNEEDED, same version is already published
palomino4Windows Server 2022 Datacenter / x64  OK    OK    OK    OK  UNNEEDED, same version is already published
lconwaymacOS 12.2.1 Monterey / x86_64  OK    OK    OK    OK  UNNEEDED, same version is already published
Package 6/7HostnameOS / ArchINSTALLBUILDCHECKBUILD BIN
srnadiff 1.17.0  (landing page)
Zytnicki Matthias
git_last_commit: ae605e1
git_last_commit_date: 2022-04-26 11:46:44 -0400
nebbiolo2Linux (Ubuntu 20.04.4 LTS) / x86_64  OK    OK    WARNINGS  UNNEEDED, same version is already published
palomino4Windows Server 2022 Datacenter / x64  OK    OK    WARNINGS    OK  UNNEEDED, same version is already published
lconwaymacOS 12.2.1 Monterey / x86_64  OK    OK    WARNINGS    OK  UNNEEDED, same version is already published
Package 7/7HostnameOS / ArchINSTALLBUILDCHECKBUILD BIN
TCC 1.37.0  (landing page)
Jianqiang Sun
git_last_commit: d1ce08f
git_last_commit_date: 2022-04-26 11:16:05 -0400
nebbiolo2Linux (Ubuntu 20.04.4 LTS) / x86_64  OK    OK    OK  UNNEEDED, same version is already published
palomino4Windows Server 2022 Datacenter / x64  OK    OK    OK    OK  UNNEEDED, same version is already published
lconwaymacOS 12.2.1 Monterey / x86_64  OK    OK    OK    OK  UNNEEDED, same version is already published