Back to Multiple platform build/check report for BioC 3.18:   simplified   long
ABCDEFGHIJKLMNOP[Q]RSTUVWXYZ

This page was generated on 2023-06-07 11:04:58 -0400 (Wed, 07 Jun 2023).

HostnameOSArch (*)R versionInstalled pkgs
nebbiolo2Linux (Ubuntu 22.04.2 LTS)x86_644.3.0 RC (2023-04-18 r84287) -- "Already Tomorrow" 4598
palomino4Windows Server 2022 Datacenterx644.3.0 RC (2023-04-18 r84287 ucrt) -- "Already Tomorrow" 4347
lconwaymacOS 12.6.5 Montereyx86_644.3.0 RC (2023-04-13 r84266) -- "Already Tomorrow" 4354
Click on any hostname to see more info about the system (e.g. compilers)      (*) as reported by 'uname -p', except on Windows and Mac OS X

All results for package qvalue


To the developers/maintainers of the qvalue package:
- Allow up to 24 hours (and sometimes 48 hours) for your latest push to git@git.bioconductor.org:packages/qvalue.git to reflect on this report. See Troubleshooting Build Report for more information.
- Use the following Renviron settings to reproduce errors and warnings.
- If 'R CMD check' started to fail recently on the Linux builder(s) over a missing dependency, add the missing dependency to 'Suggests:' in your DESCRIPTION file. See Renviron.bioc for more information.

raw results

Package 1589/2199HostnameOS / ArchINSTALLBUILDCHECKBUILD BIN
qvalue 2.33.0  (landing page)
John D. Storey , Andrew J. Bass
Snapshot Date: 2023-06-06 14:00:07 -0400 (Tue, 06 Jun 2023)
git_url: https://git.bioconductor.org/packages/qvalue
git_branch: devel
git_last_commit: 5430b4a
git_last_commit_date: 2023-04-25 09:39:50 -0400 (Tue, 25 Apr 2023)
nebbiolo2Linux (Ubuntu 22.04.2 LTS) / x86_64  OK    OK    OK  UNNEEDED, same version is already published
palomino4Windows Server 2022 Datacenter / x64  OK    OK    OK    OK  UNNEEDED, same version is already published
lconwaymacOS 12.6.5 Monterey / x86_64  OK    OK    OK    OK  UNNEEDED, same version is already published

Results for Bioconductor software packages that depend directly on package qvalue

QUICK STATSOS / ArchINSTALLBUILDCHECKBUILD BIN
nebbiolo2Linux (Ubuntu 22.04.2 LTS) / x86_64
0038
0038
001127
palomino4Windows Server 2022 Datacenter / x64
0038
1037
00730
0037
lconwaymacOS 12.6.5 Monterey / x86_64
0038
0038
00929
0038
Package 1/38HostnameOS / ArchINSTALLBUILDCHECKBUILD BIN
Anaquin 2.25.0  (landing page)
Ted Wong
git_last_commit: d93d3c3
git_last_commit_date: 2023-04-25 10:49:08 -0400
nebbiolo2Linux (Ubuntu 22.04.2 LTS) / x86_64  OK    OK    OK  UNNEEDED, same version is already published
palomino4Windows Server 2022 Datacenter / x64  OK    OK    OK    OK  UNNEEDED, same version is already published
lconwaymacOS 12.6.5 Monterey / x86_64  OK    OK    OK    OK  UNNEEDED, same version is already published
Package 2/38HostnameOS / ArchINSTALLBUILDCHECKBUILD BIN
anota 1.49.0  (landing page)
Ola Larsson
git_last_commit: bf9cbb9
git_last_commit_date: 2023-04-25 10:19:42 -0400
nebbiolo2Linux (Ubuntu 22.04.2 LTS) / x86_64  OK    OK    OK  UNNEEDED, same version is already published
palomino4Windows Server 2022 Datacenter / x64  OK    OK    OK    OK  UNNEEDED, same version is already published
lconwaymacOS 12.6.5 Monterey / x86_64  OK    OK    OK    OK  UNNEEDED, same version is already published
Package 3/38HostnameOS / ArchINSTALLBUILDCHECKBUILD BIN
anota2seq 1.23.0  (landing page)
Christian Oertlin , Julie Lorent
git_last_commit: 131d9bc
git_last_commit_date: 2023-04-25 10:57:11 -0400
nebbiolo2Linux (Ubuntu 22.04.2 LTS) / x86_64  OK    OK    WARNINGS  UNNEEDED, same version is already published
palomino4Windows Server 2022 Datacenter / x64  OK    OK    OK    OK  UNNEEDED, same version is already published
lconwaymacOS 12.6.5 Monterey / x86_64  OK    OK    OK    OK  UNNEEDED, same version is already published
Package 4/38HostnameOS / ArchINSTALLBUILDCHECKBUILD BIN
ChAMP 2.31.0  (landing page)
Yuan Tian
git_last_commit: b9f4dfc
git_last_commit_date: 2023-04-25 10:29:24 -0400
nebbiolo2Linux (Ubuntu 22.04.2 LTS) / x86_64  OK    OK    WARNINGS  NO, package depends on 'DMRcate' which is not available
palomino4Windows Server 2022 Datacenter / x64  OK    OK    WARNINGS    OK  UNNEEDED, same version is already published
lconwaymacOS 12.6.5 Monterey / x86_64  OK    OK    WARNINGS    OK  UNNEEDED, same version is already published
Package 5/38HostnameOS / ArchINSTALLBUILDCHECKBUILD BIN
clusterProfiler 4.9.0  (landing page)
Guangchuang Yu
git_last_commit: ac080e0
git_last_commit_date: 2023-05-03 03:20:18 -0400
nebbiolo2Linux (Ubuntu 22.04.2 LTS) / x86_64  OK    OK    OK  UNNEEDED, same version is already published
palomino4Windows Server 2022 Datacenter / x64  OK    OK    OK    OK  UNNEEDED, same version is already published
lconwaymacOS 12.6.5 Monterey / x86_64  OK    OK    OK    OK  UNNEEDED, same version is already published
Package 6/38HostnameOS / ArchINSTALLBUILDCHECKBUILD BIN
CTSV 1.3.0  (landing page)
Jinge Yu Developer
git_last_commit: 13950bf
git_last_commit_date: 2023-04-25 11:38:47 -0400
nebbiolo2Linux (Ubuntu 22.04.2 LTS) / x86_64  OK    OK    OK  UNNEEDED, same version is already published
palomino4Windows Server 2022 Datacenter / x64  OK    OK    OK    OK  UNNEEDED, same version is already published
lconwaymacOS 12.6.5 Monterey / x86_64  OK    OK    OK    OK  UNNEEDED, same version is already published
Package 7/38HostnameOS / ArchINSTALLBUILDCHECKBUILD BIN
DEGseq 1.55.0  (landing page)
Likun Wang
git_last_commit: 79b2e9b
git_last_commit_date: 2023-04-25 09:49:52 -0400
nebbiolo2Linux (Ubuntu 22.04.2 LTS) / x86_64  OK    OK    WARNINGS  UNNEEDED, same version is already published
palomino4Windows Server 2022 Datacenter / x64  OK    OK    OK    OK  UNNEEDED, same version is already published
lconwaymacOS 12.6.5 Monterey / x86_64  OK    OK    WARNINGS    OK  UNNEEDED, same version is already published
Package 8/38HostnameOS / ArchINSTALLBUILDCHECKBUILD BIN
derfinder 1.35.0  (landing page)
Leonardo Collado-Torres
git_last_commit: aae704b
git_last_commit_date: 2023-05-07 00:54:26 -0400
nebbiolo2Linux (Ubuntu 22.04.2 LTS) / x86_64  OK    OK    OK  UNNEEDED, same version is already published
palomino4Windows Server 2022 Datacenter / x64  OK    OK    OK    OK  UNNEEDED, same version is already published
lconwaymacOS 12.6.5 Monterey / x86_64  OK    OK    OK    OK  UNNEEDED, same version is already published
Package 9/38HostnameOS / ArchINSTALLBUILDCHECKBUILD BIN
DOSE 3.27.1  (landing page)
Guangchuang Yu
git_last_commit: 37e558a
git_last_commit_date: 2023-05-03 03:24:20 -0400
nebbiolo2Linux (Ubuntu 22.04.2 LTS) / x86_64  OK    OK    OK  UNNEEDED, same version is already published
palomino4Windows Server 2022 Datacenter / x64  OK    OK    OK    OK  UNNEEDED, same version is already published
lconwaymacOS 12.6.5 Monterey / x86_64  OK    OK    OK    OK  UNNEEDED, same version is already published
Package 10/38HostnameOS / ArchINSTALLBUILDCHECKBUILD BIN
DrugVsDisease 2.43.0  (landing page)
j. Saez-Rodriguez
git_last_commit: 526284a
git_last_commit_date: 2023-04-25 10:25:32 -0400
nebbiolo2Linux (Ubuntu 22.04.2 LTS) / x86_64  OK    OK    OK  NO, package depends on 'affy' which is not available
palomino4Windows Server 2022 Datacenter / x64  OK    OK    OK    OK  UNNEEDED, same version is already published
lconwaymacOS 12.6.5 Monterey / x86_64  OK    OK    OK    OK  UNNEEDED, same version is already published
Package 11/38HostnameOS / ArchINSTALLBUILDCHECKBUILD BIN
edge 2.33.0  (landing page)
John D. Storey , Andrew J. Bass
git_last_commit: a18c376
git_last_commit_date: 2023-04-25 10:39:41 -0400
nebbiolo2Linux (Ubuntu 22.04.2 LTS) / x86_64  OK    OK    WARNINGS  UNNEEDED, same version is already published
palomino4Windows Server 2022 Datacenter / x64  OK    OK    WARNINGS    OK  UNNEEDED, same version is already published
lconwaymacOS 12.6.5 Monterey / x86_64  OK    OK    WARNINGS    OK  UNNEEDED, same version is already published
Package 12/38HostnameOS / ArchINSTALLBUILDCHECKBUILD BIN
erccdashboard 1.35.0  (landing page)
Sarah Munro
git_last_commit: a4103c4
git_last_commit_date: 2023-04-25 10:34:01 -0400
nebbiolo2Linux (Ubuntu 22.04.2 LTS) / x86_64  OK    OK    OK  UNNEEDED, same version is already published
palomino4Windows Server 2022 Datacenter / x64  OK    OK    OK    OK  UNNEEDED, same version is already published
lconwaymacOS 12.6.5 Monterey / x86_64  OK    OK    OK    OK  UNNEEDED, same version is already published
Package 13/38HostnameOS / ArchINSTALLBUILDCHECKBUILD BIN
EventPointer 3.9.0  (landing page)
Juan A. Ferrer-Bonsoms
git_last_commit: 1c1a467
git_last_commit_date: 2023-04-25 10:52:37 -0400
nebbiolo2Linux (Ubuntu 22.04.2 LTS) / x86_64  OK    OK    OK  UNNEEDED, same version is already published
palomino4Windows Server 2022 Datacenter / x64  OK    TIMEOUT  skippedskipped
lconwaymacOS 12.6.5 Monterey / x86_64  OK    OK    OK    OK  UNNEEDED, same version is already published
Package 14/38HostnameOS / ArchINSTALLBUILDCHECKBUILD BIN
FindIT2 1.7.0  (landing page)
Guandong Shang
git_last_commit: 59594d0
git_last_commit_date: 2023-04-25 11:31:01 -0400
nebbiolo2Linux (Ubuntu 22.04.2 LTS) / x86_64  OK    OK    OK  UNNEEDED, same version is already published
palomino4Windows Server 2022 Datacenter / x64  OK    OK    OK    OK  UNNEEDED, same version is already published
lconwaymacOS 12.6.5 Monterey / x86_64  OK    OK    OK    OK  UNNEEDED, same version is already published
Package 15/38HostnameOS / ArchINSTALLBUILDCHECKBUILD BIN
fishpond 2.7.0  (landing page)
Michael Love
git_last_commit: d3f7fb4
git_last_commit_date: 2023-04-25 11:08:06 -0400
nebbiolo2Linux (Ubuntu 22.04.2 LTS) / x86_64  OK    OK    OK  UNNEEDED, same version is already published
palomino4Windows Server 2022 Datacenter / x64  OK    OK    OK    OK  UNNEEDED, same version is already published
lconwaymacOS 12.6.5 Monterey / x86_64  OK    OK    OK    OK  UNNEEDED, same version is already published
Package 16/38HostnameOS / ArchINSTALLBUILDCHECKBUILD BIN
InTAD 1.21.0  (landing page)
Konstantin Okonechnikov
git_last_commit: 3a490da
git_last_commit_date: 2023-04-25 11:00:59 -0400
nebbiolo2Linux (Ubuntu 22.04.2 LTS) / x86_64  OK    OK    OK  UNNEEDED, same version is already published
palomino4Windows Server 2022 Datacenter / x64  OK    OK    OK    OK  UNNEEDED, same version is already published
lconwaymacOS 12.6.5 Monterey / x86_64  OK    OK    OK    OK  UNNEEDED, same version is already published
Package 17/38HostnameOS / ArchINSTALLBUILDCHECKBUILD BIN
metaseqR2 1.13.0  (landing page)
Panagiotis Moulos
git_last_commit: 229e893
git_last_commit_date: 2023-04-25 11:18:06 -0400
nebbiolo2Linux (Ubuntu 22.04.2 LTS) / x86_64  OK    OK    OK  NO, package depends on 'baySeq' which is not available
palomino4Windows Server 2022 Datacenter / x64  OK    OK    OK    OK  NO, package depends on 'baySeq' which is not available
lconwaymacOS 12.6.5 Monterey / x86_64  OK    OK    OK    OK  NO, package depends on 'baySeq' which is not available
Package 18/38HostnameOS / ArchINSTALLBUILDCHECKBUILD BIN
methylKit 1.27.1  (landing page)
Altuna Akalin , Alexander Blume
git_last_commit: 388770d
git_last_commit_date: 2023-04-26 09:43:31 -0400
nebbiolo2Linux (Ubuntu 22.04.2 LTS) / x86_64  OK    OK    WARNINGS  UNNEEDED, same version is already published
palomino4Windows Server 2022 Datacenter / x64  OK    OK    OK    OK  UNNEEDED, same version is already published
lconwaymacOS 12.6.5 Monterey / x86_64  OK    OK    WARNINGS    OK  UNNEEDED, same version is already published
Package 19/38HostnameOS / ArchINSTALLBUILDCHECKBUILD BIN
MOMA 1.13.0  (landing page)
Sunny Jones
git_last_commit: cf90717
git_last_commit_date: 2023-04-25 11:17:48 -0400
nebbiolo2Linux (Ubuntu 22.04.2 LTS) / x86_64  OK    OK    OK  UNNEEDED, same version is already published
palomino4Windows Server 2022 Datacenter / x64  OK    OK    OK    OK  UNNEEDED, same version is already published
lconwaymacOS 12.6.5 Monterey / x86_64  OK    OK    OK    OK  UNNEEDED, same version is already published
Package 20/38HostnameOS / ArchINSTALLBUILDCHECKBUILD BIN
msmsTests 1.39.0  (landing page)
Josep Gregori i Font
git_last_commit: 6b28dad
git_last_commit_date: 2023-04-25 10:28:05 -0400
nebbiolo2Linux (Ubuntu 22.04.2 LTS) / x86_64  OK    OK    WARNINGS  NO, package depends on 'MSnbase' which is not available
palomino4Windows Server 2022 Datacenter / x64  OK    OK    OK    OK  UNNEEDED, same version is already published
lconwaymacOS 12.6.5 Monterey / x86_64  OK    OK    OK    OK  UNNEEDED, same version is already published
Package 21/38HostnameOS / ArchINSTALLBUILDCHECKBUILD BIN
MWASTools 1.25.0  (landing page)
Andrea Rodriguez-Martinez , Rafael Ayala
git_last_commit: 57c5a3b
git_last_commit_date: 2023-04-25 10:51:10 -0400
nebbiolo2Linux (Ubuntu 22.04.2 LTS) / x86_64  OK    OK    OK  UNNEEDED, same version is already published
palomino4Windows Server 2022 Datacenter / x64  OK    OK    OK    OK  UNNEEDED, same version is already published
lconwaymacOS 12.6.5 Monterey / x86_64  OK    OK    OK    OK  UNNEEDED, same version is already published
Package 22/38HostnameOS / ArchINSTALLBUILDCHECKBUILD BIN
netresponse 1.61.0  (landing page)
Leo Lahti
git_last_commit: e2e548e
git_last_commit_date: 2023-04-25 10:18:03 -0400
nebbiolo2Linux (Ubuntu 22.04.2 LTS) / x86_64  OK    OK    OK  UNNEEDED, same version is already published
palomino4Windows Server 2022 Datacenter / x64  OK    OK    OK    OK  NO, package depends on 'BiocStyle' which is not available
lconwaymacOS 12.6.5 Monterey / x86_64  OK    OK    OK    OK  UNNEEDED, same version is already published
Package 23/38HostnameOS / ArchINSTALLBUILDCHECKBUILD BIN
normr 1.27.0  (landing page)
Johannes Helmuth
git_last_commit: 4fc85be
git_last_commit_date: 2023-04-25 10:47:47 -0400
nebbiolo2Linux (Ubuntu 22.04.2 LTS) / x86_64  OK    OK    WARNINGS  UNNEEDED, same version is already published
palomino4Windows Server 2022 Datacenter / x64  OK    OK    WARNINGS    OK  UNNEEDED, same version is already published
lconwaymacOS 12.6.5 Monterey / x86_64  OK    OK    WARNINGS    OK  UNNEEDED, same version is already published
Package 24/38HostnameOS / ArchINSTALLBUILDCHECKBUILD BIN
OPWeight 1.23.0  (landing page)
Mohamad Hasan
git_last_commit: cacf30f
git_last_commit_date: 2023-04-25 10:55:02 -0400
nebbiolo2Linux (Ubuntu 22.04.2 LTS) / x86_64  OK    OK    OK  UNNEEDED, same version is already published
palomino4Windows Server 2022 Datacenter / x64  OK    OK    OK    OK  UNNEEDED, same version is already published
lconwaymacOS 12.6.5 Monterey / x86_64  OK    OK    OK    OK  UNNEEDED, same version is already published
Package 25/38HostnameOS / ArchINSTALLBUILDCHECKBUILD BIN
PAST 1.17.0  (landing page)
Thrash Adam
git_last_commit: 96023bf
git_last_commit_date: 2023-04-25 11:10:31 -0400
nebbiolo2Linux (Ubuntu 22.04.2 LTS) / x86_64  OK    OK    WARNINGS  UNNEEDED, same version is already published
palomino4Windows Server 2022 Datacenter / x64  OK    OK    WARNINGS    OK  UNNEEDED, same version is already published
lconwaymacOS 12.6.5 Monterey / x86_64  OK    OK    WARNINGS    OK  UNNEEDED, same version is already published
Package 26/38HostnameOS / ArchINSTALLBUILDCHECKBUILD BIN
r3Cseq 1.47.0  (landing page)
Supat Thongjuea or
git_last_commit: b249bbb
git_last_commit_date: 2023-04-25 10:21:25 -0400
nebbiolo2Linux (Ubuntu 22.04.2 LTS) / x86_64  OK    OK    OK  UNNEEDED, same version is already published
palomino4Windows Server 2022 Datacenter / x64  OK    OK    OK    OK  UNNEEDED, same version is already published
lconwaymacOS 12.6.5 Monterey / x86_64  OK    OK    OK    OK  UNNEEDED, same version is already published
Package 27/38HostnameOS / ArchINSTALLBUILDCHECKBUILD BIN
RiboDiPA 1.9.0  (landing page)
Ji-Ping Wang
git_last_commit: a2ab558
git_last_commit_date: 2023-04-25 11:26:15 -0400
nebbiolo2Linux (Ubuntu 22.04.2 LTS) / x86_64  OK    OK    OK  UNNEEDED, same version is already published
palomino4Windows Server 2022 Datacenter / x64  OK    OK    OK    OK  UNNEEDED, same version is already published
lconwaymacOS 12.6.5 Monterey / x86_64  OK    OK    OK    OK  UNNEEDED, same version is already published
Package 28/38HostnameOS / ArchINSTALLBUILDCHECKBUILD BIN
RNAsense 1.15.0  (landing page)
Marcus Rosenblatt
git_last_commit: e595741
git_last_commit_date: 2023-04-25 11:14:03 -0400
nebbiolo2Linux (Ubuntu 22.04.2 LTS) / x86_64  OK    OK    WARNINGS  UNNEEDED, same version is already published
palomino4Windows Server 2022 Datacenter / x64  OK    OK    WARNINGS    OK  UNNEEDED, same version is already published
lconwaymacOS 12.6.5 Monterey / x86_64  OK    OK    WARNINGS    OK  UNNEEDED, same version is already published
Package 29/38HostnameOS / ArchINSTALLBUILDCHECKBUILD BIN
Rnits 1.35.0  (landing page)
Dipen P. Sangurdekar
git_last_commit: 19793e9
git_last_commit_date: 2023-04-25 10:34:15 -0400
nebbiolo2Linux (Ubuntu 22.04.2 LTS) / x86_64  OK    OK    WARNINGS  NO, package depends on 'affy' which is not available
palomino4Windows Server 2022 Datacenter / x64  OK    OK    WARNINGS    OK  UNNEEDED, same version is already published
lconwaymacOS 12.6.5 Monterey / x86_64  OK    OK    WARNINGS    OK  UNNEEDED, same version is already published
Package 30/38HostnameOS / ArchINSTALLBUILDCHECKBUILD BIN
RolDE 1.5.0  (landing page)
Tommi Valikangas
git_last_commit: b31dcd0
git_last_commit_date: 2023-04-25 11:37:31 -0400
nebbiolo2Linux (Ubuntu 22.04.2 LTS) / x86_64  OK    OK    OK  UNNEEDED, same version is already published
palomino4Windows Server 2022 Datacenter / x64  OK    OK    OK    OK  UNNEEDED, same version is already published
lconwaymacOS 12.6.5 Monterey / x86_64  OK    OK    OK    OK  UNNEEDED, same version is already published
Package 31/38HostnameOS / ArchINSTALLBUILDCHECKBUILD BIN
SDAMS 1.21.0  (landing page)
Yuntong Li
git_last_commit: f7683d0
git_last_commit_date: 2023-04-25 11:01:12 -0400
nebbiolo2Linux (Ubuntu 22.04.2 LTS) / x86_64  OK    OK    OK  UNNEEDED, same version is already published
palomino4Windows Server 2022 Datacenter / x64  OK    OK    OK    OK  UNNEEDED, same version is already published
lconwaymacOS 12.6.5 Monterey / x86_64  OK    OK    OK    OK  UNNEEDED, same version is already published
Package 32/38HostnameOS / ArchINSTALLBUILDCHECKBUILD BIN
sights 1.27.0  (landing page)
Elika Garg
git_last_commit: 47503bc
git_last_commit_date: 2023-04-25 10:47:34 -0400
nebbiolo2Linux (Ubuntu 22.04.2 LTS) / x86_64  OK    OK    OK  UNNEEDED, same version is already published
palomino4Windows Server 2022 Datacenter / x64  OK    OK    OK    OK  UNNEEDED, same version is already published
lconwaymacOS 12.6.5 Monterey / x86_64  OK    OK    OK    OK  UNNEEDED, same version is already published
Package 33/38HostnameOS / ArchINSTALLBUILDCHECKBUILD BIN
signatureSearch 1.15.0  (landing page)
Brendan Gongol
git_last_commit: 9adea8b
git_last_commit_date: 2023-04-25 11:14:11 -0400
nebbiolo2Linux (Ubuntu 22.04.2 LTS) / x86_64  OK    OK    OK  UNNEEDED, same version is already published
palomino4Windows Server 2022 Datacenter / x64  OK    OK    OK    OK  UNNEEDED, same version is already published
lconwaymacOS 12.6.5 Monterey / x86_64  OK    OK    OK    OK  UNNEEDED, same version is already published
Package 34/38HostnameOS / ArchINSTALLBUILDCHECKBUILD BIN
subSeq 1.31.0  (landing page)
Andrew J. Bass , John D. Storey
git_last_commit: af17c5c
git_last_commit_date: 2023-04-25 10:42:33 -0400
nebbiolo2Linux (Ubuntu 22.04.2 LTS) / x86_64  OK    OK    OK  UNNEEDED, same version is already published
palomino4Windows Server 2022 Datacenter / x64  OK    OK    OK    OK  UNNEEDED, same version is already published
lconwaymacOS 12.6.5 Monterey / x86_64  OK    OK    OK    OK  UNNEEDED, same version is already published
Package 35/38HostnameOS / ArchINSTALLBUILDCHECKBUILD BIN
synapter 2.25.0  (landing page)
Laurent Gatto
git_last_commit: 26ad5c6
git_last_commit_date: 2023-04-25 10:23:28 -0400
nebbiolo2Linux (Ubuntu 22.04.2 LTS) / x86_64  OK    OK    OK  NO, package depends on 'MSnbase' which is not available
palomino4Windows Server 2022 Datacenter / x64  OK    OK    OK    OK  UNNEEDED, same version is already published
lconwaymacOS 12.6.5 Monterey / x86_64  OK    OK    OK    OK  UNNEEDED, same version is already published
Package 36/38HostnameOS / ArchINSTALLBUILDCHECKBUILD BIN
trigger 1.47.0  (landing page)
John D. Storey
git_last_commit: c8d87fb
git_last_commit_date: 2023-04-25 10:21:49 -0400
nebbiolo2Linux (Ubuntu 22.04.2 LTS) / x86_64  OK    OK    OK  UNNEEDED, same version is already published
palomino4Windows Server 2022 Datacenter / x64  OK    OK    OK    OK  UNNEEDED, same version is already published
lconwaymacOS 12.6.5 Monterey / x86_64  OK    OK    OK    OK  UNNEEDED, same version is already published
Package 37/38HostnameOS / ArchINSTALLBUILDCHECKBUILD BIN
vsclust 1.3.0  (landing page)
Veit Schwaemmle
git_last_commit: 9ba5131
git_last_commit_date: 2023-05-24 10:16:29 -0400
nebbiolo2Linux (Ubuntu 22.04.2 LTS) / x86_64  OK    OK    WARNINGS  UNNEEDED, same version is already published
palomino4Windows Server 2022 Datacenter / x64  OK    OK    WARNINGS    OK  UNNEEDED, same version is already published
lconwaymacOS 12.6.5 Monterey / x86_64  OK    OK    WARNINGS    OK  UNNEEDED, same version is already published
Package 38/38HostnameOS / ArchINSTALLBUILDCHECKBUILD BIN
webbioc 1.73.0  (landing page)
Colin A. Smith
git_last_commit: 7557ac1
git_last_commit_date: 2023-04-25 09:39:33 -0400
nebbiolo2Linux (Ubuntu 22.04.2 LTS) / x86_64  OK    OK    OK  NO, package depends on 'affy' which is not available
palomino4Windows Server 2022 Datacenter / x64  OK    OK    OK    OK  UNNEEDED, same version is already published
lconwaymacOS 12.6.5 Monterey / x86_64  OK    OK    OK    OK  UNNEEDED, same version is already published