Back to Multiple platform build/check report for BioC 3.13
ABCD[E]FGHIJKLMNOPQRSTUVWXYZ

Multiple platform build/check report for BioC 3.13

All results for package EGSEA

This page was generated on 2021-04-15 12:55:36 -0400 (Thu, 15 Apr 2021).

Package 542/1981HostnameOS / ArchINSTALLBUILDCHECKBUILD BIN
EGSEA 1.19.1  (landing page)
Monther Alhamdoosh
Snapshot Date: 2021-04-14 14:50:12 -0400 (Wed, 14 Apr 2021)
URL: https://git.bioconductor.org/packages/EGSEA
Branch: master
Last Commit: 9e8831b
Last Changed Date: 2021-01-27 17:49:31 -0400 (Wed, 27 Jan 2021)
nebbiolo1Linux (Ubuntu 20.04.2 LTS) / x86_64  OK    OK    OK  UNNEEDED, same version exists in internal repository
riesling1Windows Server 2019 Standard / x64  OK    OK    WARNINGS    OK  UNNEEDED, same version exists in internal repository
machv2macOS 10.14.6 Mojave / x86_64  OK    OK    OK    OK  UNNEEDED, same version exists in internal repository