Back to Build/check report for BioC 3.13
A[B]CDEFGHIJKLMNOPQRSTUVWXYZ

Build/check report for BioC 3.13

Results for BaalChIP

This page was generated on 2020-10-29 10:59:22 -0400 (Thu, 29 Oct 2020).

Package 103/1906HostnameOS / ArchINSTALLBUILDCHECKBUILD BIN
BaalChIP 1.17.0
Ines de Santiago
Snapshot Date: 2020-10-28 14:40:04 -0400 (Wed, 28 Oct 2020)
URL: https://git.bioconductor.org/packages/BaalChIP
Branch: master
Last Commit: e913dd3
Last Changed Date: 2020-10-27 11:17:44 -0400 (Tue, 27 Oct 2020)
malbec2 Linux (Ubuntu 18.04.4 LTS) / x86_64  OK  OK  WARNINGS UNNEEDED, same version exists in internal repository