Back to Multiple platform build/check report for BioC 3.16
ABC[D]EFGHIJKLMNOPQRSTUVWXYZ

This page was generated on 2022-07-04 11:07:25 -0400 (Mon, 04 Jul 2022).

HostnameOSArch (*)R versionInstalled pkgs
nebbiolo2Linux (Ubuntu 20.04.4 LTS)x86_644.2.0 Patched (2022-06-02 r82447) -- "Vigorous Calisthenics" 4343
palomino4Windows Server 2022 Datacenterx644.2.0 Patched (2022-06-02 r82447 ucrt) -- "Vigorous Calisthenics" 4148
lconwaymacOS 12.2.1 Montereyx86_644.2.0 Patched (2022-05-29 r82424) -- "Vigorous Calisthenics" 4160
Click on any hostname to see more info about the system (e.g. compilers)      (*) as reported by 'uname -p', except on Windows and Mac OS X

CHECK results for distinct on lconway


To the developers/maintainers of the distinct package:
- Please allow up to 24 hours (and sometimes 48 hours) for your latest push to git@git.bioconductor.org:packages/distinct.git to
reflect on this report. See How and When does the builder pull? When will my changes propagate? for more information.
- Make sure to use the following settings in order to reproduce any error or warning you see on this page.

raw results

Package 534/2124HostnameOS / ArchINSTALLBUILDCHECKBUILD BIN
distinct 1.9.0  (landing page)
Simone Tiberi
Snapshot Date: 2022-07-03 14:00:03 -0400 (Sun, 03 Jul 2022)
git_url: https://git.bioconductor.org/packages/distinct
git_branch: master
git_last_commit: f048022
git_last_commit_date: 2022-04-26 12:04:11 -0400 (Tue, 26 Apr 2022)
nebbiolo2Linux (Ubuntu 20.04.4 LTS) / x86_64  OK    OK    OK  UNNEEDED, same version is already published
palomino4Windows Server 2022 Datacenter / x64  OK    OK    OK    OK  UNNEEDED, same version is already published
lconwaymacOS 12.2.1 Monterey / x86_64  OK    OK    OK    OK  UNNEEDED, same version is already published

Summary

Package: distinct
Version: 1.9.0
Command: /Library/Frameworks/R.framework/Resources/bin/R CMD check --install=check:distinct.install-out.txt --library=/Library/Frameworks/R.framework/Resources/library --no-vignettes --timings distinct_1.9.0.tar.gz
StartedAt: 2022-07-03 20:11:14 -0400 (Sun, 03 Jul 2022)
EndedAt: 2022-07-03 20:16:33 -0400 (Sun, 03 Jul 2022)
EllapsedTime: 319.0 seconds
RetCode: 0
Status:   OK  
CheckDir: distinct.Rcheck
Warnings: 0

Command output

##############################################################################
##############################################################################
###
### Running command:
###
###   /Library/Frameworks/R.framework/Resources/bin/R CMD check --install=check:distinct.install-out.txt --library=/Library/Frameworks/R.framework/Resources/library --no-vignettes --timings distinct_1.9.0.tar.gz
###
##############################################################################
##############################################################################


* using log directory ‘/Users/biocbuild/bbs-3.16-bioc/meat/distinct.Rcheck’
* using R version 4.2.0 Patched (2022-05-29 r82424)
* using platform: x86_64-apple-darwin17.0 (64-bit)
* using session charset: UTF-8
* using option ‘--no-vignettes’
* checking for file ‘distinct/DESCRIPTION’ ... OK
* checking extension type ... Package
* this is package ‘distinct’ version ‘1.9.0’
* checking package namespace information ... OK
* checking package dependencies ... OK
* checking if this is a source package ... OK
* checking if there is a namespace ... OK
* checking for hidden files and directories ... OK
* checking for portable file names ... OK
* checking for sufficient/correct file permissions ... OK
* checking whether package ‘distinct’ can be installed ... OK
* checking installed package size ... OK
* checking package directory ... OK
* checking ‘build’ directory ... OK
* checking DESCRIPTION meta-information ... OK
* checking top-level files ... OK
* checking for left-over files ... OK
* checking index information ... OK
* checking package subdirectories ... OK
* checking R files for non-ASCII characters ... OK
* checking R files for syntax errors ... OK
* checking whether the package can be loaded ... OK
* checking whether the package can be loaded with stated dependencies ... OK
* checking whether the package can be unloaded cleanly ... OK
* checking whether the namespace can be loaded with stated dependencies ... OK
* checking whether the namespace can be unloaded cleanly ... OK
* checking dependencies in R code ... NOTE
Namespace in Imports field not imported from: ‘Rfast’
  All declared Imports should be used.
* checking S3 generic/method consistency ... OK
* checking replacement functions ... OK
* checking foreign function calls ... OK
* checking R code for possible problems ... NOTE
perm_test_parallel_R: no visible binding for global variable ‘cl_id’
perm_test_parallel_covariates_R: no visible binding for global variable
  ‘cl_id’
plot_cdfs: no visible binding for global variable ‘group’
plot_densities: no visible binding for global variable ‘group’
Undefined global functions or variables:
  cl_id group
* checking Rd files ... OK
* checking Rd metadata ... OK
* checking Rd cross-references ... OK
* checking for missing documentation entries ... OK
* checking for code/documentation mismatches ... OK
* checking Rd \usage sections ... OK
* checking Rd contents ... OK
* checking for unstated dependencies in examples ... OK
* checking contents of ‘data’ directory ... OK
* checking data for non-ASCII characters ... OK
* checking data for ASCII and uncompressed saves ... OK
* checking line endings in C/C++/Fortran sources/headers ... OK
* checking line endings in Makefiles ... OK
* checking compilation flags in Makevars ... OK
* checking for GNU extensions in Makefiles ... OK
* checking for portable use of $(BLAS_LIBS) and $(LAPACK_LIBS) ... OK
* checking use of PKG_*FLAGS in Makefiles ... OK
* checking compiled code ... NOTE
Note: information on .o files is not available
* checking files in ‘vignettes’ ... OK
* checking examples ... OK
Examples with CPU (user + system) or elapsed time > 5s
               user system elapsed
distinct_test 1.527   0.07  52.054
* checking for unstated dependencies in ‘tests’ ... OK
* checking tests ...
  Running ‘testthat.R’
 OK
* checking for unstated dependencies in vignettes ... OK
* checking package vignettes in ‘inst/doc’ ... OK
* checking running R code from vignettes ... SKIPPED
* checking re-building of vignette outputs ... SKIPPED
* checking PDF version of manual ... OK
* DONE

Status: 3 NOTEs
See
  ‘/Users/biocbuild/bbs-3.16-bioc/meat/distinct.Rcheck/00check.log’
for details.



Installation output

distinct.Rcheck/00install.out

##############################################################################
##############################################################################
###
### Running command:
###
###   /Library/Frameworks/R.framework/Resources/bin/R CMD INSTALL distinct
###
##############################################################################
##############################################################################


* installing to library ‘/Library/Frameworks/R.framework/Versions/4.2/Resources/library’
* installing *source* package ‘distinct’ ...
** using staged installation
** libs
clang++ -mmacosx-version-min=10.13 -std=gnu++11 -I"/Library/Frameworks/R.framework/Resources/include" -DNDEBUG  -I'/Library/Frameworks/R.framework/Versions/4.2/Resources/library/Rcpp/include' -I'/Library/Frameworks/R.framework/Versions/4.2/Resources/library/RcppArmadillo/include' -I'/Library/Frameworks/R.framework/Versions/4.2/Resources/library/Rfast/include' -I/usr/local/include   -fPIC  -Wall -g -O2  -c Perm.cpp -o Perm.o
clang++ -mmacosx-version-min=10.13 -std=gnu++11 -I"/Library/Frameworks/R.framework/Resources/include" -DNDEBUG  -I'/Library/Frameworks/R.framework/Versions/4.2/Resources/library/Rcpp/include' -I'/Library/Frameworks/R.framework/Versions/4.2/Resources/library/RcppArmadillo/include' -I'/Library/Frameworks/R.framework/Versions/4.2/Resources/library/Rfast/include' -I/usr/local/include   -fPIC  -Wall -g -O2  -c Perm_covariates.cpp -o Perm_covariates.o
clang++ -mmacosx-version-min=10.13 -std=gnu++11 -I"/Library/Frameworks/R.framework/Resources/include" -DNDEBUG  -I'/Library/Frameworks/R.framework/Versions/4.2/Resources/library/Rcpp/include' -I'/Library/Frameworks/R.framework/Versions/4.2/Resources/library/RcppArmadillo/include' -I'/Library/Frameworks/R.framework/Versions/4.2/Resources/library/Rfast/include' -I/usr/local/include   -fPIC  -Wall -g -O2  -c Perm_covariates_parallel.cpp -o Perm_covariates_parallel.o
clang++ -mmacosx-version-min=10.13 -std=gnu++11 -I"/Library/Frameworks/R.framework/Resources/include" -DNDEBUG  -I'/Library/Frameworks/R.framework/Versions/4.2/Resources/library/Rcpp/include' -I'/Library/Frameworks/R.framework/Versions/4.2/Resources/library/RcppArmadillo/include' -I'/Library/Frameworks/R.framework/Versions/4.2/Resources/library/Rfast/include' -I/usr/local/include   -fPIC  -Wall -g -O2  -c Perm_parallel.cpp -o Perm_parallel.o
clang++ -mmacosx-version-min=10.13 -std=gnu++11 -I"/Library/Frameworks/R.framework/Resources/include" -DNDEBUG  -I'/Library/Frameworks/R.framework/Versions/4.2/Resources/library/Rcpp/include' -I'/Library/Frameworks/R.framework/Versions/4.2/Resources/library/RcppArmadillo/include' -I'/Library/Frameworks/R.framework/Versions/4.2/Resources/library/Rfast/include' -I/usr/local/include   -fPIC  -Wall -g -O2  -c RcppExports.cpp -o RcppExports.o
clang++ -mmacosx-version-min=10.13 -std=gnu++11 -dynamiclib -Wl,-headerpad_max_install_names -undefined dynamic_lookup -single_module -multiply_defined suppress -L/Library/Frameworks/R.framework/Resources/lib -L/usr/local/lib -o distinct.so Perm.o Perm_covariates.o Perm_covariates_parallel.o Perm_parallel.o RcppExports.o -L/Library/Frameworks/R.framework/Resources/lib -lRlapack -L/Library/Frameworks/R.framework/Resources/lib -lRblas -L/usr/local/gfortran/lib/gcc/x86_64-apple-darwin18/8.2.0 -L/usr/local/gfortran/lib -lgfortran -lquadmath -lm -F/Library/Frameworks/R.framework/.. -framework R -Wl,-framework -Wl,CoreFoundation
ld: warning: directory not found for option '-L/usr/local/gfortran/lib/gcc/x86_64-apple-darwin18/8.2.0'
ld: warning: dylib (/usr/local/gfortran/lib/libgfortran.dylib) was built for newer macOS version (12.0) than being linked (10.13)
ld: warning: dylib (/usr/local/gfortran/lib/libquadmath.dylib) was built for newer macOS version (12.0) than being linked (10.13)
installing to /Library/Frameworks/R.framework/Versions/4.2/Resources/library/00LOCK-distinct/00new/distinct/libs
** R
** data
** inst
** byte-compile and prepare package for lazy loading
** help
*** installing help indices
** building package indices
** installing vignettes
** testing if installed package can be loaded from temporary location
** checking absolute paths in shared objects and dynamic libraries
** testing if installed package can be loaded from final location
** testing if installed package keeps a record of temporary installation path
* DONE (distinct)

Tests output

distinct.Rcheck/tests/testthat.Rout


R version 4.2.0 Patched (2022-05-29 r82424) -- "Vigorous Calisthenics"
Copyright (C) 2022 The R Foundation for Statistical Computing
Platform: x86_64-apple-darwin17.0 (64-bit)

R is free software and comes with ABSOLUTELY NO WARRANTY.
You are welcome to redistribute it under certain conditions.
Type 'license()' or 'licence()' for distribution details.

R is a collaborative project with many contributors.
Type 'contributors()' for more information and
'citation()' on how to cite R or R packages in publications.

Type 'demo()' for some demos, 'help()' for on-line help, or
'help.start()' for an HTML browser interface to help.
Type 'q()' to quit R.

> library(testthat)
> library(distinct)
> test_check("distinct")
[ FAIL 0 | WARN 0 | SKIP 0 | PASS 8 ]
> 
> proc.time()
   user  system elapsed 
 10.812   0.531  61.820 

Example timings

distinct.Rcheck/distinct-Ex.timings

nameusersystemelapsed
Kang_subset0.0000.0010.001
distinct_test 1.527 0.07052.054
log2_FC0.2040.0050.209
plot_cdfs1.0890.0091.100
plot_densities0.5500.0360.591
res0.0000.0000.001
top_results0.2190.0150.235