Back to Multiple platform build/check report for BioC 3.16
ABCDE[F]GHIJKLMNOPQRSTUVWXYZ

This page was generated on 2022-07-04 11:07:30 -0400 (Mon, 04 Jul 2022).

HostnameOSArch (*)R versionInstalled pkgs
nebbiolo2Linux (Ubuntu 20.04.4 LTS)x86_644.2.0 Patched (2022-06-02 r82447) -- "Vigorous Calisthenics" 4343
palomino4Windows Server 2022 Datacenterx644.2.0 Patched (2022-06-02 r82447 ucrt) -- "Vigorous Calisthenics" 4148
lconwaymacOS 12.2.1 Montereyx86_644.2.0 Patched (2022-05-29 r82424) -- "Vigorous Calisthenics" 4160
Click on any hostname to see more info about the system (e.g. compilers)      (*) as reported by 'uname -p', except on Windows and Mac OS X

BUILD BIN results for flowFP on lconway


To the developers/maintainers of the flowFP package:
- Please allow up to 24 hours (and sometimes 48 hours) for your latest push to git@git.bioconductor.org:packages/flowFP.git to
reflect on this report. See How and When does the builder pull? When will my changes propagate? for more information.
- Make sure to use the following settings in order to reproduce any error or warning you see on this page.

raw results

Package 677/2124HostnameOS / ArchINSTALLBUILDCHECKBUILD BIN
flowFP 1.55.0  (landing page)
Herb Holyst
Snapshot Date: 2022-07-03 14:00:03 -0400 (Sun, 03 Jul 2022)
git_url: https://git.bioconductor.org/packages/flowFP
git_branch: master
git_last_commit: e5340bd
git_last_commit_date: 2022-04-26 11:03:12 -0400 (Tue, 26 Apr 2022)
nebbiolo2Linux (Ubuntu 20.04.4 LTS) / x86_64  OK    OK    OK  UNNEEDED, same version is already published
palomino4Windows Server 2022 Datacenter / x64  OK    OK    OK    OK  UNNEEDED, same version is already published
lconwaymacOS 12.2.1 Monterey / x86_64  OK    OK    OK    OK  UNNEEDED, same version is already published

Summary

Package: flowFP
Version: 1.55.0
Command: rm -rf flowFP.buildbin-libdir && mkdir flowFP.buildbin-libdir && /Users/biocbuild/BBS/utils/build-universal.sh flowFP_1.55.0.tar.gz /Library/Frameworks/R.framework/Resources/bin/R flowFP.buildbin-libdir
StartedAt: 2022-07-04 00:07:48 -0400 (Mon, 04 Jul 2022)
EndedAt: 2022-07-04 00:08:09 -0400 (Mon, 04 Jul 2022)
EllapsedTime: 20.2 seconds
RetCode: 0
Status:   OK  
PackageFile: flowFP_1.55.0.tgz
PackageFileSize: 5.53 MiB

Command output

##############################################################################
##############################################################################
###
### Running command:
###
###   rm -rf flowFP.buildbin-libdir && mkdir flowFP.buildbin-libdir && /Users/biocbuild/BBS/utils/build-universal.sh flowFP_1.55.0.tar.gz /Library/Frameworks/R.framework/Resources/bin/R flowFP.buildbin-libdir
###
##############################################################################
##############################################################################


>>>>>>> 
>>>>>>> INSTALLATION WITH 'R CMD INSTALL --preclean --no-multiarch --library=flowFP.buildbin-libdir flowFP_1.55.0.tar.gz'
>>>>>>> 

* installing *source* package ‘flowFP’ ...
** using staged installation
configure: creating ./config.status
config.status: creating src/Makevars
** libs
clang -mmacosx-version-min=10.13 -I"/Library/Frameworks/R.framework/Resources/include" -DNDEBUG   -I/usr/local/include   -fPIC  -Wall -g -O2  -c flowFP.c -o flowFP.o
clang -mmacosx-version-min=10.13 -I"/Library/Frameworks/R.framework/Resources/include" -DNDEBUG   -I/usr/local/include   -fPIC  -Wall -g -O2  -c init.c -o init.o
clang -mmacosx-version-min=10.13 -I"/Library/Frameworks/R.framework/Resources/include" -DNDEBUG   -I/usr/local/include   -fPIC  -Wall -g -O2  -c split_utils.c -o split_utils.o
clang -mmacosx-version-min=10.13 -dynamiclib -Wl,-headerpad_max_install_names -undefined dynamic_lookup -single_module -multiply_defined suppress -L/Library/Frameworks/R.framework/Resources/lib -L/usr/local/lib -o flowFP.so flowFP.o init.o split_utils.o -F/Library/Frameworks/R.framework/.. -framework R -Wl,-framework -Wl,CoreFoundation
installing to /Users/biocbuild/bbs-3.16-bioc/meat/flowFP.buildbin-libdir/00LOCK-flowFP/00new/flowFP/libs
** R
** data
** inst
** byte-compile and prepare package for lazy loading
Creating a generic function for ‘append’ from package ‘base’ in package ‘flowFP’
** help
*** installing help indices
** building package indices
** installing vignettes
** testing if installed package can be loaded from temporary location
** checking absolute paths in shared objects and dynamic libraries
** testing if installed package can be loaded from final location
** testing if installed package keeps a record of temporary installation path
* DONE (flowFP)


>>>>>>> 
>>>>>>> FIXING LINKS FOR flowFP.buildbin-libdir/flowFP/libs/flowFP.so
>>>>>>> 

install_name_tool -change "/usr/local/lib/libgcc_s.1.dylib" "/Library/Frameworks/R.framework/Versions/4.2/Resources/lib/libgcc_s.1.dylib" "flowFP.buildbin-libdir/flowFP/libs/flowFP.so"
install_name_tool -change "/usr/local/lib/libgfortran.5.dylib" "/Library/Frameworks/R.framework/Versions/4.2/Resources/lib/libgfortran.5.dylib" "flowFP.buildbin-libdir/flowFP/libs/flowFP.so"
install_name_tool -change "/usr/local/lib/libquadmath.0.dylib" "/Library/Frameworks/R.framework/Versions/4.2/Resources/lib/libquadmath.0.dylib" "flowFP.buildbin-libdir/flowFP/libs/flowFP.so"