Back to Multiple platform build/check report for BioC 3.15
ABCDEF[G]HIJKLMNOPQRSTUVWXYZ

This page was generated on 2022-01-27 11:04:35 -0500 (Thu, 27 Jan 2022).

HostnameOSArch (*)R versionInstalled pkgs
nebbiolo1Linux (Ubuntu 20.04.4 LTS)x86_64R Under development (unstable) (2022-01-05 r81451) -- "Unsuffered Consequences" 4167
riesling1Windows Server 2019 Standardx64R Under development (unstable) (2021-11-21 r81221) -- "Unsuffered Consequences" 4062
palomino3Windows Server 2022 Datacenterx64R Under development (unstable) (2021-12-21 r81400 ucrt) -- "Unsuffered Consequences" 4004
merida1macOS 10.14.6 Mojavex86_64R Under development (unstable) (2022-01-05 r81451) -- "Unsuffered Consequences" 4121
Click on any hostname to see more info about the system (e.g. compilers)      (*) as reported by 'uname -p', except on Windows and Mac OS X

All results for package GenomicFeatures


To the developers/maintainers of the GenomicFeatures package:
- Please allow up to 24 hours (and sometimes 48 hours) for your latest push to git@git.bioconductor.org:packages/GenomicFeatures.git to
reflect on this report. See How and When does the builder pull? When will my changes propagate? here for more information.
- Make sure to use the following settings in order to reproduce any error or warning you see on this page.

raw results

Package 749/2077HostnameOS / ArchINSTALLBUILDCHECKBUILD BIN
GenomicFeatures 1.47.7  (landing page)
Bioconductor Package Maintainer
Snapshot Date: 2022-01-26 13:55:18 -0500 (Wed, 26 Jan 2022)
git_url: https://git.bioconductor.org/packages/GenomicFeatures
git_branch: master
git_last_commit: dd8aaa6
git_last_commit_date: 2022-01-19 22:39:14 -0500 (Wed, 19 Jan 2022)
nebbiolo1Linux (Ubuntu 20.04.4 LTS) / x86_64  OK    OK    WARNINGS  UNNEEDED, same version is already published
riesling1Windows Server 2019 Standard / x64  OK    OK    WARNINGS    NA  
palomino3Windows Server 2022 Datacenter / x64  OK    OK    WARNINGS    OK  NO, package depends on 'BiocGenerics' which is not available
merida1macOS 10.14.6 Mojave / x86_64  OK    OK    WARNINGS    OK  UNNEEDED, same version is already published

Results for Bioconductor software packages that depend directly on package GenomicFeatures

QUICK STATSOS / ArchINSTALLBUILDCHECKBUILD BIN
nebbiolo1Linux (Ubuntu 20.04.4 LTS) / x86_64
00121
02119
032789
riesling1Windows Server 2019 Standard / x64
01118
03116
042686
000
palomino3Windows Server 2022 Datacenter / x64
00119
04115
032884
00115
merida1macOS 10.14.6 Mojave / x86_64
00120
02118
042589
00118
Package 1/121HostnameOS / ArchINSTALLBUILDCHECKBUILD BIN
AllelicImbalance 1.33.1  (landing page)
Jesper R Gadin
git_last_commit: 7e81c3a
git_last_commit_date: 2021-11-17 15:17:12 -0500
nebbiolo1Linux (Ubuntu 20.04.4 LTS) / x86_64  OK    OK    OK  UNNEEDED, same version is already published
riesling1Windows Server 2019 Standard / x64  OK    OK    OK    NA  
palomino3Windows Server 2022 Datacenter / x64  OK    OK    OK    OK  NO, package depends on 'GenomicRanges' which is not available
merida1macOS 10.14.6 Mojave / x86_64  OK    OK    OK    OK  UNNEEDED, same version is already published
Package 2/121HostnameOS / ArchINSTALLBUILDCHECKBUILD BIN
alpine 1.21.1  (landing page)
Michael Love
git_last_commit: dc3c0f0
git_last_commit_date: 2021-11-18 19:19:49 -0500
nebbiolo1Linux (Ubuntu 20.04.4 LTS) / x86_64  OK    OK    OK  UNNEEDED, same version is already published
riesling1Windows Server 2019 Standard / x64  OK    OK    OK    NA  
palomino3Windows Server 2022 Datacenter / x64  OK    OK    OK    OK  NO, package depends on 'Biostrings' which is not available
merida1macOS 10.14.6 Mojave / x86_64  OK    OK    OK    OK  UNNEEDED, same version is already published
Package 3/121HostnameOS / ArchINSTALLBUILDCHECKBUILD BIN
AnnotationHubData 1.25.5  (landing page)
Bioconductor Package Maintainer
git_last_commit: 4c3b0e4
git_last_commit_date: 2022-01-21 09:18:13 -0500
nebbiolo1Linux (Ubuntu 20.04.4 LTS) / x86_64  OK    OK    WARNINGS  UNNEEDED, same version is already published
riesling1Windows Server 2019 Standard / x64  OK    OK    WARNINGS    NA  
palomino3Windows Server 2022 Datacenter / x64  OK    OK    WARNINGS    OK  NO, package depends on 'S4Vectors' which is not available
merida1macOS 10.14.6 Mojave / x86_64  OK    OK    WARNINGS    OK  UNNEEDED, same version is already published
Package 4/121HostnameOS / ArchINSTALLBUILDCHECKBUILD BIN
annotatr 1.21.1  (landing page)
Raymond G. Cavalcante
git_last_commit: bbf8b55
git_last_commit_date: 2021-11-20 22:59:06 -0500
nebbiolo1Linux (Ubuntu 20.04.4 LTS) / x86_64  OK    OK    OK  UNNEEDED, same version is already published
riesling1Windows Server 2019 Standard / x64  OK    OK    OK    NA  
palomino3Windows Server 2022 Datacenter / x64  OK    OK    OK    OK  NO, package depends on 'AnnotationDbi' which is not available
merida1macOS 10.14.6 Mojave / x86_64  OK    OK    OK    OK  UNNEEDED, same version is already published
Package 5/121HostnameOS / ArchINSTALLBUILDCHECKBUILD BIN
APAlyzer 1.9.2  (landing page)
Ruijia Wang
git_last_commit: 2255916
git_last_commit_date: 2022-01-02 23:50:55 -0500
nebbiolo1Linux (Ubuntu 20.04.4 LTS) / x86_64  OK    OK    WARNINGS  UNNEEDED, same version is already published
riesling1Windows Server 2019 Standard / x64  OK    OK    WARNINGS    NA  
palomino3Windows Server 2022 Datacenter / x64  OK    OK    WARNINGS    OK  NO, package depends on 'GenomicRanges' which is not available
merida1macOS 10.14.6 Mojave / x86_64  OK    OK    WARNINGS    OK  UNNEEDED, same version is already published
Package 6/121HostnameOS / ArchINSTALLBUILDCHECKBUILD BIN
appreci8R 1.13.0  (landing page)
Sarah Sandmann
git_last_commit: a5fe012
git_last_commit_date: 2021-10-26 12:45:40 -0500
nebbiolo1Linux (Ubuntu 20.04.4 LTS) / x86_64  OK    OK    OK  UNNEEDED, same version is already published
riesling1Windows Server 2019 Standard / x64  OK    OK    OK    NA  
palomino3Windows Server 2022 Datacenter / x64  OK    OK    OK    OK  NO, package depends on 'VariantAnnotation' which is not available
merida1macOS 10.14.6 Mojave / x86_64  OK    OK    OK    OK  UNNEEDED, same version is already published
Package 7/121HostnameOS / ArchINSTALLBUILDCHECKBUILD BIN
ASpediaFI 1.9.1  (landing page)
Doyeong Yu
git_last_commit: 53491f1
git_last_commit_date: 2021-11-18 16:35:17 -0500
nebbiolo1Linux (Ubuntu 20.04.4 LTS) / x86_64  OK    OK    OK  UNNEEDED, same version is already published
riesling1Windows Server 2019 Standard / x64  OK    OK    OK    NA  
palomino3Windows Server 2022 Datacenter / x64  OK    OK    OK    OK  NO, package depends on 'SummarizedExperiment' which is not available
merida1macOS 10.14.6 Mojave / x86_64  OK    OK    OK    OK  NO, package depends on 'fgsea' which is not available
Package 8/121HostnameOS / ArchINSTALLBUILDCHECKBUILD BIN
ASpli 2.5.0  (landing page)
Estefania Mancini
git_last_commit: 14aea67
git_last_commit_date: 2021-10-26 12:29:18 -0500
nebbiolo1Linux (Ubuntu 20.04.4 LTS) / x86_64  OK    OK    OK  UNNEEDED, same version is already published
riesling1Windows Server 2019 Standard / x64  OK    OK    OK    NA  
palomino3Windows Server 2022 Datacenter / x64  OK    OK    OK    OK  NO, package depends on 'AnnotationDbi' which is not available
merida1macOS 10.14.6 Mojave / x86_64  OK    OK    OK    OK  UNNEEDED, same version is already published
Package 9/121HostnameOS / ArchINSTALLBUILDCHECKBUILD BIN
bambu 2.1.1  (landing page)
Ying Chen
git_last_commit: 399b30a
git_last_commit_date: 2021-11-22 21:16:11 -0500
nebbiolo1Linux (Ubuntu 20.04.4 LTS) / x86_64  OK    OK    OK  UNNEEDED, same version is already published
riesling1Windows Server 2019 Standard / x64  OK    OK    OK    NA  
palomino3Windows Server 2022 Datacenter / x64  OK    OK    OK    OK  NO, package depends on 'SummarizedExperiment' which is not available
merida1macOS 10.14.6 Mojave / x86_64  OK    OK    OK    OK  UNNEEDED, same version is already published
Package 10/121HostnameOS / ArchINSTALLBUILDCHECKBUILD BIN
BgeeCall 1.11.0  (landing page)
Julien Wollbrett
git_last_commit: aa9b0f1
git_last_commit_date: 2021-10-26 12:56:46 -0500
nebbiolo1Linux (Ubuntu 20.04.4 LTS) / x86_64  OK    OK    OK  UNNEEDED, same version is already published
riesling1Windows Server 2019 Standard / x64  OK    OK    OK    NA  
palomino3Windows Server 2022 Datacenter / x64  OK    OK    OK    OK  NO, package depends on 'GenomicFeatures' which is not available
merida1macOS 10.14.6 Mojave / x86_64  OK    OK    OK    OK  UNNEEDED, same version is already published
Package 11/121HostnameOS / ArchINSTALLBUILDCHECKBUILD BIN
BiocOncoTK 1.15.1  (landing page)
VJ Carey
git_last_commit: d1fad8e
git_last_commit_date: 2022-01-14 11:42:50 -0500
nebbiolo1Linux (Ubuntu 20.04.4 LTS) / x86_64  OK    OK    WARNINGS  UNNEEDED, same version is already published
riesling1Windows Server 2019 Standard / x64  OK    OK    WARNINGS    NA  
palomino3Windows Server 2022 Datacenter / x64  OK    OK    WARNINGS    OK  NO, package depends on 'ComplexHeatmap' which is not available
merida1macOS 10.14.6 Mojave / x86_64  OK    OK    WARNINGS    OK  UNNEEDED, same version is already published
Package 12/121HostnameOS / ArchINSTALLBUILDCHECKBUILD BIN
biovizBase 1.43.1  (landing page)
Michael Lawrence
git_last_commit: d459e88
git_last_commit_date: 2021-11-17 08:55:41 -0500
nebbiolo1Linux (Ubuntu 20.04.4 LTS) / x86_64  OK    OK    WARNINGS  UNNEEDED, same version is already published
riesling1Windows Server 2019 Standard / x64  OK    OK    WARNINGS    NA  
palomino3Windows Server 2022 Datacenter / x64  OK    OK    WARNINGS    OK  NO, package depends on 'BiocGenerics' which is not available
merida1macOS 10.14.6 Mojave / x86_64  OK    OK    WARNINGS    OK  UNNEEDED, same version is already published
Package 13/121HostnameOS / ArchINSTALLBUILDCHECKBUILD BIN
bumphunter 1.37.1  (landing page)
Tamilselvi Guharaj
git_last_commit: 478db86
git_last_commit_date: 2021-11-20 23:19:33 -0500
nebbiolo1Linux (Ubuntu 20.04.4 LTS) / x86_64  OK    OK    OK  UNNEEDED, same version is already published
riesling1Windows Server 2019 Standard / x64  OK    OK    OK    NA  
palomino3Windows Server 2022 Datacenter / x64  OK    OK    OK    OK  NO, package depends on 'S4Vectors' which is not available
merida1macOS 10.14.6 Mojave / x86_64  OK    OK    OK    OK  UNNEEDED, same version is already published
Package 14/121HostnameOS / ArchINSTALLBUILDCHECKBUILD BIN
BUSpaRse 1.9.0  (landing page)
Lambda Moses
git_last_commit: a3b907e
git_last_commit_date: 2021-10-26 12:53:45 -0500
nebbiolo1Linux (Ubuntu 20.04.4 LTS) / x86_64  OK    OK    OK  UNNEEDED, same version is already published
riesling1Windows Server 2019 Standard / x64  OK    OK    OK    NA  
palomino3Windows Server 2022 Datacenter / x64  OK    OK    OK    OK  NO, package depends on 'AnnotationDbi' which is not available
merida1macOS 10.14.6 Mojave / x86_64  OK    OK    OK    OK  UNNEEDED, same version is already published
Package 15/121HostnameOS / ArchINSTALLBUILDCHECKBUILD BIN
CAGEfightR 1.15.1  (landing page)
Malte Thodberg
git_last_commit: aead2e0
git_last_commit_date: 2021-11-20 23:19:47 -0500
nebbiolo1Linux (Ubuntu 20.04.4 LTS) / x86_64  OK    OK    OK  UNNEEDED, same version is already published
riesling1Windows Server 2019 Standard / x64  OK    OK    OK    NA  
palomino3Windows Server 2022 Datacenter / x64  OK    OK    OK    OK  NO, package depends on 'GenomicRanges' which is not available
merida1macOS 10.14.6 Mojave / x86_64  OK    OK    OK    OK  UNNEEDED, same version is already published
Package 16/121HostnameOS / ArchINSTALLBUILDCHECKBUILD BIN
casper 2.29.1  (landing page)
David Rossell
git_last_commit: ff4be92
git_last_commit_date: 2021-11-20 23:20:07 -0500
nebbiolo1Linux (Ubuntu 20.04.4 LTS) / x86_64  OK    OK    WARNINGS  UNNEEDED, same version is already published
riesling1Windows Server 2019 Standard / x64  OK    OK    ERROR    NA  
palomino3Windows Server 2022 Datacenter / x64  OK    OK    WARNINGS    OK  NO, package depends on 'Biobase' which is not available
merida1macOS 10.14.6 Mojave / x86_64  OK    OK    WARNINGS    OK  UNNEEDED, same version is already published
Package 17/121HostnameOS / ArchINSTALLBUILDCHECKBUILD BIN
ChIPpeakAnno 3.29.3  (landing page)
Jianhong Ou
git_last_commit: a414709
git_last_commit_date: 2022-01-06 13:23:08 -0500
nebbiolo1Linux (Ubuntu 20.04.4 LTS) / x86_64  OK    OK    OK  UNNEEDED, same version is already published
riesling1Windows Server 2019 Standard / x64  OK    OK    OK    NA  
palomino3Windows Server 2022 Datacenter / x64  OK    OK    OK    OK  NO, package depends on 'IRanges' which is not available
merida1macOS 10.14.6 Mojave / x86_64  OK    OK    OK    OK  UNNEEDED, same version is already published
Package 18/121HostnameOS / ArchINSTALLBUILDCHECKBUILD BIN
ChIPQC 1.31.1  (landing page)
Tom Carroll , Rory Stark
git_last_commit: e20e832
git_last_commit_date: 2021-11-20 23:21:44 -0500
nebbiolo1Linux (Ubuntu 20.04.4 LTS) / x86_64  OK    OK    WARNINGS  UNNEEDED, same version is already published
riesling1Windows Server 2019 Standard / x64  OK    OK    WARNINGS    NA  
palomino3Windows Server 2022 Datacenter / x64  OK    OK    WARNINGS    OK  NO, package depends on 'DiffBind' which is not available
merida1macOS 10.14.6 Mojave / x86_64  OK    OK    ERROR    OK  
Package 19/121HostnameOS / ArchINSTALLBUILDCHECKBUILD BIN
ChIPseeker 1.31.3  (landing page)
Guangchuang Yu
git_last_commit: a1f936c
git_last_commit_date: 2021-12-15 22:40:41 -0500
nebbiolo1Linux (Ubuntu 20.04.4 LTS) / x86_64  OK    OK    OK  UNNEEDED, same version is already published
riesling1Windows Server 2019 Standard / x64  OK    OK    OK    NA  
palomino3Windows Server 2022 Datacenter / x64  OK    OK    OK    OK  NO, package depends on 'AnnotationDbi' which is not available
merida1macOS 10.14.6 Mojave / x86_64  OK    OK    OK    OK  NO, package depends on 'enrichplot' which is not available
Package 20/121HostnameOS / ArchINSTALLBUILDCHECKBUILD BIN
Cogito 1.1.0  (landing page)
Annika Bürger
git_last_commit: 6852ebd
git_last_commit_date: 2021-10-26 13:13:23 -0500
nebbiolo1Linux (Ubuntu 20.04.4 LTS) / x86_64  OK    OK    OK  UNNEEDED, same version is already published
riesling1Windows Server 2019 Standard / x64  OK    OK    OK    NA  
palomino3Windows Server 2022 Datacenter / x64  OK    OK    OK    OK  NO, package depends on 'GenomicRanges' which is not available
merida1macOS 10.14.6 Mojave / x86_64  OK    OK    OK    OK  UNNEEDED, same version is already published
Package 21/121HostnameOS / ArchINSTALLBUILDCHECKBUILD BIN
compEpiTools 1.29.2  (landing page)
Kamal Kishore
git_last_commit: 20988a4
git_last_commit_date: 2021-11-20 23:28:21 -0500
nebbiolo1Linux (Ubuntu 20.04.4 LTS) / x86_64  OK    OK    ERROR  
riesling1Windows Server 2019 Standard / x64  OK    OK    ERROR    NA  
palomino3Windows Server 2022 Datacenter / x64  OK    OK    ERROR    OK  
merida1macOS 10.14.6 Mojave / x86_64  OK    OK    ERROR    OK  
Package 22/121HostnameOS / ArchINSTALLBUILDCHECKBUILD BIN
consensusDE 1.13.0  (landing page)
Ashley J. Waardenberg
git_last_commit: 84c1aed
git_last_commit_date: 2021-10-26 12:47:51 -0500
nebbiolo1Linux (Ubuntu 20.04.4 LTS) / x86_64  OK    OK    OK  UNNEEDED, same version is already published
riesling1Windows Server 2019 Standard / x64  OK    OK    OK    NA  
palomino3Windows Server 2022 Datacenter / x64  OK    OK    OK    OK  NO, package depends on 'BiocGenerics' which is not available
merida1macOS 10.14.6 Mojave / x86_64  OK    OK    OK    OK  UNNEEDED, same version is already published
Package 23/121HostnameOS / ArchINSTALLBUILDCHECKBUILD BIN
cpvSNP 1.27.1  (landing page)
Caitlin McHugh
git_last_commit: 2c30d8e
git_last_commit_date: 2021-11-20 23:29:07 -0500
nebbiolo1Linux (Ubuntu 20.04.4 LTS) / x86_64  OK    OK    OK  UNNEEDED, same version is already published
riesling1Windows Server 2019 Standard / x64  OK    OK    OK    NA  
palomino3Windows Server 2022 Datacenter / x64  OK    OK    OK    OK  NO, package depends on 'GenomicFeatures' which is not available
merida1macOS 10.14.6 Mojave / x86_64  OK    OK    OK    OK  UNNEEDED, same version is already published
Package 24/121HostnameOS / ArchINSTALLBUILDCHECKBUILD BIN
crisprseekplus 1.21.0  (landing page)
Alper Kucukural
git_last_commit: 6eb4a83
git_last_commit_date: 2021-10-26 12:30:57 -0500
nebbiolo1Linux (Ubuntu 20.04.4 LTS) / x86_64  OK    OK    OK  UNNEEDED, same version is already published
riesling1Windows Server 2019 Standard / x64  OK    OK    OK    NA  
palomino3Windows Server 2022 Datacenter / x64  OK    OK    OK    OK  NO, package depends on 'CRISPRseek' which is not available
merida1macOS 10.14.6 Mojave / x86_64  OK    OK    OK    OK  UNNEEDED, same version is already published
Package 25/121HostnameOS / ArchINSTALLBUILDCHECKBUILD BIN
CSSQ 1.7.0  (landing page)
Fan Lab at Georgia Institute of Technology
git_last_commit: a13363f
git_last_commit_date: 2021-10-26 12:56:31 -0500
nebbiolo1Linux (Ubuntu 20.04.4 LTS) / x86_64  OK    OK    OK  UNNEEDED, same version is already published
riesling1Windows Server 2019 Standard / x64  OK    OK    OK    NA  
palomino3Windows Server 2022 Datacenter / x64  OK    OK    OK    OK  NO, package depends on 'SummarizedExperiment' which is not available
merida1macOS 10.14.6 Mojave / x86_64  OK    OK    OK    OK  UNNEEDED, same version is already published
Package 26/121HostnameOS / ArchINSTALLBUILDCHECKBUILD BIN
customProDB 1.35.1  (landing page)
Xiaojing Wang
git_last_commit: 69b8805
git_last_commit_date: 2021-12-02 17:41:54 -0500
nebbiolo1Linux (Ubuntu 20.04.4 LTS) / x86_64  OK    OK    OK  UNNEEDED, same version is already published
riesling1Windows Server 2019 Standard / x64  OK    OK    OK    NA  
palomino3Windows Server 2022 Datacenter / x64  OK    OK    OK    OK  NO, package depends on 'IRanges' which is not available
merida1macOS 10.14.6 Mojave / x86_64  OK    OK    OK    OK  UNNEEDED, same version is already published
Package 27/121HostnameOS / ArchINSTALLBUILDCHECKBUILD BIN
dasper 1.5.1  (landing page)
David Zhang
git_last_commit: 0b93fe2
git_last_commit_date: 2022-01-10 17:26:37 -0500
nebbiolo1Linux (Ubuntu 20.04.4 LTS) / x86_64  OK    OK    OK  UNNEEDED, same version is already published
riesling1Windows Server 2019 Standard / x64  OK    OK    OK    NA  
palomino3Windows Server 2022 Datacenter / x64  OK    OK    OK    OK  NO, package depends on 'GenomeInfoDb' which is not available
merida1macOS 10.14.6 Mojave / x86_64  OK    OK    OK    OK  UNNEEDED, same version is already published
Package 28/121HostnameOS / ArchINSTALLBUILDCHECKBUILD BIN
decompTumor2Sig 2.11.0  (landing page)
Rosario M. Piro
git_last_commit: 218491c
git_last_commit_date: 2021-10-26 12:48:26 -0500
nebbiolo1Linux (Ubuntu 20.04.4 LTS) / x86_64  OK    OK    OK  UNNEEDED, same version is already published
riesling1Windows Server 2019 Standard / x64  OK    OK    OK    NA  
palomino3Windows Server 2022 Datacenter / x64  OK    OK    OK    OK  NO, package depends on 'GenomicRanges' which is not available
merida1macOS 10.14.6 Mojave / x86_64  OK    OK    OK    OK  UNNEEDED, same version is already published
Package 29/121HostnameOS / ArchINSTALLBUILDCHECKBUILD BIN
DegNorm 1.5.0  (landing page)
Ji-Ping Wang
git_last_commit: 5363c21
git_last_commit_date: 2021-10-26 13:00:12 -0500
nebbiolo1Linux (Ubuntu 20.04.4 LTS) / x86_64  OK    OK    OK  UNNEEDED, same version is already published
riesling1Windows Server 2019 Standard / x64  OK    OK    OK    NA  
palomino3Windows Server 2022 Datacenter / x64  OK    OK    OK    OK  NO, package depends on 'GenomicFeatures' which is not available
merida1macOS 10.14.6 Mojave / x86_64  OK    OK    OK    OK  UNNEEDED, same version is already published
Package 30/121HostnameOS / ArchINSTALLBUILDCHECKBUILD BIN
derfinder 1.29.0  (landing page)
Leonardo Collado-Torres
git_last_commit: 5c1cbd4
git_last_commit_date: 2021-10-26 12:16:21 -0500
nebbiolo1Linux (Ubuntu 20.04.4 LTS) / x86_64  OK    OK    OK  UNNEEDED, same version is already published
riesling1Windows Server 2019 Standard / x64  OK    OK    OK    NA  
palomino3Windows Server 2022 Datacenter / x64  OK    OK    OK    OK  NO, package depends on 'BiocGenerics' which is not available
merida1macOS 10.14.6 Mojave / x86_64  OK    OK    OK    OK  UNNEEDED, same version is already published
Package 31/121HostnameOS / ArchINSTALLBUILDCHECKBUILD BIN
derfinderPlot 1.29.1  (landing page)
Leonardo Collado-Torres
git_last_commit: c6ca8d2
git_last_commit_date: 2021-11-22 19:33:05 -0500
nebbiolo1Linux (Ubuntu 20.04.4 LTS) / x86_64  OK    OK    OK  UNNEEDED, same version is already published
riesling1Windows Server 2019 Standard / x64  OK    OK    OK    NA  
palomino3Windows Server 2022 Datacenter / x64  OK    OK    OK    OK  NO, package depends on 'derfinder' which is not available
merida1macOS 10.14.6 Mojave / x86_64  OK    OK    OK    OK  UNNEEDED, same version is already published
Package 32/121HostnameOS / ArchINSTALLBUILDCHECKBUILD BIN
EDASeq 2.29.0  (landing page)
Davide Risso
git_last_commit: 37839c7
git_last_commit_date: 2021-10-26 12:00:24 -0500
nebbiolo1Linux (Ubuntu 20.04.4 LTS) / x86_64  OK    OK    OK  UNNEEDED, same version is already published
riesling1Windows Server 2019 Standard / x64  OK    OK    OK    NA  
palomino3Windows Server 2022 Datacenter / x64  OK    OK    OK    OK  NO, package depends on 'Biobase' which is not available
merida1macOS 10.14.6 Mojave / x86_64  OK    OK    OK    OK  UNNEEDED, same version is already published
Package 33/121HostnameOS / ArchINSTALLBUILDCHECKBUILD BIN
ELMER 2.19.0  (landing page)
Tiago Chedraoui Silva
git_last_commit: cc0e36c
git_last_commit_date: 2021-11-09 11:00:18 -0500
nebbiolo1Linux (Ubuntu 20.04.4 LTS) / x86_64  OK    OK    ERROR  
riesling1Windows Server 2019 Standard / x64  OK    OK    ERROR    NA  
palomino3Windows Server 2022 Datacenter / x64  OK    OK    ERROR    OK  
merida1macOS 10.14.6 Mojave / x86_64  OK    ERROR  skippedskipped
Package 34/121HostnameOS / ArchINSTALLBUILDCHECKBUILD BIN
ensembldb 2.19.7  (landing page)
Johannes Rainer
git_last_commit: a6e2257
git_last_commit_date: 2022-01-12 05:24:49 -0500
nebbiolo1Linux (Ubuntu 20.04.4 LTS) / x86_64  OK    ERROR  skipped
riesling1Windows Server 2019 Standard / x64  OK    ERROR  skippedskipped
palomino3Windows Server 2022 Datacenter / x64  OK    ERROR  skippedskipped
merida1macOS 10.14.6 Mojave / x86_64  OK    ERROR  skippedskipped
Package 35/121HostnameOS / ArchINSTALLBUILDCHECKBUILD BIN
EpiTxDb 1.7.0  (landing page)
Felix G.M. Ernst
git_last_commit: cf60f9b
git_last_commit_date: 2021-10-26 12:58:00 -0500
nebbiolo1Linux (Ubuntu 20.04.4 LTS) / x86_64  OK    OK    OK  UNNEEDED, same version is already published
riesling1Windows Server 2019 Standard / x64  OK    OK    OK    NA  
palomino3Windows Server 2022 Datacenter / x64  OK    OK    OK    OK  NO, package depends on 'AnnotationDbi' which is not available
merida1macOS 10.14.6 Mojave / x86_64  OK    OK    OK    OK  UNNEEDED, same version is already published
Package 36/121HostnameOS / ArchINSTALLBUILDCHECKBUILD BIN
epivizrData 1.23.0  (landing page)
Hector Corrada Bravo
git_last_commit: abfa958
git_last_commit_date: 2021-10-26 12:27:38 -0500
nebbiolo1Linux (Ubuntu 20.04.4 LTS) / x86_64  OK    OK    OK  UNNEEDED, same version is already published
riesling1Windows Server 2019 Standard / x64  OK    OK    OK    NA  
palomino3Windows Server 2022 Datacenter / x64  OK    OK    OK    OK  NO, package depends on 'Biobase' which is not available
merida1macOS 10.14.6 Mojave / x86_64  OK    OK    OK    OK  UNNEEDED, same version is already published
Package 37/121HostnameOS / ArchINSTALLBUILDCHECKBUILD BIN
epivizrStandalone 1.23.0  (landing page)
Hector Corrada Bravo
git_last_commit: 7438da4
git_last_commit_date: 2021-10-26 12:27:54 -0500
nebbiolo1Linux (Ubuntu 20.04.4 LTS) / x86_64  OK    OK    OK  UNNEEDED, same version is already published
riesling1Windows Server 2019 Standard / x64  OK    OK    OK    NA  
palomino3Windows Server 2022 Datacenter / x64  OK    OK    OK    OK  NO, package depends on 'epivizr' which is not available
merida1macOS 10.14.6 Mojave / x86_64  OK    OK    OK    OK  UNNEEDED, same version is already published
Package 38/121HostnameOS / ArchINSTALLBUILDCHECKBUILD BIN
esATAC 1.17.0  (landing page)
Zheng Wei
git_last_commit: b93cd3e
git_last_commit_date: 2021-12-16 16:44:20 -0500
nebbiolo1Linux (Ubuntu 20.04.4 LTS) / x86_64  OK    OK    OK  UNNEEDED, same version is already published
riesling1Windows Server 2019 Standard / x64  OK    OK    OK    NA  
palomino3Windows Server 2022 Datacenter / x64  OK    OK    OK    OK  NO, package depends on 'Rsamtools' which is not available
merida1macOS 10.14.6 Mojave / x86_64  OK    OK    OK    OK  NO, package depends on 'ChIPseeker' which is not available
Package 39/121HostnameOS / ArchINSTALLBUILDCHECKBUILD BIN
EventPointer 3.3.1  (landing page)
Juan A. Ferrer-Bonsoms
git_last_commit: f6f00a0
git_last_commit_date: 2021-11-20 23:53:56 -0500
nebbiolo1Linux (Ubuntu 20.04.4 LTS) / x86_64  OK    OK    OK  UNNEEDED, same version is already published
riesling1Windows Server 2019 Standard / x64  OK    OK    OK    NA  
palomino3Windows Server 2022 Datacenter / x64  OK    OK    OK    OK  NO, package depends on 'SGSeq' which is not available
merida1macOS 10.14.6 Mojave / x86_64  OK    OK    OK    OK  UNNEEDED, same version is already published
Package 40/121HostnameOS / ArchINSTALLBUILDCHECKBUILD BIN
exomePeak2 1.7.1  (landing page)
Zhen Wei
git_last_commit: 5d8ded6
git_last_commit_date: 2021-11-20 04:00:53 -0500
nebbiolo1Linux (Ubuntu 20.04.4 LTS) / x86_64  OK    OK    WARNINGS  UNNEEDED, same version is already published
riesling1Windows Server 2019 Standard / x64  OK    OK    WARNINGS    NA  
palomino3Windows Server 2022 Datacenter / x64  OK    OK    WARNINGS    OK  NO, package depends on 'SummarizedExperiment' which is not available
merida1macOS 10.14.6 Mojave / x86_64  OK    OK    WARNINGS    OK  UNNEEDED, same version is already published
Package 41/121HostnameOS / ArchINSTALLBUILDCHECKBUILD BIN
FindIT2 1.1.3  (landing page)
Guandong Shang
git_last_commit: 4c4fab3
git_last_commit_date: 2021-12-28 22:18:58 -0500
nebbiolo1Linux (Ubuntu 20.04.4 LTS) / x86_64  OK    OK    OK  UNNEEDED, same version is already published
riesling1Windows Server 2019 Standard / x64  OK    OK    OK    NA  
palomino3Windows Server 2022 Datacenter / x64  OK    OK    OK    OK  NO, package depends on 'GenomicRanges' which is not available
merida1macOS 10.14.6 Mojave / x86_64  OK    OK    OK    OK  UNNEEDED, same version is already published
Package 42/121HostnameOS / ArchINSTALLBUILDCHECKBUILD BIN
FRASER 1.7.0  (landing page)
Christian Mertes
git_last_commit: e6fb5aa
git_last_commit_date: 2021-10-26 12:59:14 -0500
nebbiolo1Linux (Ubuntu 20.04.4 LTS) / x86_64  OK    OK    OK  UNNEEDED, same version is already published
riesling1Windows Server 2019 Standard / x64  OK    OK    OK    NA  
palomino3Windows Server 2022 Datacenter / x64  OK    OK    OK    OK  NO, package depends on 'Rsamtools' which is not available
merida1macOS 10.14.6 Mojave / x86_64  OK    OK    OK    OK  UNNEEDED, same version is already published
Package 43/121HostnameOS / ArchINSTALLBUILDCHECKBUILD BIN
GA4GHshiny 1.17.0  (landing page)
Welliton Souza
git_last_commit: 649392e
git_last_commit_date: 2021-10-26 12:35:32 -0500
nebbiolo1Linux (Ubuntu 20.04.4 LTS) / x86_64  OK    OK    OK  UNNEEDED, same version is already published
riesling1Windows Server 2019 Standard / x64  OK    OK    OK    NA  
palomino3Windows Server 2022 Datacenter / x64  OK    OK    OK    OK  NO, package depends on 'GA4GHclient' which is not available
merida1macOS 10.14.6 Mojave / x86_64  OK    OK    OK    OK  UNNEEDED, same version is already published
Package 44/121HostnameOS / ArchINSTALLBUILDCHECKBUILD BIN
genbankr 1.23.0  (landing page)
Gabriel Becker
git_last_commit: 1300dcf
git_last_commit_date: 2021-10-26 12:27:18 -0500
nebbiolo1Linux (Ubuntu 20.04.4 LTS) / x86_64  OK    OK    OK  UNNEEDED, same version is already published
riesling1Windows Server 2019 Standard / x64  OK    OK    OK    NA  
palomino3Windows Server 2022 Datacenter / x64  OK    OK    OK    OK  NO, package depends on 'BiocGenerics' which is not available
merida1macOS 10.14.6 Mojave / x86_64  OK    OK    OK    OK  UNNEEDED, same version is already published
Package 45/121HostnameOS / ArchINSTALLBUILDCHECKBUILD BIN
geneAttribution 1.21.0  (landing page)
Arthur Wuster
git_last_commit: d4aac3a
git_last_commit_date: 2021-10-26 12:29:48 -0500
nebbiolo1Linux (Ubuntu 20.04.4 LTS) / x86_64  OK    OK    OK  UNNEEDED, same version is already published
riesling1Windows Server 2019 Standard / x64  OK    OK    OK    NA  
palomino3Windows Server 2022 Datacenter / x64  OK    OK    OK    OK  NO, package depends on 'GenomicRanges' which is not available
merida1macOS 10.14.6 Mojave / x86_64  OK    OK    OK    OK  UNNEEDED, same version is already published
Package 46/121HostnameOS / ArchINSTALLBUILDCHECKBUILD BIN
GenVisR 1.27.0  (landing page)
Zachary Skidmore
git_last_commit: dc30305
git_last_commit_date: 2021-10-26 12:24:58 -0500
nebbiolo1Linux (Ubuntu 20.04.4 LTS) / x86_64  OK    OK    ERROR  
riesling1Windows Server 2019 Standard / x64  OK    OK    ERROR    NA  
palomino3Windows Server 2022 Datacenter / x64  OK    OK    ERROR    OK  
merida1macOS 10.14.6 Mojave / x86_64  OK    OK    ERROR    OK  
Package 47/121HostnameOS / ArchINSTALLBUILDCHECKBUILD BIN
ggbio 1.43.0  (landing page)
Michael Lawrence
git_last_commit: 7f5f384
git_last_commit_date: 2021-11-05 14:03:26 -0500
nebbiolo1Linux (Ubuntu 20.04.4 LTS) / x86_64  OK    OK    WARNINGS  UNNEEDED, same version is already published
riesling1Windows Server 2019 Standard / x64  OK    OK    WARNINGS    NA  
palomino3Windows Server 2022 Datacenter / x64  OK    OK    WARNINGS    OK  NO, package depends on 'BiocGenerics' which is not available
merida1macOS 10.14.6 Mojave / x86_64  OK    OK    WARNINGS    OK  UNNEEDED, same version is already published
Package 48/121HostnameOS / ArchINSTALLBUILDCHECKBUILD BIN
gmapR 1.37.0  (landing page)
Michael Lawrence
git_last_commit: 4fda1cc
git_last_commit_date: 2021-10-26 12:03:53 -0500
nebbiolo1Linux (Ubuntu 20.04.4 LTS) / x86_64  OK    OK    WARNINGS  UNNEEDED, same version is already published
riesling1Windows Server 2019 Standard / x64... NOT SUPPORTED ...
palomino3Windows Server 2022 Datacenter / x64... NOT SUPPORTED ...
merida1macOS 10.14.6 Mojave / x86_64  OK    OK    WARNINGS    OK  UNNEEDED, same version is already published
Package 49/121HostnameOS / ArchINSTALLBUILDCHECKBUILD BIN
gmoviz 1.7.0  (landing page)
Kathleen Zeglinski
git_last_commit: d23d3d5
git_last_commit_date: 2021-10-26 12:58:11 -0500
nebbiolo1Linux (Ubuntu 20.04.4 LTS) / x86_64  OK    OK    OK  UNNEEDED, same version is already published
riesling1Windows Server 2019 Standard / x64  OK    OK    OK    NA  
palomino3Windows Server 2022 Datacenter / x64  OK    OK    OK    OK  NO, package depends on 'GenomicRanges' which is not available
merida1macOS 10.14.6 Mojave / x86_64  OK    OK    OK    OK  UNNEEDED, same version is already published
Package 50/121HostnameOS / ArchINSTALLBUILDCHECKBUILD BIN
GSReg 1.29.0  (landing page)
Bahman Afsari , Elana J. Fertig
git_last_commit: 62ad97b
git_last_commit_date: 2021-10-26 12:14:36 -0500
nebbiolo1Linux (Ubuntu 20.04.4 LTS) / x86_64  OK    OK    WARNINGS  UNNEEDED, same version is already published
riesling1Windows Server 2019 Standard / x64  OK    OK    WARNINGS    NA  
palomino3Windows Server 2022 Datacenter / x64  OK    OK    WARNINGS    OK  NO, package depends on 'GenomicFeatures' which is not available
merida1macOS 10.14.6 Mojave / x86_64  OK    OK    WARNINGS    OK  UNNEEDED, same version is already published
Package 51/121HostnameOS / ArchINSTALLBUILDCHECKBUILD BIN
GUIDEseq 1.25.3  (landing page)
Lihua Julie Zhu
git_last_commit: cf81669
git_last_commit_date: 2021-11-30 23:05:27 -0500
nebbiolo1Linux (Ubuntu 20.04.4 LTS) / x86_64  OK    OK    OK  UNNEEDED, same version is already published
riesling1Windows Server 2019 Standard / x64  OK    OK    OK    NA  
palomino3Windows Server 2022 Datacenter / x64  OK    OK    OK    OK  NO, package depends on 'GenomicRanges' which is not available
merida1macOS 10.14.6 Mojave / x86_64  OK    OK    OK    OK  UNNEEDED, same version is already published
Package 52/121HostnameOS / ArchINSTALLBUILDCHECKBUILD BIN
Guitar 2.11.0  (landing page)
Jia Meng
git_last_commit: ca81e9c
git_last_commit_date: 2021-10-26 12:22:48 -0500
nebbiolo1Linux (Ubuntu 20.04.4 LTS) / x86_64  OK    OK    OK  UNNEEDED, same version is already published
riesling1Windows Server 2019 Standard / x64  OK    OK    OK    NA  
palomino3Windows Server 2022 Datacenter / x64  OK    OK    OK    OK  NO, package depends on 'GenomicFeatures' which is not available
merida1macOS 10.14.6 Mojave / x86_64  OK    OK    OK    OK  UNNEEDED, same version is already published
Package 53/121HostnameOS / ArchINSTALLBUILDCHECKBUILD BIN
Gviz 1.39.5  (landing page)
Robert Ivanek
git_last_commit: 812e4d0
git_last_commit_date: 2022-01-21 10:52:54 -0500
nebbiolo1Linux (Ubuntu 20.04.4 LTS) / x86_64  OK    OK    OK  UNNEEDED, same version is already published
riesling1Windows Server 2019 Standard / x64  OK    OK    OK    NA  
palomino3Windows Server 2022 Datacenter / x64  OK    OK    OK    OK  NO, package depends on 'S4Vectors' which is not available
merida1macOS 10.14.6 Mojave / x86_64  OK    OK    OK    OK  UNNEEDED, same version is already published
Package 54/121HostnameOS / ArchINSTALLBUILDCHECKBUILD BIN
gwascat 2.27.0  (landing page)
VJ Carey
git_last_commit: 126f159
git_last_commit_date: 2021-10-26 12:02:07 -0500
nebbiolo1Linux (Ubuntu 20.04.4 LTS) / x86_64  OK    OK    OK  UNNEEDED, same version is already published
riesling1Windows Server 2019 Standard / x64  OK    OK    OK    NA  
palomino3Windows Server 2022 Datacenter / x64  OK    OK    OK    OK  NO, package depends on 'S4Vectors' which is not available
merida1macOS 10.14.6 Mojave / x86_64  OK    OK    OK    OK  UNNEEDED, same version is already published
Package 55/121HostnameOS / ArchINSTALLBUILDCHECKBUILD BIN
HelloRanges 1.21.0  (landing page)
Michael Lawrence
git_last_commit: af59c99
git_last_commit_date: 2021-10-26 12:30:55 -0500
nebbiolo1Linux (Ubuntu 20.04.4 LTS) / x86_64  OK    OK    WARNINGS  UNNEEDED, same version is already published
riesling1Windows Server 2019 Standard / x64  OK    OK    WARNINGS    NA  
palomino3Windows Server 2022 Datacenter / x64  OK    OK    WARNINGS    OK  NO, package depends on 'BiocGenerics' which is not available
merida1macOS 10.14.6 Mojave / x86_64  OK    OK    WARNINGS    OK  UNNEEDED, same version is already published
Package 56/121HostnameOS / ArchINSTALLBUILDCHECKBUILD BIN
HiLDA 1.9.0  (landing page)
Zhi Yang
git_last_commit: cab020f
git_last_commit_date: 2021-10-26 12:53:08 -0500
nebbiolo1Linux (Ubuntu 20.04.4 LTS) / x86_64  OK    OK    OK  UNNEEDED, same version is already published
riesling1Windows Server 2019 Standard / x64  OK    OK    OK    NA  
palomino3Windows Server 2022 Datacenter / x64  OK    OK    OK    OK  NO, package depends on 'GenomicRanges' which is not available
merida1macOS 10.14.6 Mojave / x86_64  OK    OK    OK    OK  UNNEEDED, same version is already published
Package 57/121HostnameOS / ArchINSTALLBUILDCHECKBUILD BIN
HTSeqGenie 4.25.1  (landing page)
Jens Reeder
git_last_commit: c66a4ad
git_last_commit_date: 2021-11-21 00:18:55 -0500
nebbiolo1Linux (Ubuntu 20.04.4 LTS) / x86_64  OK    OK    OK  UNNEEDED, same version is already published
riesling1Windows Server 2019 Standard / x64... NOT SUPPORTED ...
palomino3Windows Server 2022 Datacenter / x64... NOT SUPPORTED ...
merida1macOS 10.14.6 Mojave / x86_64... NOT SUPPORTED ...
Package 58/121HostnameOS / ArchINSTALLBUILDCHECKBUILD BIN
icetea 1.13.1  (landing page)
Vivek Bhardwaj
git_last_commit: 9324e97
git_last_commit_date: 2021-11-21 00:19:16 -0500
nebbiolo1Linux (Ubuntu 20.04.4 LTS) / x86_64  OK    OK    OK  UNNEEDED, same version is already published
riesling1Windows Server 2019 Standard / x64  OK    OK    OK    NA  
palomino3Windows Server 2022 Datacenter / x64  OK    OK    OK    OK  NO, package depends on 'GenomicFeatures' which is not available
merida1macOS 10.14.6 Mojave / x86_64  OK    OK    ERROR    OK  
Package 59/121HostnameOS / ArchINSTALLBUILDCHECKBUILD BIN
IMAS 1.19.0  (landing page)
Seonggyun Han
git_last_commit: 961c84c
git_last_commit_date: 2021-10-26 12:34:42 -0500
nebbiolo1Linux (Ubuntu 20.04.4 LTS) / x86_64  OK    OK    OK  UNNEEDED, same version is already published
riesling1Windows Server 2019 Standard / x64  OK    OK    OK    NA  
palomino3Windows Server 2022 Datacenter / x64  OK    OK    OK    OK  NO, package depends on 'GenomicFeatures' which is not available
merida1macOS 10.14.6 Mojave / x86_64  OK    OK    OK    OK  UNNEEDED, same version is already published
Package 60/121HostnameOS / ArchINSTALLBUILDCHECKBUILD BIN
InPAS 2.3.1  (landing page)
Jianhong Ou
git_last_commit: 320001a
git_last_commit_date: 2021-11-20 04:40:58 -0500
nebbiolo1Linux (Ubuntu 20.04.4 LTS) / x86_64  OK    OK    OK  UNNEEDED, same version is already published
riesling1Windows Server 2019 Standard / x64  OK    OK    OK    NA  
palomino3Windows Server 2022 Datacenter / x64  OK    OK    OK    OK  NO, package depends on 'Biobase' which is not available
merida1macOS 10.14.6 Mojave / x86_64  OK    OK    OK    OK  UNNEEDED, same version is already published
Package 61/121HostnameOS / ArchINSTALLBUILDCHECKBUILD BIN
INSPEcT 1.25.0  (landing page)
Stefano de Pretis
git_last_commit: e99d196
git_last_commit_date: 2021-10-26 12:21:19 -0500
nebbiolo1Linux (Ubuntu 20.04.4 LTS) / x86_64  OK    OK    OK  UNNEEDED, same version is already published
riesling1Windows Server 2019 Standard / x64  OK    OK    OK    NA  
palomino3Windows Server 2022 Datacenter / x64  OK    OK    OK    OK  NO, package depends on 'Biobase' which is not available
merida1macOS 10.14.6 Mojave / x86_64  OK    OK    OK    OK  UNNEEDED, same version is already published
Package 62/121HostnameOS / ArchINSTALLBUILDCHECKBUILD BIN
IntEREst 1.19.1  (landing page)
Ali Oghabian , Mikko Frilander
git_last_commit: af24676
git_last_commit_date: 2021-11-20 04:42:00 -0500
nebbiolo1Linux (Ubuntu 20.04.4 LTS) / x86_64  OK    OK    OK  UNNEEDED, same version is already published
riesling1Windows Server 2019 Standard / x64  OK    OK    OK    NA  
palomino3Windows Server 2022 Datacenter / x64  OK    OK    OK    OK  NO, package depends on 'GenomicRanges' which is not available
merida1macOS 10.14.6 Mojave / x86_64  OK    OK    OK    OK  UNNEEDED, same version is already published
Package 63/121HostnameOS / ArchINSTALLBUILDCHECKBUILD BIN
IVAS 2.15.0  (landing page)
Seonggyun Han
git_last_commit: 0187e23
git_last_commit_date: 2021-10-26 12:18:38 -0500
nebbiolo1Linux (Ubuntu 20.04.4 LTS) / x86_64  OK    OK    WARNINGS  UNNEEDED, same version is already published
riesling1Windows Server 2019 Standard / x64  OK    OK    WARNINGS    NA  
palomino3Windows Server 2022 Datacenter / x64  OK    OK    WARNINGS    OK  NO, package depends on 'GenomicFeatures' which is not available
merida1macOS 10.14.6 Mojave / x86_64  OK    OK    WARNINGS    OK  UNNEEDED, same version is already published
Package 64/121HostnameOS / ArchINSTALLBUILDCHECKBUILD BIN
karyoploteR 1.21.3  (landing page)
Bernat Gel
git_last_commit: 6fc3dfd
git_last_commit_date: 2022-01-19 05:33:07 -0500
nebbiolo1Linux (Ubuntu 20.04.4 LTS) / x86_64  OK    OK    OK  UNNEEDED, same version is already published
riesling1Windows Server 2019 Standard / x64  OK    OK    OK    NA  
palomino3Windows Server 2022 Datacenter / x64  OK    OK    OK    OK  NO, package depends on 'regioneR' which is not available
merida1macOS 10.14.6 Mojave / x86_64  OK    OK    OK    OK  UNNEEDED, same version is already published
Package 65/121HostnameOS / ArchINSTALLBUILDCHECKBUILD BIN
lumi 2.47.0  (landing page)
Lei Huang
git_last_commit: 2336503
git_last_commit_date: 2021-10-26 11:50:43 -0500
nebbiolo1Linux (Ubuntu 20.04.4 LTS) / x86_64  OK    OK    WARNINGS  UNNEEDED, same version is already published
riesling1Windows Server 2019 Standard / x64  OK    OK    WARNINGS    NA  
palomino3Windows Server 2022 Datacenter / x64  OK    OK    WARNINGS    OK  NO, package depends on 'Biobase' which is not available
merida1macOS 10.14.6 Mojave / x86_64  OK    OK    WARNINGS    OK  UNNEEDED, same version is already published
Package 66/121HostnameOS / ArchINSTALLBUILDCHECKBUILD BIN
mCSEA 1.15.0  (landing page)
Jordi Martorell-Marugán
git_last_commit: cb4a4d8
git_last_commit_date: 2021-10-26 12:41:03 -0500
nebbiolo1Linux (Ubuntu 20.04.4 LTS) / x86_64  OK    OK    OK  UNNEEDED, same version is already published
riesling1Windows Server 2019 Standard / x64  OK    OK    OK    NA  
palomino3Windows Server 2022 Datacenter / x64  OK    OK    OK    OK  NO, package depends on 'biomaRt' which is not available
merida1macOS 10.14.6 Mojave / x86_64  OK    OK    OK    OK  NO, package depends on 'fgsea' which is not available
Package 67/121HostnameOS / ArchINSTALLBUILDCHECKBUILD BIN
metagene 2.27.1  (landing page)
Charles Joly Beauparlant
git_last_commit: 432d1fd
git_last_commit_date: 2021-11-18 20:53:36 -0500
nebbiolo1Linux (Ubuntu 20.04.4 LTS) / x86_64  OK    OK    WARNINGS  UNNEEDED, same version is already published
riesling1Windows Server 2019 Standard / x64  OK    OK    WARNINGS    NA  
palomino3Windows Server 2022 Datacenter / x64  OK    OK    WARNINGS    OK  NO, package depends on 'GenomicRanges' which is not available
merida1macOS 10.14.6 Mojave / x86_64  OK    OK    WARNINGS    OK  UNNEEDED, same version is already published
Package 68/121HostnameOS / ArchINSTALLBUILDCHECKBUILD BIN
metaseqR2 1.7.11  (landing page)
Panagiotis Moulos
git_last_commit: e49a25c
git_last_commit_date: 2021-11-26 06:45:40 -0500
nebbiolo1Linux (Ubuntu 20.04.4 LTS) / x86_64  OK    OK    WARNINGS  UNNEEDED, same version is already published
riesling1Windows Server 2019 Standard / x64  OK    OK    WARNINGS    NA  
palomino3Windows Server 2022 Datacenter / x64  OK    OK    WARNINGS    OK  NO, package depends on 'DESeq2' which is not available
merida1macOS 10.14.6 Mojave / x86_64  OK    OK    WARNINGS    OK  UNNEEDED, same version is already published
Package 69/121HostnameOS / ArchINSTALLBUILDCHECKBUILD BIN
methylumi 2.41.1  (landing page)
Sean Davis
git_last_commit: 80d9b99
git_last_commit_date: 2021-10-27 03:30:10 -0500
nebbiolo1Linux (Ubuntu 20.04.4 LTS) / x86_64  OK    OK    OK  UNNEEDED, same version is already published
riesling1Windows Server 2019 Standard / x64  OK    OK    OK    NA  
palomino3Windows Server 2022 Datacenter / x64  OK    OK    OK    OK  NO, package depends on 'Biobase' which is not available
merida1macOS 10.14.6 Mojave / x86_64  OK    OK    OK    OK  UNNEEDED, same version is already published
Package 70/121HostnameOS / ArchINSTALLBUILDCHECKBUILD BIN
msgbsR 1.19.1  (landing page)
Benjamin Mayne
git_last_commit: b70ef90
git_last_commit_date: 2021-11-21 00:36:42 -0500
nebbiolo1Linux (Ubuntu 20.04.4 LTS) / x86_64  OK    OK    OK  UNNEEDED, same version is already published
riesling1Windows Server 2019 Standard / x64  OK    OK    OK    NA  
palomino3Windows Server 2022 Datacenter / x64  OK    OK    OK    OK  NO, package depends on 'GenomicRanges' which is not available
merida1macOS 10.14.6 Mojave / x86_64  OK    OK    OK    OK  UNNEEDED, same version is already published
Package 71/121HostnameOS / ArchINSTALLBUILDCHECKBUILD BIN
multicrispr 1.5.3  (landing page)
Aditya Bhagwat
git_last_commit: 61cb1d9
git_last_commit_date: 2021-12-23 06:34:18 -0500
nebbiolo1Linux (Ubuntu 20.04.4 LTS) / x86_64  OK    OK    OK  UNNEEDED, same version is already published
riesling1Windows Server 2019 Standard / x64  OK    OK    OK    NA  
palomino3Windows Server 2022 Datacenter / x64  OK    OK    OK    OK  NO, package depends on 'BiocGenerics' which is not available
merida1macOS 10.14.6 Mojave / x86_64  OK    OK    OK    OK  UNNEEDED, same version is already published
Package 72/121HostnameOS / ArchINSTALLBUILDCHECKBUILD BIN
musicatk 1.5.0  (landing page)
Aaron Chevalier
git_last_commit: ab8dbf0
git_last_commit_date: 2021-10-26 13:04:15 -0500
nebbiolo1Linux (Ubuntu 20.04.4 LTS) / x86_64  OK    OK    OK  UNNEEDED, same version is already published
riesling1Windows Server 2019 Standard / x64  OK    OK    OK    NA  
palomino3Windows Server 2022 Datacenter / x64  OK    OK    OK    OK  NO, package depends on 'SummarizedExperiment' which is not available
merida1macOS 10.14.6 Mojave / x86_64  OK    OK    OK    OK  UNNEEDED, same version is already published
Package 73/121HostnameOS / ArchINSTALLBUILDCHECKBUILD BIN
mygene 1.31.0  (landing page)
Adam Mark, Cyrus Afrasiabi, Chunlei Wu
git_last_commit: 64d853b
git_last_commit_date: 2021-10-26 12:17:38 -0500
nebbiolo1Linux (Ubuntu 20.04.4 LTS) / x86_64  OK    ERROR  skipped
riesling1Windows Server 2019 Standard / x64  OK    OK    OK    NA  
palomino3Windows Server 2022 Datacenter / x64  OK    OK    OK    OK  NO, package depends on 'GenomicFeatures' which is not available
merida1macOS 10.14.6 Mojave / x86_64  OK    OK    OK    OK  UNNEEDED, same version is already published
Package 74/121HostnameOS / ArchINSTALLBUILDCHECKBUILD BIN
NoRCE 1.7.1  (landing page)
Gulden Olgun
git_last_commit: 59b0d7d
git_last_commit_date: 2021-11-21 00:38:54 -0500
nebbiolo1Linux (Ubuntu 20.04.4 LTS) / x86_64  OK    OK    OK  UNNEEDED, same version is already published
riesling1Windows Server 2019 Standard / x64  OK    OK    OK    NA  
palomino3Windows Server 2022 Datacenter / x64  OK    OK    OK    OK  NO, package depends on 'KEGGREST' which is not available
merida1macOS 10.14.6 Mojave / x86_64  OK    OK    OK    OK  UNNEEDED, same version is already published
Package 75/121HostnameOS / ArchINSTALLBUILDCHECKBUILD BIN
ORFik 1.15.8  (landing page)
Haakon Tjeldnes
git_last_commit: 06261a2
git_last_commit_date: 2022-01-12 05:46:10 -0500
nebbiolo1Linux (Ubuntu 20.04.4 LTS) / x86_64  OK    OK    OK  UNNEEDED, same version is already published
riesling1Windows Server 2019 Standard / x64  OK    OK    OK    NA  
palomino3Windows Server 2022 Datacenter / x64  OK    OK    OK    OK  NO, package depends on 'IRanges' which is not available
merida1macOS 10.14.6 Mojave / x86_64  OK    OK    OK    OK  UNNEEDED, same version is already published
Package 76/121HostnameOS / ArchINSTALLBUILDCHECKBUILD BIN
Organism.dplyr 1.23.1  (landing page)
Martin Morgan
git_last_commit: ace251e
git_last_commit_date: 2021-10-28 16:48:35 -0500
nebbiolo1Linux (Ubuntu 20.04.4 LTS) / x86_64  OK    OK    OK  UNNEEDED, same version is already published
riesling1Windows Server 2019 Standard / x64  OK    OK    OK    NA  
palomino3Windows Server 2022 Datacenter / x64  OK    OK    OK    OK  NO, package depends on 'AnnotationFilter' which is not available
merida1macOS 10.14.6 Mojave / x86_64  OK    OK    OK    OK  UNNEEDED, same version is already published
Package 77/121HostnameOS / ArchINSTALLBUILDCHECKBUILD BIN
OrganismDbi 1.37.1  (landing page)
Bioconductor Package Maintainer
git_last_commit: 73d64ce
git_last_commit_date: 2021-11-13 13:20:02 -0500
nebbiolo1Linux (Ubuntu 20.04.4 LTS) / x86_64  OK    OK    WARNINGS  UNNEEDED, same version is already published
riesling1Windows Server 2019 Standard / x64  OK    OK    WARNINGS    NA  
palomino3Windows Server 2022 Datacenter / x64  OK    OK    WARNINGS    OK  NO, package depends on 'BiocGenerics' which is not available
merida1macOS 10.14.6 Mojave / x86_64  OK    OK    WARNINGS    OK  UNNEEDED, same version is already published
Package 78/121HostnameOS / ArchINSTALLBUILDCHECKBUILD BIN
OUTRIDER 1.13.0  (landing page)
Christian Mertes
git_last_commit: 82ab04c
git_last_commit_date: 2021-10-26 12:45:42 -0500
nebbiolo1Linux (Ubuntu 20.04.4 LTS) / x86_64  OK    OK    OK  UNNEEDED, same version is already published
riesling1Windows Server 2019 Standard / x64  OK    OK    OK    NA  
palomino3Windows Server 2022 Datacenter / x64  OK    OK    OK    OK  NO, package depends on 'GenomicFeatures' which is not available
merida1macOS 10.14.6 Mojave / x86_64  OK    OK    OK    OK  UNNEEDED, same version is already published
Package 79/121HostnameOS / ArchINSTALLBUILDCHECKBUILD BIN
proActiv 1.5.0  (landing page)
Joseph Lee
git_last_commit: e9e7e25
git_last_commit_date: 2021-10-26 13:02:38 -0500
nebbiolo1Linux (Ubuntu 20.04.4 LTS) / x86_64  OK    OK    OK  UNNEEDED, same version is already published
riesling1Windows Server 2019 Standard / x64  OK    OK    OK    NA  
palomino3Windows Server 2022 Datacenter / x64  OK    OK    OK    OK  NO, package depends on 'AnnotationDbi' which is not available
merida1macOS 10.14.6 Mojave / x86_64  OK    OK    OK    OK  UNNEEDED, same version is already published
Package 80/121HostnameOS / ArchINSTALLBUILDCHECKBUILD BIN
proBAMr 1.29.0  (landing page)
Xiaojing Wang
git_last_commit: d612e19
git_last_commit_date: 2021-10-26 12:16:35 -0500
nebbiolo1Linux (Ubuntu 20.04.4 LTS) / x86_64  OK    OK    OK  UNNEEDED, same version is already published
riesling1Windows Server 2019 Standard / x64  OK    OK    OK    NA  
palomino3Windows Server 2022 Datacenter / x64  OK    OK    OK    OK  NO, package depends on 'IRanges' which is not available
merida1macOS 10.14.6 Mojave / x86_64  OK    OK    OK    OK  UNNEEDED, same version is already published
Package 81/121HostnameOS / ArchINSTALLBUILDCHECKBUILD BIN
profileplyr 1.11.3  (landing page)
Tom Carroll , Doug Barrows
git_last_commit: b2408a6
git_last_commit_date: 2021-12-27 10:18:07 -0500
nebbiolo1Linux (Ubuntu 20.04.4 LTS) / x86_64  OK    OK    OK  UNNEEDED, same version is already published
riesling1Windows Server 2019 Standard / x64  OK    OK    OK    NA  
palomino3Windows Server 2022 Datacenter / x64  OK    OK    OK    OK  NO, package depends on 'BiocGenerics' which is not available
merida1macOS 10.14.6 Mojave / x86_64  OK    OK    OK    OK  NO, package depends on 'ChIPseeker' which is not available
Package 82/121HostnameOS / ArchINSTALLBUILDCHECKBUILD BIN
ProteoDisco 1.1.3  (landing page)
Job van Riet
git_last_commit: 24e9090
git_last_commit_date: 2021-12-06 05:08:39 -0500
nebbiolo1Linux (Ubuntu 20.04.4 LTS) / x86_64  OK    OK    WARNINGS  UNNEEDED, same version is already published
riesling1Windows Server 2019 Standard / x64  OK    OK    WARNINGS    NA  
palomino3Windows Server 2022 Datacenter / x64  OK    OK    WARNINGS    OK  NO, package depends on 'BiocGenerics' which is not available
merida1macOS 10.14.6 Mojave / x86_64  OK    OK    WARNINGS    OK  UNNEEDED, same version is already published
Package 83/121HostnameOS / ArchINSTALLBUILDCHECKBUILD BIN
PureCN 2.1.6  (landing page)
Markus Riester
git_last_commit: 26f9dbb
git_last_commit_date: 2021-12-22 15:47:20 -0500
nebbiolo1Linux (Ubuntu 20.04.4 LTS) / x86_64  OK    OK    OK  UNNEEDED, same version is already published
riesling1Windows Server 2019 Standard / x64  OK    OK    OK    NA  
palomino3Windows Server 2022 Datacenter / x64  OK    OK    OK    OK  NO, package depends on 'VariantAnnotation' which is not available
merida1macOS 10.14.6 Mojave / x86_64  OK    OK    OK    OK  UNNEEDED, same version is already published
Package 84/121HostnameOS / ArchINSTALLBUILDCHECKBUILD BIN
qpgraph 2.29.0  (landing page)
Robert Castelo
git_last_commit: faf7788
git_last_commit_date: 2021-10-26 11:53:27 -0500
nebbiolo1Linux (Ubuntu 20.04.4 LTS) / x86_64  OK    OK    WARNINGS  UNNEEDED, same version is already published
riesling1Windows Server 2019 Standard / x64  OK    OK    WARNINGS    NA  
palomino3Windows Server 2022 Datacenter / x64  OK    OK    WARNINGS    OK  NO, package depends on 'annotate' which is not available
merida1macOS 10.14.6 Mojave / x86_64  OK    OK    WARNINGS    OK  UNNEEDED, same version is already published
Package 85/121HostnameOS / ArchINSTALLBUILDCHECKBUILD BIN
QuasR 1.35.0  (landing page)
Michael Stadler
git_last_commit: 304f6e6
git_last_commit_date: 2021-12-16 15:53:40 -0500
nebbiolo1Linux (Ubuntu 20.04.4 LTS) / x86_64  OK    OK    OK  UNNEEDED, same version is already published
riesling1Windows Server 2019 Standard / x64  OK    OK    OK    NA  
palomino3Windows Server 2022 Datacenter / x64  OK    OK    WARNINGS    OK  NO, package depends on 'GenomicRanges' which is not available
merida1macOS 10.14.6 Mojave / x86_64  OK    OK    OK    OK  UNNEEDED, same version is already published
Package 86/121HostnameOS / ArchINSTALLBUILDCHECKBUILD BIN
RareVariantVis 2.23.0  (landing page)
Tomasz Stokowy
git_last_commit: 19bbcdd
git_last_commit_date: 2021-10-26 12:20:56 -0500
nebbiolo1Linux (Ubuntu 20.04.4 LTS) / x86_64  OK    OK    OK  UNNEEDED, same version is already published
riesling1Windows Server 2019 Standard / x64  OK    OK    OK    NA  
palomino3Windows Server 2022 Datacenter / x64  OK    OK    OK    OK  NO, package depends on 'BiocGenerics' which is not available
merida1macOS 10.14.6 Mojave / x86_64  OK    OK    OK    OK  UNNEEDED, same version is already published
Package 87/121HostnameOS / ArchINSTALLBUILDCHECKBUILD BIN
RCAS 1.21.1  (landing page)
Bora Uyar
git_last_commit: 8c5dd58
git_last_commit_date: 2021-11-21 00:45:33 -0500
nebbiolo1Linux (Ubuntu 20.04.4 LTS) / x86_64  OK    OK    OK  UNNEEDED, same version is already published
riesling1Windows Server 2019 Standard / x64  OK    OK    OK    NA  
palomino3Windows Server 2022 Datacenter / x64  OK    OK    OK    OK  NO, package depends on 'GenomicRanges' which is not available
merida1macOS 10.14.6 Mojave / x86_64  OK    OK    OK    OK  UNNEEDED, same version is already published
Package 88/121HostnameOS / ArchINSTALLBUILDCHECKBUILD BIN
rCGH 1.25.0  (landing page)
Frederic Commo
git_last_commit: d1738e8
git_last_commit_date: 2021-10-26 12:21:28 -0500
nebbiolo1Linux (Ubuntu 20.04.4 LTS) / x86_64  OK    OK    OK  UNNEEDED, same version is already published
riesling1Windows Server 2019 Standard / x64  OK    OK    OK    NA  
palomino3Windows Server 2022 Datacenter / x64  OK    OK    OK    OK  NO, package depends on 'affy' which is not available
merida1macOS 10.14.6 Mojave / x86_64  OK    OK    OK    OK  UNNEEDED, same version is already published
Package 89/121HostnameOS / ArchINSTALLBUILDCHECKBUILD BIN
recoup 1.23.1  (landing page)
Panagiotis Moulos
git_last_commit: 5e8cf95
git_last_commit_date: 2021-11-21 00:47:33 -0500
nebbiolo1Linux (Ubuntu 20.04.4 LTS) / x86_64  OK    OK    WARNINGS  UNNEEDED, same version is already published
riesling1Windows Server 2019 Standard / x64  OK    OK    WARNINGS    NA  
palomino3Windows Server 2022 Datacenter / x64  OK    OK    WARNINGS    OK  NO, package depends on 'GenomicRanges' which is not available
merida1macOS 10.14.6 Mojave / x86_64  OK    OK    WARNINGS    OK  UNNEEDED, same version is already published
Package 90/121HostnameOS / ArchINSTALLBUILDCHECKBUILD BIN
Rhisat2 1.11.1  (landing page)
Charlotte Soneson
git_last_commit: e6f69a9
git_last_commit_date: 2021-12-16 15:57:30 -0500
nebbiolo1Linux (Ubuntu 20.04.4 LTS) / x86_64  OK    OK    WARNINGS  UNNEEDED, same version is already published
riesling1Windows Server 2019 Standard / x64  OK    OK    WARNINGS    NA  
palomino3Windows Server 2022 Datacenter / x64  OK    OK    WARNINGS    OK  NO, package depends on 'GenomicFeatures' which is not available
merida1macOS 10.14.6 Mojave / x86_64  OK    OK    OK    OK  UNNEEDED, same version is already published
Package 91/121HostnameOS / ArchINSTALLBUILDCHECKBUILD BIN
RiboCrypt 1.1.0  (landing page)
Michal Swirski
git_last_commit: b21a032
git_last_commit_date: 2021-10-26 13:14:03 -0500
nebbiolo1Linux (Ubuntu 20.04.4 LTS) / x86_64  OK    OK    OK  UNNEEDED, same version is already published
riesling1Windows Server 2019 Standard / x64  OK    OK    OK    NA  
palomino3Windows Server 2022 Datacenter / x64  OK    OK    OK    OK  NO, package depends on 'ORFik' which is not available
merida1macOS 10.14.6 Mojave / x86_64  OK    OK    OK    OK  UNNEEDED, same version is already published
Package 92/121HostnameOS / ArchINSTALLBUILDCHECKBUILD BIN
RiboDiPA 1.3.2  (landing page)
Ji-Ping Wang
git_last_commit: 791cfb1
git_last_commit_date: 2022-01-03 11:06:45 -0500
nebbiolo1Linux (Ubuntu 20.04.4 LTS) / x86_64  OK    OK    OK  UNNEEDED, same version is already published
riesling1Windows Server 2019 Standard / x64  ERROR    ERROR  skippedskipped
palomino3Windows Server 2022 Datacenter / x64  OK    OK    OK    OK  NO, package depends on 'Rsamtools' which is not available
merida1macOS 10.14.6 Mojave / x86_64  OK    OK    OK    OK  UNNEEDED, same version is already published
Package 93/121HostnameOS / ArchINSTALLBUILDCHECKBUILD BIN
RiboProfiling 1.25.1  (landing page)
A. Popa
git_last_commit: c5025aa
git_last_commit_date: 2021-11-17 08:50:59 -0500
nebbiolo1Linux (Ubuntu 20.04.4 LTS) / x86_64  OK    OK    WARNINGS  UNNEEDED, same version is already published
riesling1Windows Server 2019 Standard / x64  OK    OK    WARNINGS    NA  
palomino3Windows Server 2022 Datacenter / x64  OK    OK    WARNINGS    OK  NO, package depends on 'Biostrings' which is not available
merida1macOS 10.14.6 Mojave / x86_64  OK    OK    WARNINGS    OK  UNNEEDED, same version is already published
Package 94/121HostnameOS / ArchINSTALLBUILDCHECKBUILD BIN
ribosomeProfilingQC 1.7.2  (landing page)
Jianhong Ou
git_last_commit: a97d282
git_last_commit_date: 2021-11-21 00:49:04 -0500
nebbiolo1Linux (Ubuntu 20.04.4 LTS) / x86_64  OK    OK    OK  UNNEEDED, same version is already published
riesling1Windows Server 2019 Standard / x64  OK    OK    OK    NA  
palomino3Windows Server 2022 Datacenter / x64  OK    OK    OK    OK  NO, package depends on 'GenomicRanges' which is not available
merida1macOS 10.14.6 Mojave / x86_64  OK    OK    OK    OK  UNNEEDED, same version is already published
Package 95/121HostnameOS / ArchINSTALLBUILDCHECKBUILD BIN
RLSeq 1.1.0  (landing page)
Henry Miller
git_last_commit: 8ce0de5
git_last_commit_date: 2021-10-26 13:14:18 -0500
nebbiolo1Linux (Ubuntu 20.04.4 LTS) / x86_64  OK    OK    OK  UNNEEDED, same version is already published
riesling1Windows Server 2019 Standard / x64  OK    OK    OK    NA  
palomino3Windows Server 2022 Datacenter / x64  OK    OK    OK    OK  NO, package depends on 'regioneR' which is not available
merida1macOS 10.14.6 Mojave / x86_64  OK    OK    OK    OK  UNNEEDED, same version is already published
Package 96/121HostnameOS / ArchINSTALLBUILDCHECKBUILD BIN
RNAmodR 1.9.1  (landing page)
Felix G.M. Ernst
git_last_commit: 8cd7f03
git_last_commit_date: 2021-11-04 21:34:40 -0500
nebbiolo1Linux (Ubuntu 20.04.4 LTS) / x86_64  OK    OK    OK  UNNEEDED, same version is already published
riesling1Windows Server 2019 Standard / x64  OK    OK    OK    NA  
palomino3Windows Server 2022 Datacenter / x64  OK    OK    OK    OK  NO, package depends on 'S4Vectors' which is not available
merida1macOS 10.14.6 Mojave / x86_64  OK    OK    OK    OK  UNNEEDED, same version is already published
Package 97/121HostnameOS / ArchINSTALLBUILDCHECKBUILD BIN
scanMiRApp 1.1.5  (landing page)
Pierre-Luc Germain
git_last_commit: 6cb642a
git_last_commit_date: 2022-01-19 03:06:29 -0500
nebbiolo1Linux (Ubuntu 20.04.4 LTS) / x86_64  OK    OK    WARNINGS  UNNEEDED, same version is already published
riesling1Windows Server 2019 Standard / x64  OK    OK    WARNINGS    NA  
palomino3Windows Server 2022 Datacenter / x64  OK    OK    WARNINGS    OK  NO, package depends on 'AnnotationDbi' which is not available
merida1macOS 10.14.6 Mojave / x86_64  OK    OK    WARNINGS    OK  UNNEEDED, same version is already published
Package 98/121HostnameOS / ArchINSTALLBUILDCHECKBUILD BIN
scruff 1.13.2  (landing page)
Zhe Wang
git_last_commit: d974aa7
git_last_commit_date: 2021-11-21 00:53:13 -0500
nebbiolo1Linux (Ubuntu 20.04.4 LTS) / x86_64  OK    OK    OK  UNNEEDED, same version is already published
riesling1Windows Server 2019 Standard / x64  OK    OK    OK    NA  
palomino3Windows Server 2022 Datacenter / x64  OK    ERROR  skippedskipped
merida1macOS 10.14.6 Mojave / x86_64  OK    OK    OK    OK  UNNEEDED, same version is already published
Package 99/121HostnameOS / ArchINSTALLBUILDCHECKBUILD BIN
SGSeq 1.29.0  (landing page)
Leonard Goldstein
git_last_commit: f79a2e3
git_last_commit_date: 2021-10-26 12:17:06 -0500
nebbiolo1Linux (Ubuntu 20.04.4 LTS) / x86_64  OK    OK    OK  UNNEEDED, same version is already published
riesling1Windows Server 2019 Standard / x64  OK    OK    OK    NA  
palomino3Windows Server 2022 Datacenter / x64  OK    OK    OK    OK  NO, package depends on 'IRanges' which is not available
merida1macOS 10.14.6 Mojave / x86_64  OK    OK    OK    OK  UNNEEDED, same version is already published
Package 100/121HostnameOS / ArchINSTALLBUILDCHECKBUILD BIN
sitadela 1.3.0  (landing page)
Panagiotis Moulos
git_last_commit: fc54660
git_last_commit_date: 2021-10-26 13:07:48 -0500
nebbiolo1Linux (Ubuntu 20.04.4 LTS) / x86_64  OK    OK    WARNINGS  UNNEEDED, same version is already published
riesling1Windows Server 2019 Standard / x64  OK    OK    WARNINGS    NA  
palomino3Windows Server 2022 Datacenter / x64  OK    OK    WARNINGS    OK  NO, package depends on 'Biobase' which is not available
merida1macOS 10.14.6 Mojave / x86_64  OK    OK    WARNINGS    OK  UNNEEDED, same version is already published
Package 101/121HostnameOS / ArchINSTALLBUILDCHECKBUILD BIN
spatzie 1.1.0  (landing page)
Jennifer Hammelman
git_last_commit: 44c7285
git_last_commit_date: 2021-11-13 10:43:46 -0500
nebbiolo1Linux (Ubuntu 20.04.4 LTS) / x86_64  OK    OK    OK  UNNEEDED, same version is already published
riesling1Windows Server 2019 Standard / x64  OK    OK    OK    NA  
palomino3Windows Server 2022 Datacenter / x64  OK    OK    OK    OK  NO, package depends on 'BiocGenerics' which is not available
merida1macOS 10.14.6 Mojave / x86_64  OK    OK    OK    OK  UNNEEDED, same version is already published
Package 102/121HostnameOS / ArchINSTALLBUILDCHECKBUILD BIN
SplicingGraphs 1.35.0  (landing page)
H. Pagès
git_last_commit: f75a66e
git_last_commit_date: 2021-10-26 12:08:01 -0500
nebbiolo1Linux (Ubuntu 20.04.4 LTS) / x86_64  OK    OK    WARNINGS  UNNEEDED, same version is already published
riesling1Windows Server 2019 Standard / x64  OK    OK    WARNINGS    NA  
palomino3Windows Server 2022 Datacenter / x64  OK    OK    WARNINGS    OK  NO, package depends on 'GenomicFeatures' which is not available
merida1macOS 10.14.6 Mojave / x86_64  OK    OK    WARNINGS    OK  UNNEEDED, same version is already published
Package 103/121HostnameOS / ArchINSTALLBUILDCHECKBUILD BIN
SPLINTER 1.21.1  (landing page)
Diana Low
git_last_commit: 78ff78a
git_last_commit_date: 2021-11-21 00:57:17 -0500
nebbiolo1Linux (Ubuntu 20.04.4 LTS) / x86_64  OK    OK    OK  UNNEEDED, same version is already published
riesling1Windows Server 2019 Standard / x64  OK    OK    WARNINGS    NA  
palomino3Windows Server 2022 Datacenter / x64  OK    OK    WARNINGS    OK  NO, package depends on 'Biostrings' which is not available
merida1macOS 10.14.6 Mojave / x86_64  OK    OK    OK    OK  UNNEEDED, same version is already published
Package 104/121HostnameOS / ArchINSTALLBUILDCHECKBUILD BIN
srnadiff 1.15.0  (landing page)
Zytnicki Matthias
git_last_commit: f364c77
git_last_commit_date: 2021-10-26 12:41:18 -0500
nebbiolo1Linux (Ubuntu 20.04.4 LTS) / x86_64  OK    OK    WARNINGS  UNNEEDED, same version is already published
riesling1Windows Server 2019 Standard / x64  OK    OK    WARNINGS    NA  
palomino3Windows Server 2022 Datacenter / x64  OK    OK    WARNINGS    OK  NO, package depends on 'S4Vectors' which is not available
merida1macOS 10.14.6 Mojave / x86_64  OK    OK    WARNINGS    OK  UNNEEDED, same version is already published
Package 105/121HostnameOS / ArchINSTALLBUILDCHECKBUILD BIN
StructuralVariantAnnotation 1.11.0  (landing page)
Daniel Cameron
git_last_commit: f787e1f
git_last_commit_date: 2021-12-22 02:00:43 -0500
nebbiolo1Linux (Ubuntu 20.04.4 LTS) / x86_64  OK    OK    OK  UNNEEDED, same version is already published
riesling1Windows Server 2019 Standard / x64  OK    OK    OK    NA  
palomino3Windows Server 2022 Datacenter / x64  OK    OK    OK    OK  NO, package depends on 'GenomicRanges' which is not available
merida1macOS 10.14.6 Mojave / x86_64  OK    OK    OK    OK  UNNEEDED, same version is already published
Package 106/121HostnameOS / ArchINSTALLBUILDCHECKBUILD BIN
svaNUMT 1.1.0  (landing page)
Ruining Dong
git_last_commit: e7ecae5
git_last_commit_date: 2021-10-26 13:11:07 -0500
nebbiolo1Linux (Ubuntu 20.04.4 LTS) / x86_64  OK    OK    OK  UNNEEDED, same version is already published
riesling1Windows Server 2019 Standard / x64  OK    OK    OK    NA  
palomino3Windows Server 2022 Datacenter / x64  OK    OK    OK    OK  NO, package depends on 'GenomicRanges' which is not available
merida1macOS 10.14.6 Mojave / x86_64  OK    OK    OK    OK  UNNEEDED, same version is already published
Package 107/121HostnameOS / ArchINSTALLBUILDCHECKBUILD BIN
svaRetro 1.1.0  (landing page)
Ruining Dong
git_last_commit: f160fb7
git_last_commit_date: 2021-10-26 13:12:07 -0500
nebbiolo1Linux (Ubuntu 20.04.4 LTS) / x86_64  OK    OK    OK  UNNEEDED, same version is already published
riesling1Windows Server 2019 Standard / x64  OK    OK    OK    NA  
palomino3Windows Server 2022 Datacenter / x64  OK    OK    OK    OK  NO, package depends on 'GenomicRanges' which is not available
merida1macOS 10.14.6 Mojave / x86_64  OK    OK    OK    OK  UNNEEDED, same version is already published
Package 108/121HostnameOS / ArchINSTALLBUILDCHECKBUILD BIN
TAPseq 1.7.0  (landing page)
Andreas R. Gschwind
git_last_commit: a6002ee
git_last_commit_date: 2021-10-26 12:57:48 -0500
nebbiolo1Linux (Ubuntu 20.04.4 LTS) / x86_64  OK    OK    WARNINGS  UNNEEDED, same version is already published
riesling1Windows Server 2019 Standard / x64  OK    OK    WARNINGS    NA  
palomino3Windows Server 2022 Datacenter / x64  OK    OK    WARNINGS    OK  NO, package depends on 'GenomicAlignments' which is not available
merida1macOS 10.14.6 Mojave / x86_64  OK    OK    WARNINGS    OK  UNNEEDED, same version is already published
Package 109/121HostnameOS / ArchINSTALLBUILDCHECKBUILD BIN
TCGAutils 1.15.1  (landing page)
Marcel Ramos
git_last_commit: d23ad01
git_last_commit_date: 2021-12-10 16:41:09 -0500
nebbiolo1Linux (Ubuntu 20.04.4 LTS) / x86_64  OK    OK    OK  UNNEEDED, same version is already published
riesling1Windows Server 2019 Standard / x64  OK    OK    OK    NA  
palomino3Windows Server 2022 Datacenter / x64  OK    OK    OK    OK  NO, package depends on 'AnnotationDbi' which is not available
merida1macOS 10.14.6 Mojave / x86_64  OK    OK    OK    OK  UNNEEDED, same version is already published
Package 110/121HostnameOS / ArchINSTALLBUILDCHECKBUILD BIN
TFEA.ChIP 1.15.1  (landing page)
Laura Puente Santamaría
git_last_commit: 8dfc758
git_last_commit_date: 2021-11-21 01:00:12 -0500
nebbiolo1Linux (Ubuntu 20.04.4 LTS) / x86_64  OK    OK    OK  UNNEEDED, same version is already published
riesling1Windows Server 2019 Standard / x64  OK    OK    OK    NA  
palomino3Windows Server 2022 Datacenter / x64  OK    OK    OK    OK  NO, package depends on 'GenomicRanges' which is not available
merida1macOS 10.14.6 Mojave / x86_64  OK    OK    OK    OK  UNNEEDED, same version is already published
Package 111/121HostnameOS / ArchINSTALLBUILDCHECKBUILD BIN
trackViewer 1.31.2  (landing page)
Jianhong Ou
git_last_commit: c4044f4
git_last_commit_date: 2021-11-17 01:14:00 -0500
nebbiolo1Linux (Ubuntu 20.04.4 LTS) / x86_64  OK    OK    OK  UNNEEDED, same version is already published
riesling1Windows Server 2019 Standard / x64  OK    OK    OK    NA  
palomino3Windows Server 2022 Datacenter / x64  OK    ERROR  skippedskipped
merida1macOS 10.14.6 Mojave / x86_64  OK    OK    OK    OK  UNNEEDED, same version is already published
Package 112/121HostnameOS / ArchINSTALLBUILDCHECKBUILD BIN
transcriptR 1.23.1  (landing page)
Armen R. Karapetyan
git_last_commit: ca08999
git_last_commit_date: 2021-11-20 20:56:28 -0500
nebbiolo1Linux (Ubuntu 20.04.4 LTS) / x86_64  OK    OK    OK  UNNEEDED, same version is already published
riesling1Windows Server 2019 Standard / x64  OK    OK    OK    NA  
palomino3Windows Server 2022 Datacenter / x64  OK    OK    OK    OK  NO, package depends on 'BiocGenerics' which is not available
merida1macOS 10.14.6 Mojave / x86_64  OK    OK    OK    OK  UNNEEDED, same version is already published
Package 113/121HostnameOS / ArchINSTALLBUILDCHECKBUILD BIN
TRESS 1.1.6  (landing page)
Zhenxing Guo
git_last_commit: 3db1c7f
git_last_commit_date: 2022-01-22 13:12:39 -0500
nebbiolo1Linux (Ubuntu 20.04.4 LTS) / x86_64  OK    OK    OK  UNNEEDED, same version is already published
riesling1Windows Server 2019 Standard / x64  OK    ERROR  skippedskipped
palomino3Windows Server 2022 Datacenter / x64  OK    ERROR  skippedskipped
merida1macOS 10.14.6 Mojave / x86_64  OK    OK    OK    OK  UNNEEDED, same version is already published
Package 114/121HostnameOS / ArchINSTALLBUILDCHECKBUILD BIN
txcutr 1.1.0  (landing page)
Mervin Fansler
git_last_commit: a87e21d
git_last_commit_date: 2021-10-26 13:14:01 -0500
nebbiolo1Linux (Ubuntu 20.04.4 LTS) / x86_64  OK    OK    OK  UNNEEDED, same version is already published
riesling1Windows Server 2019 Standard / x64  OK    OK    OK    NA  
palomino3Windows Server 2022 Datacenter / x64  OK    OK    OK    OK  NO, package depends on 'AnnotationDbi' which is not available
merida1macOS 10.14.6 Mojave / x86_64  OK    OK    OK    OK  UNNEEDED, same version is already published
Package 115/121HostnameOS / ArchINSTALLBUILDCHECKBUILD BIN
tximeta 1.13.6  (landing page)
Michael Love
git_last_commit: 1a18f22
git_last_commit_date: 2022-01-19 12:03:56 -0500
nebbiolo1Linux (Ubuntu 20.04.4 LTS) / x86_64  OK    OK    OK  UNNEEDED, same version is already published
riesling1Windows Server 2019 Standard / x64  OK    OK    OK    NA  
palomino3Windows Server 2022 Datacenter / x64  OK    OK    OK    OK  NO, package depends on 'SummarizedExperiment' which is not available
merida1macOS 10.14.6 Mojave / x86_64  OK    OK    OK    OK  UNNEEDED, same version is already published
Package 116/121HostnameOS / ArchINSTALLBUILDCHECKBUILD BIN
Ularcirc 1.13.0  (landing page)
David Humphreys
git_last_commit: 64af265
git_last_commit_date: 2021-10-26 12:45:11 -0500
nebbiolo1Linux (Ubuntu 20.04.4 LTS) / x86_64  OK    OK    OK  UNNEEDED, same version is already published
riesling1Windows Server 2019 Standard / x64  OK    OK    OK    NA  
palomino3Windows Server 2022 Datacenter / x64  OK    OK    OK    OK  NO, package depends on 'AnnotationHub' which is not available
merida1macOS 10.14.6 Mojave / x86_64  OK    OK    OK    OK  UNNEEDED, same version is already published
Package 117/121HostnameOS / ArchINSTALLBUILDCHECKBUILD BIN
UMI4Cats 1.5.0  (landing page)
Mireia Ramos-Rodriguez
git_last_commit: 4eaf04d
git_last_commit_date: 2021-10-26 13:01:42 -0500
nebbiolo1Linux (Ubuntu 20.04.4 LTS) / x86_64  OK    OK    OK  UNNEEDED, same version is already published
riesling1Windows Server 2019 Standard / x64  OK    OK    OK    NA  
palomino3Windows Server 2022 Datacenter / x64  OK    OK    OK    OK  NO, package depends on 'SummarizedExperiment' which is not available
merida1macOS 10.14.6 Mojave / x86_64  OK    OK    OK    OK  UNNEEDED, same version is already published
Package 118/121HostnameOS / ArchINSTALLBUILDCHECKBUILD BIN
VariantAnnotation 1.41.3  (landing page)
Bioconductor Package Maintainer
git_last_commit: ba3b85c
git_last_commit_date: 2021-11-22 10:59:40 -0500
nebbiolo1Linux (Ubuntu 20.04.4 LTS) / x86_64  OK    OK    OK  UNNEEDED, same version is already published
riesling1Windows Server 2019 Standard / x64  OK    OK    OK    NA  
palomino3Windows Server 2022 Datacenter / x64  OK    OK    OK    OK  NO, package depends on 'BiocGenerics' which is not available
merida1macOS 10.14.6 Mojave / x86_64  OK    OK    OK    OK  UNNEEDED, same version is already published
Package 119/121HostnameOS / ArchINSTALLBUILDCHECKBUILD BIN
VariantFiltering 1.31.0  (landing page)
Robert Castelo
git_last_commit: a5893e3
git_last_commit_date: 2021-10-26 12:13:05 -0500
nebbiolo1Linux (Ubuntu 20.04.4 LTS) / x86_64  OK    OK    OK  UNNEEDED, same version is already published
riesling1Windows Server 2019 Standard / x64  OK    OK    OK    NA  
palomino3Windows Server 2022 Datacenter / x64  OK    OK    OK    OK  NO, package depends on 'BiocGenerics' which is not available
merida1macOS 10.14.6 Mojave / x86_64  OK    OK    OK    OK  UNNEEDED, same version is already published
Package 120/121HostnameOS / ArchINSTALLBUILDCHECKBUILD BIN
VariantTools 1.37.1  (landing page)
Michael Lawrence
git_last_commit: 4d8c909
git_last_commit_date: 2021-11-17 00:42:05 -0500
nebbiolo1Linux (Ubuntu 20.04.4 LTS) / x86_64  OK    OK    WARNINGS  UNNEEDED, same version is already published
riesling1Windows Server 2019 Standard / x64  OK    OK    WARNINGS    NA  
palomino3Windows Server 2022 Datacenter / x64  OK    OK    WARNINGS    OK  NO, package depends on 'S4Vectors' which is not available
merida1macOS 10.14.6 Mojave / x86_64  OK    OK    WARNINGS    OK  UNNEEDED, same version is already published
Package 121/121HostnameOS / ArchINSTALLBUILDCHECKBUILD BIN
wavClusteR 2.29.0  (landing page)
Federico Comoglio
git_last_commit: b38fca6
git_last_commit_date: 2021-10-26 12:13:59 -0500
nebbiolo1Linux (Ubuntu 20.04.4 LTS) / x86_64  OK    OK    OK  UNNEEDED, same version is already published
riesling1Windows Server 2019 Standard / x64  OK    OK    OK    NA  
palomino3Windows Server 2022 Datacenter / x64  OK    OK    OK    OK  NO, package depends on 'GenomicRanges' which is not available
merida1macOS 10.14.6 Mojave / x86_64  OK    OK    OK    OK  UNNEEDED, same version is already published