Back to Build/check report for BioC 3.15
AB[C]DEFGHIJKLMNOPQRSTUVWXYZ

This page was generated on 2021-12-06 12:31:48 -0500 (Mon, 06 Dec 2021).

All results for package compcodeR

To the developers/maintainers of the compcodeR package:
- Please allow up to 24 hours (and sometimes 48 hours) for your latest push to git@git.bioconductor.org:packages/compcodeR.git to
reflect on this report. See How and When does the builder pull? When will my changes propagate? here for more information.
- Make sure to use the following settings in order to reproduce any error or warning you see on this page.

raw results

Package 376/2068HostnameOS / ArchINSTALLBUILDCHECKBUILD BIN
compcodeR 1.31.0  (landing page)
Charlotte Soneson
Snapshot Date: 2021-12-05 13:55:08 -0500 (Sun, 05 Dec 2021)
git_url: https://git.bioconductor.org/packages/compcodeR
git_branch: master
git_last_commit: 2b73324
git_last_commit_date: 2021-10-27 02:42:17 -0500 (Wed, 27 Oct 2021)
nebbiolo1Linux (Ubuntu 20.04.3 LTS) / x86_64  OK    OK    OK  UNNEEDED, same version is already published