Back to Multiple platform build/check report for BioC 3.19:   simplified   long
ABCDEFGHIJKL[M]NOPQRSTUVWXYZ

This page was generated on 2023-12-02 11:34:34 -0500 (Sat, 02 Dec 2023).

HostnameOSArch (*)R versionInstalled pkgs
nebbiolo1Linux (Ubuntu 22.04.2 LTS)x86_64R Under development (unstable) (2023-11-11 r85510) -- "Unsuffered Consequences" 4601
palomino3Windows Server 2022 Datacenterx64R Under development (unstable) (2023-11-14 r85524 ucrt) -- "Unsuffered Consequences" 4344
merida1macOS 12.7.1 Montereyx86_64R Under development (unstable) (2023-11-11 r85510) -- "Unsuffered Consequences" 4369
kunpeng2Linux (openEuler 22.03 LTS-SP1)aarch64R Under development (unstable) (2023-11-01 r85459) -- "Unsuffered Consequences" 4254
Click on any hostname to see more info about the system (e.g. compilers)      (*) as reported by 'uname -p', except on Windows and Mac OS X

All results for package MassSpecWavelet


To the developers/maintainers of the MassSpecWavelet package:
- Allow up to 24 hours (and sometimes 48 hours) for your latest push to git@git.bioconductor.org:packages/MassSpecWavelet.git to reflect on this report. See Troubleshooting Build Report for more information.
- Use the following Renviron settings to reproduce errors and warnings.
- If 'R CMD check' started to fail recently on the Linux builder(s) over a missing dependency, add the missing dependency to 'Suggests:' in your DESCRIPTION file. See Renviron.bioc for more information.

raw results

Package 1132/2225HostnameOS / ArchINSTALLBUILDCHECKBUILD BIN
MassSpecWavelet 1.69.0  (landing page)
Sergio Oller Moreno
Snapshot Date: 2023-12-01 14:00:13 -0500 (Fri, 01 Dec 2023)
git_url: https://git.bioconductor.org/packages/MassSpecWavelet
git_branch: devel
git_last_commit: d23b78b
git_last_commit_date: 2023-10-24 09:38:16 -0500 (Tue, 24 Oct 2023)
nebbiolo1Linux (Ubuntu 22.04.2 LTS) / x86_64  OK    OK    OK  UNNEEDED, same version is already published
palomino3Windows Server 2022 Datacenter / x64  OK    OK    OK    OK  UNNEEDED, same version is already published
merida1macOS 12.7.1 Monterey / x86_64  OK    OK    OK    OK  UNNEEDED, same version is already published
kunpeng2Linux (openEuler 22.03 LTS-SP1) / aarch64  OK    OK    OK  

Results for Bioconductor software packages that depend directly on package MassSpecWavelet

QUICK STATSOS / ArchINSTALLBUILDCHECKBUILD BIN
nebbiolo1Linux (Ubuntu 22.04.2 LTS) / x86_64
002
002
0101
palomino3Windows Server 2022 Datacenter / x64
002
002
0101
002
merida1macOS 12.7.1 Monterey / x86_64
002
002
0101
001
kunpeng2Linux (openEuler 22.03 LTS-SP1) / aarch64
002
002
0101
Package 1/2HostnameOS / ArchINSTALLBUILDCHECKBUILD BIN
cosmiq 1.37.0  (landing page)
David Fischer
git_last_commit: 2d606b7
git_last_commit_date: 2023-10-24 09:59:19 -0500
nebbiolo1Linux (Ubuntu 22.04.2 LTS) / x86_64  OK    OK    OK  UNNEEDED, same version is already published
palomino3Windows Server 2022 Datacenter / x64  OK    OK    OK    OK  UNNEEDED, same version is already published
merida1macOS 12.7.1 Monterey / x86_64  OK    OK    OK    OK  NO, package depends on 'xcms' which is only available as a source package that needs compilation
kunpeng2Linux (openEuler 22.03 LTS-SP1) / aarch64  OK    OK    OK  
Package 2/2HostnameOS / ArchINSTALLBUILDCHECKBUILD BIN
xcms 4.1.2  (landing page)
Steffen Neumann
git_last_commit: f1cbe52
git_last_commit_date: 2023-11-21 08:08:17 -0500
nebbiolo1Linux (Ubuntu 22.04.2 LTS) / x86_64  OK    OK    ERROR  
palomino3Windows Server 2022 Datacenter / x64  OK    OK    ERROR    OK  
merida1macOS 12.7.1 Monterey / x86_64  OK    OK    ERROR    NA  
kunpeng2Linux (openEuler 22.03 LTS-SP1) / aarch64  OK    OK    ERROR