Back to Multiple platform build/check report for BioC 3.19:   simplified   long
ABCDEFGHIJKLMNOPQ[R]STUVWXYZ

This page was generated on 2024-03-01 11:35:47 -0500 (Fri, 01 Mar 2024).

HostnameOSArch (*)R versionInstalled pkgs
nebbiolo1Linux (Ubuntu 22.04.3 LTS)x86_64R Under development (unstable) (2024-01-16 r85808) -- "Unsuffered Consequences" 4676
palomino3Windows Server 2022 Datacenterx64R Under development (unstable) (2024-01-14 r85805 ucrt) -- "Unsuffered Consequences" 4414
merida1macOS 12.7.1 Montereyx86_64R Under development (unstable) (2024-01-16 r85808) -- "Unsuffered Consequences" 4441
kunpeng2Linux (openEuler 22.03 LTS-SP1)aarch64R Under development (unstable) (2024-01-16 r85812) -- "Unsuffered Consequences" 4417
Click on any hostname to see more info about the system (e.g. compilers)      (*) as reported by 'uname -p', except on Windows and Mac OS X

All results for package Rgraphviz


To the developers/maintainers of the Rgraphviz package:
- Allow up to 24 hours (and sometimes 48 hours) for your latest push to git@git.bioconductor.org:packages/Rgraphviz.git to reflect on this report. See Troubleshooting Build Report for more information.
- Use the following Renviron settings to reproduce errors and warnings.
- If 'R CMD check' started to fail recently on the Linux builder(s) over a missing dependency, add the missing dependency to 'Suggests:' in your DESCRIPTION file. See Renviron.bioc for more information.

raw results

Package 1722/2251HostnameOS / ArchINSTALLBUILDCHECKBUILD BIN
Rgraphviz 2.47.0  (landing page)
Kasper Daniel Hansen
Snapshot Date: 2024-02-28 14:00:14 -0500 (Wed, 28 Feb 2024)
git_url: https://git.bioconductor.org/packages/Rgraphviz
git_branch: devel
git_last_commit: a366341
git_last_commit_date: 2023-10-24 09:32:05 -0500 (Tue, 24 Oct 2023)
nebbiolo1Linux (Ubuntu 22.04.3 LTS) / x86_64  OK    OK    WARNINGS  UNNEEDED, same version is already published
palomino3Windows Server 2022 Datacenter / x64  OK    ERROR  skippedskipped
merida1macOS 12.7.1 Monterey / x86_64  OK    OK    WARNINGS    OK  UNNEEDED, same version is already published
kunpeng2Linux (openEuler 22.03 LTS-SP1) / aarch64  OK    OK    WARNINGS  

Results for Bioconductor software packages that depend directly on package Rgraphviz

QUICK STATSOS / ArchINSTALLBUILDCHECKBUILD BIN
nebbiolo1Linux (Ubuntu 22.04.3 LTS) / x86_64
0033
0429
01622
palomino3Windows Server 2022 Datacenter / x64
0032
0824
00519
0024
merida1macOS 12.7.1 Monterey / x86_64
0032
0428
00721
0028
kunpeng2Linux (openEuler 22.03 LTS-SP1) / aarch64
0033
1626
00719
Package 1/33HostnameOS / ArchINSTALLBUILDCHECKBUILD BIN
apComplex 2.69.0  (landing page)
Denise Scholtens
git_last_commit: 7e2fcde
git_last_commit_date: 2023-10-24 09:34:34 -0500
nebbiolo1Linux (Ubuntu 22.04.3 LTS) / x86_64  OK    OK    OK  UNNEEDED, same version is already published
palomino3Windows Server 2022 Datacenter / x64  OK    OK    OK    OK  UNNEEDED, same version is already published
merida1macOS 12.7.1 Monterey / x86_64  OK    OK    OK    OK  UNNEEDED, same version is already published
kunpeng2Linux (openEuler 22.03 LTS-SP1) / aarch64  OK    OK    OK  
Package 2/33HostnameOS / ArchINSTALLBUILDCHECKBUILD BIN
biocGraph 1.65.0  (landing page)
Florian Hahne
git_last_commit: 04d0679
git_last_commit_date: 2023-10-24 09:38:39 -0500
nebbiolo1Linux (Ubuntu 22.04.3 LTS) / x86_64  OK    OK    OK  UNNEEDED, same version is already published
palomino3Windows Server 2022 Datacenter / x64  OK    OK    OK    OK  UNNEEDED, same version is already published
merida1macOS 12.7.1 Monterey / x86_64  OK    OK    OK    OK  UNNEEDED, same version is already published
kunpeng2Linux (openEuler 22.03 LTS-SP1) / aarch64  OK    OK    OK  
Package 3/33HostnameOS / ArchINSTALLBUILDCHECKBUILD BIN
BiocOncoTK 1.23.1  (landing page)
VJ Carey
git_last_commit: 02d07a2
git_last_commit_date: 2024-02-05 14:34:06 -0500
nebbiolo1Linux (Ubuntu 22.04.3 LTS) / x86_64  OK    OK    OK  UNNEEDED, same version is already published
palomino3Windows Server 2022 Datacenter / x64  OK    OK    OK    OK  UNNEEDED, same version is already published
merida1macOS 12.7.1 Monterey / x86_64  OK    OK    OK    OK  UNNEEDED, same version is already published
kunpeng2Linux (openEuler 22.03 LTS-SP1) / aarch64  OK    OK    OK  
Package 4/33HostnameOS / ArchINSTALLBUILDCHECKBUILD BIN
BioMVCClass 1.71.0  (landing page)
Elizabeth Whalen
git_last_commit: 7d860b9
git_last_commit_date: 2023-10-24 09:37:11 -0500
nebbiolo1Linux (Ubuntu 22.04.3 LTS) / x86_64  OK    OK    OK  UNNEEDED, same version is already published
palomino3Windows Server 2022 Datacenter / x64  OK    ERROR  skippedskipped
merida1macOS 12.7.1 Monterey / x86_64  OK    OK    OK    OK  UNNEEDED, same version is already published
kunpeng2Linux (openEuler 22.03 LTS-SP1) / aarch64  OK    OK    OK  
Package 5/33HostnameOS / ArchINSTALLBUILDCHECKBUILD BIN
bnem 1.11.0  (landing page)
Martin Pirkl
git_last_commit: c0ad922
git_last_commit_date: 2023-10-24 11:28:26 -0500
nebbiolo1Linux (Ubuntu 22.04.3 LTS) / x86_64  OK    OK    OK  UNNEEDED, same version is already published
palomino3Windows Server 2022 Datacenter / x64  OK    OK    OK    OK  UNNEEDED, same version is already published
merida1macOS 12.7.1 Monterey / x86_64  OK    OK    OK    OK  UNNEEDED, same version is already published
kunpeng2Linux (openEuler 22.03 LTS-SP1) / aarch64  OK    OK    OK  
Package 6/33HostnameOS / ArchINSTALLBUILDCHECKBUILD BIN
CellNOptR 1.49.0  (landing page)
Attila Gabor
git_last_commit: 6e54391
git_last_commit_date: 2023-10-24 09:48:40 -0500
nebbiolo1Linux (Ubuntu 22.04.3 LTS) / x86_64  OK    OK    OK  UNNEEDED, same version is already published
palomino3Windows Server 2022 Datacenter / x64  OK    OK    OK    OK  UNNEEDED, same version is already published
merida1macOS 12.7.1 Monterey / x86_64  OK    OK    OK    OK  UNNEEDED, same version is already published
kunpeng2Linux (openEuler 22.03 LTS-SP1) / aarch64  OK    OK    OK  
Package 7/33HostnameOS / ArchINSTALLBUILDCHECKBUILD BIN
chimeraviz 1.29.0  (landing page)
Stian Lågstad
git_last_commit: 925f992
git_last_commit_date: 2023-11-25 11:53:49 -0500
nebbiolo1Linux (Ubuntu 22.04.3 LTS) / x86_64  OK    OK    OK  UNNEEDED, same version is already published
palomino3Windows Server 2022 Datacenter / x64  OK    OK    OK    OK  UNNEEDED, same version is already published
merida1macOS 12.7.1 Monterey / x86_64  OK    OK    OK    OK  UNNEEDED, same version is already published
kunpeng2Linux (openEuler 22.03 LTS-SP1) / aarch64  OK    OK    OK  
Package 8/33HostnameOS / ArchINSTALLBUILDCHECKBUILD BIN
CytoML 2.15.2  (landing page)
Mike Jiang
git_last_commit: b1c491e
git_last_commit_date: 2024-01-16 23:33:19 -0500
nebbiolo1Linux (Ubuntu 22.04.3 LTS) / x86_64  OK    ERROR  skipped
palomino3Windows Server 2022 Datacenter / x64  OK    ERROR  skippedskipped
merida1macOS 12.7.1 Monterey / x86_64  OK    ERROR  skippedskipped
kunpeng2Linux (openEuler 22.03 LTS-SP1) / aarch64  OK    ERROR  skipped
Package 9/33HostnameOS / ArchINSTALLBUILDCHECKBUILD BIN
dce 1.11.0  (landing page)
Kim Philipp Jablonski
git_last_commit: 57c5fa4
git_last_commit_date: 2023-10-24 11:30:24 -0500
nebbiolo1Linux (Ubuntu 22.04.3 LTS) / x86_64  OK    OK    OK  UNNEEDED, same version is already published
palomino3Windows Server 2022 Datacenter / x64  OK    ERROR  skippedskipped
merida1macOS 12.7.1 Monterey / x86_64  OK    OK    OK    OK  UNNEEDED, same version is already published
kunpeng2Linux (openEuler 22.03 LTS-SP1) / aarch64  OK    TIMEOUT  skipped
Package 10/33HostnameOS / ArchINSTALLBUILDCHECKBUILD BIN
DEGraph 1.55.0  (landing page)
Laurent Jacob
git_last_commit: 9a10357
git_last_commit_date: 2023-10-24 09:45:16 -0500
nebbiolo1Linux (Ubuntu 22.04.3 LTS) / x86_64  OK    OK    OK  UNNEEDED, same version is already published
palomino3Windows Server 2022 Datacenter / x64... NOT SUPPORTED ...
merida1macOS 12.7.1 Monterey / x86_64... NOT SUPPORTED ...
kunpeng2Linux (openEuler 22.03 LTS-SP1) / aarch64  OK    OK    OK  
Package 11/33HostnameOS / ArchINSTALLBUILDCHECKBUILD BIN
EnrichmentBrowser 2.33.1  (landing page)
Ludwig Geistlinger
git_last_commit: 89581f4
git_last_commit_date: 2023-10-28 17:18:00 -0500
nebbiolo1Linux (Ubuntu 22.04.3 LTS) / x86_64  OK    OK    OK  UNNEEDED, same version is already published
palomino3Windows Server 2022 Datacenter / x64  OK    OK    OK    OK  UNNEEDED, same version is already published
merida1macOS 12.7.1 Monterey / x86_64  OK    OK    OK    OK  UNNEEDED, same version is already published
kunpeng2Linux (openEuler 22.03 LTS-SP1) / aarch64  OK    OK    OK  
Package 12/33HostnameOS / ArchINSTALLBUILDCHECKBUILD BIN
flowMerge 2.51.0  (landing page)
Greg Finak
git_last_commit: 9f30e1b
git_last_commit_date: 2023-10-24 09:42:06 -0500
nebbiolo1Linux (Ubuntu 22.04.3 LTS) / x86_64  OK    OK    WARNINGS  UNNEEDED, same version is already published
palomino3Windows Server 2022 Datacenter / x64  OK    OK    WARNINGS    OK  UNNEEDED, same version is already published
merida1macOS 12.7.1 Monterey / x86_64  OK    OK    WARNINGS    OK  UNNEEDED, same version is already published
kunpeng2Linux (openEuler 22.03 LTS-SP1) / aarch64  OK    OK    WARNINGS  
Package 13/33HostnameOS / ArchINSTALLBUILDCHECKBUILD BIN
flowWorkspace 4.15.4  (landing page)
Greg Finak , Mike Jiang
git_last_commit: e9b4bf6
git_last_commit_date: 2024-01-19 00:25:15 -0500
nebbiolo1Linux (Ubuntu 22.04.3 LTS) / x86_64  OK    ERROR  skipped
palomino3Windows Server 2022 Datacenter / x64  OK    ERROR  skippedskipped
merida1macOS 12.7.1 Monterey / x86_64  OK    ERROR  skippedskipped
kunpeng2Linux (openEuler 22.03 LTS-SP1) / aarch64  OK    ERROR  skipped
Package 14/33HostnameOS / ArchINSTALLBUILDCHECKBUILD BIN
GeneNetworkBuilder 1.45.0  (landing page)
Jianhong Ou
git_last_commit: 2a92321
git_last_commit_date: 2023-10-24 09:50:57 -0500
nebbiolo1Linux (Ubuntu 22.04.3 LTS) / x86_64  OK    OK    OK  UNNEEDED, same version is already published
palomino3Windows Server 2022 Datacenter / x64  OK    OK    OK    OK  UNNEEDED, same version is already published
merida1macOS 12.7.1 Monterey / x86_64  OK    OK    OK    OK  UNNEEDED, same version is already published
kunpeng2Linux (openEuler 22.03 LTS-SP1) / aarch64  OK    OK    OK  
Package 15/33HostnameOS / ArchINSTALLBUILDCHECKBUILD BIN
GOstats 2.69.0  (landing page)
Bioconductor Package Maintainer
git_last_commit: 06b2abc
git_last_commit_date: 2023-10-24 09:33:36 -0500
nebbiolo1Linux (Ubuntu 22.04.3 LTS) / x86_64  OK    OK    OK  UNNEEDED, same version is already published
palomino3Windows Server 2022 Datacenter / x64  OK    OK    OK    OK  UNNEEDED, same version is already published
merida1macOS 12.7.1 Monterey / x86_64  OK    OK    OK    OK  UNNEEDED, same version is already published
kunpeng2Linux (openEuler 22.03 LTS-SP1) / aarch64  OK    OK    OK  
Package 16/33HostnameOS / ArchINSTALLBUILDCHECKBUILD BIN
hyperdraw 1.55.0  (landing page)
Paul Murrell
git_last_commit: f1a94f2
git_last_commit_date: 2023-10-24 09:43:11 -0500
nebbiolo1Linux (Ubuntu 22.04.3 LTS) / x86_64  OK    OK    OK  UNNEEDED, same version is already published
palomino3Windows Server 2022 Datacenter / x64  OK    OK    OK    OK  UNNEEDED, same version is already published
merida1macOS 12.7.1 Monterey / x86_64  OK    OK    OK    OK  UNNEEDED, same version is already published
kunpeng2Linux (openEuler 22.03 LTS-SP1) / aarch64  OK    OK    OK  
Package 17/33HostnameOS / ArchINSTALLBUILDCHECKBUILD BIN
KEGGgraph 1.63.0  (landing page)
Jitao David Zhang
git_last_commit: e7d2233
git_last_commit_date: 2023-10-24 09:41:17 -0500
nebbiolo1Linux (Ubuntu 22.04.3 LTS) / x86_64  OK    OK    WARNINGS  UNNEEDED, same version is already published
palomino3Windows Server 2022 Datacenter / x64  OK    OK    WARNINGS    OK  UNNEEDED, same version is already published
merida1macOS 12.7.1 Monterey / x86_64  OK    OK    WARNINGS    OK  UNNEEDED, same version is already published
kunpeng2Linux (openEuler 22.03 LTS-SP1) / aarch64  OK    OK    WARNINGS  
Package 18/33HostnameOS / ArchINSTALLBUILDCHECKBUILD BIN
MineICA 1.43.0  (landing page)
Anne Biton
git_last_commit: 025bbc0
git_last_commit_date: 2023-10-24 09:52:51 -0500
nebbiolo1Linux (Ubuntu 22.04.3 LTS) / x86_64  OK    OK    WARNINGS  UNNEEDED, same version is already published
palomino3Windows Server 2022 Datacenter / x64  OK    OK    WARNINGS    OK  UNNEEDED, same version is already published
merida1macOS 12.7.1 Monterey / x86_64  OK    OK    WARNINGS    OK  UNNEEDED, same version is already published
kunpeng2Linux (openEuler 22.03 LTS-SP1) / aarch64  OK    OK    WARNINGS  
Package 19/33HostnameOS / ArchINSTALLBUILDCHECKBUILD BIN
mirIntegrator 1.33.0  (landing page)
Diana Diaz
git_last_commit: 1a56971
git_last_commit_date: 2023-10-24 10:43:56 -0500
nebbiolo1Linux (Ubuntu 22.04.3 LTS) / x86_64  OK    OK    OK  UNNEEDED, same version is already published
palomino3Windows Server 2022 Datacenter / x64  OK    OK    OK    OK  UNNEEDED, same version is already published
merida1macOS 12.7.1 Monterey / x86_64  OK    OK    OK    OK  UNNEEDED, same version is already published
kunpeng2Linux (openEuler 22.03 LTS-SP1) / aarch64  OK    OK    OK  
Package 20/33HostnameOS / ArchINSTALLBUILDCHECKBUILD BIN
MIRit 0.99.13  (landing page)
Jacopo Ronchi
git_last_commit: 3a2a2cd
git_last_commit_date: 2024-02-12 09:24:04 -0500
nebbiolo1Linux (Ubuntu 22.04.3 LTS) / x86_64  OK    ERROR  skipped
palomino3Windows Server 2022 Datacenter / x64  OK    ERROR  skippedskipped
merida1macOS 12.7.1 Monterey / x86_64  OK    ERROR  skippedskipped
kunpeng2Linux (openEuler 22.03 LTS-SP1) / aarch64  OK    ERROR  skipped
Package 21/33HostnameOS / ArchINSTALLBUILDCHECKBUILD BIN
mnem 1.19.0  (landing page)
Martin Pirkl
git_last_commit: d80d867
git_last_commit_date: 2024-01-26 03:54:26 -0500
nebbiolo1Linux (Ubuntu 22.04.3 LTS) / x86_64  OK    OK    OK  UNNEEDED, same version is already published
palomino3Windows Server 2022 Datacenter / x64  OK    OK    OK    OK  UNNEEDED, same version is already published
merida1macOS 12.7.1 Monterey / x86_64  OK    OK    OK    OK  UNNEEDED, same version is already published
kunpeng2Linux (openEuler 22.03 LTS-SP1) / aarch64  OK    OK    OK  
Package 22/33HostnameOS / ArchINSTALLBUILDCHECKBUILD BIN
netresponse 1.63.0  (landing page)
Leo Lahti
git_last_commit: 3d9153e
git_last_commit_date: 2023-10-24 09:44:54 -0500
nebbiolo1Linux (Ubuntu 22.04.3 LTS) / x86_64  OK    OK    OK  UNNEEDED, same version is already published
palomino3Windows Server 2022 Datacenter / x64  OK    OK    OK    OK  UNNEEDED, same version is already published
merida1macOS 12.7.1 Monterey / x86_64  OK    OK    OK    OK  UNNEEDED, same version is already published
kunpeng2Linux (openEuler 22.03 LTS-SP1) / aarch64  OK    OK    OK  
Package 23/33HostnameOS / ArchINSTALLBUILDCHECKBUILD BIN
OncoSimulR 4.5.0  (landing page)
Ramon Diaz-Uriarte
git_last_commit: 70a7038
git_last_commit_date: 2023-10-24 10:00:08 -0500
nebbiolo1Linux (Ubuntu 22.04.3 LTS) / x86_64  OK    OK    OK  UNNEEDED, same version is already published
palomino3Windows Server 2022 Datacenter / x64  OK    OK    OK    OK  UNNEEDED, same version is already published
merida1macOS 12.7.1 Monterey / x86_64  OK    OK    OK    OK  UNNEEDED, same version is already published
kunpeng2Linux (openEuler 22.03 LTS-SP1) / aarch64  OK    ERROR  skipped
Package 24/33HostnameOS / ArchINSTALLBUILDCHECKBUILD BIN
ontoProc 1.25.6  (landing page)
Vincent Carey
git_last_commit: ffc4490
git_last_commit_date: 2024-02-01 22:58:14 -0500
nebbiolo1Linux (Ubuntu 22.04.3 LTS) / x86_64  OK    OK    OK  UNNEEDED, same version is already published
palomino3Windows Server 2022 Datacenter / x64  OK    OK    OK    OK  UNNEEDED, same version is already published
merida1macOS 12.7.1 Monterey / x86_64  OK    OK    OK    OK  UNNEEDED, same version is already published
kunpeng2Linux (openEuler 22.03 LTS-SP1) / aarch64  OK    ERROR  skipped
Package 25/33HostnameOS / ArchINSTALLBUILDCHECKBUILD BIN
paircompviz 1.41.0  (landing page)
Michal Burda
git_last_commit: 7c1600d
git_last_commit_date: 2023-10-24 09:54:35 -0500
nebbiolo1Linux (Ubuntu 22.04.3 LTS) / x86_64  OK    OK    OK  UNNEEDED, same version is already published
palomino3Windows Server 2022 Datacenter / x64  OK    OK    OK    OK  UNNEEDED, same version is already published
merida1macOS 12.7.1 Monterey / x86_64  OK    OK    OK    OK  UNNEEDED, same version is already published
kunpeng2Linux (openEuler 22.03 LTS-SP1) / aarch64  OK    OK    OK  
Package 26/33HostnameOS / ArchINSTALLBUILDCHECKBUILD BIN
pathRender 1.71.0  (landing page)
Vince Carey
git_last_commit: 4086a6b
git_last_commit_date: 2023-10-24 09:36:00 -0500
nebbiolo1Linux (Ubuntu 22.04.3 LTS) / x86_64  OK    OK    OK  UNNEEDED, same version is already published
palomino3Windows Server 2022 Datacenter / x64  OK    OK    OK    OK  UNNEEDED, same version is already published
merida1macOS 12.7.1 Monterey / x86_64  OK    OK    OK    OK  UNNEEDED, same version is already published
kunpeng2Linux (openEuler 22.03 LTS-SP1) / aarch64  OK    OK    OK  
Package 27/33HostnameOS / ArchINSTALLBUILDCHECKBUILD BIN
pathview 1.43.0  (landing page)
Weijun Luo
git_last_commit: c1d40b2
git_last_commit_date: 2023-10-24 09:53:13 -0500
nebbiolo1Linux (Ubuntu 22.04.3 LTS) / x86_64  OK    OK    ERROR  
palomino3Windows Server 2022 Datacenter / x64  OK    OK    WARNINGS    OK  UNNEEDED, same version is already published
merida1macOS 12.7.1 Monterey / x86_64  OK    OK    WARNINGS    OK  UNNEEDED, same version is already published
kunpeng2Linux (openEuler 22.03 LTS-SP1) / aarch64  OK    OK    WARNINGS  
Package 28/33HostnameOS / ArchINSTALLBUILDCHECKBUILD BIN
Pigengene 1.29.10  (landing page)
Habil Zare
git_last_commit: 13d4ccd
git_last_commit_date: 2023-11-15 23:07:44 -0500
nebbiolo1Linux (Ubuntu 22.04.3 LTS) / x86_64  OK    OK    OK  UNNEEDED, same version is already published
palomino3Windows Server 2022 Datacenter / x64  OK    OK    OK    OK  UNNEEDED, same version is already published
merida1macOS 12.7.1 Monterey / x86_64  OK    OK    OK    OK  UNNEEDED, same version is already published
kunpeng2Linux (openEuler 22.03 LTS-SP1) / aarch64  OK    OK    OK  
Package 29/33HostnameOS / ArchINSTALLBUILDCHECKBUILD BIN
qpgraph 2.37.0  (landing page)
Robert Castelo
git_last_commit: f681a6c
git_last_commit_date: 2023-10-24 09:41:20 -0500
nebbiolo1Linux (Ubuntu 22.04.3 LTS) / x86_64  OK    OK    WARNINGS  UNNEEDED, same version is already published
palomino3Windows Server 2022 Datacenter / x64  OK    ERROR  skippedskipped
merida1macOS 12.7.1 Monterey / x86_64  OK    OK    WARNINGS    OK  UNNEEDED, same version is already published
kunpeng2Linux (openEuler 22.03 LTS-SP1) / aarch64  OK    OK    WARNINGS  
Package 30/33HostnameOS / ArchINSTALLBUILDCHECKBUILD BIN
ROntoTools 2.31.0  (landing page)
Sorin Draghici
git_last_commit: 735f8de
git_last_commit_date: 2023-10-24 09:53:31 -0500
nebbiolo1Linux (Ubuntu 22.04.3 LTS) / x86_64  OK    OK    WARNINGS  UNNEEDED, same version is already published
palomino3Windows Server 2022 Datacenter / x64  OK    ERROR  skippedskipped
merida1macOS 12.7.1 Monterey / x86_64  OK    OK    WARNINGS    OK  UNNEEDED, same version is already published
kunpeng2Linux (openEuler 22.03 LTS-SP1) / aarch64  OK    OK    WARNINGS  
Package 31/33HostnameOS / ArchINSTALLBUILDCHECKBUILD BIN
SGCP 1.3.0  (landing page)
Niloofar AghaieAbiane
git_last_commit: 91591e7
git_last_commit_date: 2023-10-24 11:45:56 -0500
nebbiolo1Linux (Ubuntu 22.04.3 LTS) / x86_64  OK    ERROR  skipped
palomino3Windows Server 2022 Datacenter / x64  OK    ERROR  skippedskipped
merida1macOS 12.7.1 Monterey / x86_64  OK    ERROR  skippedskipped
kunpeng2Linux (openEuler 22.03 LTS-SP1) / aarch64  OK    ERROR  skipped
Package 32/33HostnameOS / ArchINSTALLBUILDCHECKBUILD BIN
SplicingGraphs 1.43.0  (landing page)
H. Pagès
git_last_commit: 4ff1265
git_last_commit_date: 2023-10-24 09:53:57 -0500
nebbiolo1Linux (Ubuntu 22.04.3 LTS) / x86_64  OK    OK    WARNINGS  UNNEEDED, same version is already published
palomino3Windows Server 2022 Datacenter / x64  OK    OK    WARNINGS    OK  UNNEEDED, same version is already published
merida1macOS 12.7.1 Monterey / x86_64  OK    OK    WARNINGS    OK  UNNEEDED, same version is already published
kunpeng2Linux (openEuler 22.03 LTS-SP1) / aarch64  OK    OK    WARNINGS  
Package 33/33HostnameOS / ArchINSTALLBUILDCHECKBUILD BIN
TRONCO 2.35.0  (landing page)
Luca De Sano
git_last_commit: eb02f89
git_last_commit_date: 2023-10-24 10:40:59 -0500
nebbiolo1Linux (Ubuntu 22.04.3 LTS) / x86_64  OK    OK    OK  UNNEEDED, same version is already published
palomino3Windows Server 2022 Datacenter / x64  OK    OK    OK    OK  UNNEEDED, same version is already published
merida1macOS 12.7.1 Monterey / x86_64  OK    OK    OK    OK  UNNEEDED, same version is already published
kunpeng2Linux (openEuler 22.03 LTS-SP1) / aarch64  OK    OK    OK