Back to Multiple platform build/check report for BioC 3.18:   simplified   long
ABCDEFGHIJKL[M]NOPQRSTUVWXYZ

This page was generated on 2023-09-23 11:39:05 -0400 (Sat, 23 Sep 2023).

HostnameOSArch (*)R versionInstalled pkgs
nebbiolo2Linux (Ubuntu 22.04.2 LTS)x86_644.3.1 (2023-06-16) -- "Beagle Scouts" 4659
palomino4Windows Server 2022 Datacenterx644.3.1 (2023-06-16 ucrt) -- "Beagle Scouts" 4394
lconwaymacOS 12.6.5 Montereyx86_644.3.1 Patched (2023-06-17 r84564) -- "Beagle Scouts" 4408
kunpeng2Linux (openEuler 22.03 LTS-SP1)aarch644.3.1 (2023-06-16) -- "Beagle Scouts" 4397
Click on any hostname to see more info about the system (e.g. compilers)      (*) as reported by 'uname -p', except on Windows and Mac OS X

Package 1316/2233HostnameOS / ArchINSTALLBUILDCHECKBUILD BIN
mslp 1.3.0  (landing page)
Chunxuan Shao
Snapshot Date: 2023-09-22 14:05:07 -0400 (Fri, 22 Sep 2023)
git_url: https://git.bioconductor.org/packages/mslp
git_branch: devel
git_last_commit: 1f3149b
git_last_commit_date: 2023-04-25 11:38:57 -0400 (Tue, 25 Apr 2023)
nebbiolo2Linux (Ubuntu 22.04.2 LTS) / x86_64  OK    OK    OK  UNNEEDED, same version is already published
palomino4Windows Server 2022 Datacenter / x64  OK    OK    OK    OK  UNNEEDED, same version is already published
lconwaymacOS 12.6.5 Monterey / x86_64  OK    OK    OK    OK  UNNEEDED, same version is already published
kunpeng2Linux (openEuler 22.03 LTS-SP1) / aarch64  OK    OK    ERROR  

BUILD BIN results for mslp on lconway


To the developers/maintainers of the mslp package:
- Allow up to 24 hours (and sometimes 48 hours) for your latest push to git@git.bioconductor.org:packages/mslp.git to reflect on this report. See Troubleshooting Build Report for more information.
- Use the following Renviron settings to reproduce errors and warnings.
- If 'R CMD check' started to fail recently on the Linux builder(s) over a missing dependency, add the missing dependency to 'Suggests:' in your DESCRIPTION file. See Renviron.bioc for more information.

raw results


Summary

Package: mslp
Version: 1.3.0
Command: rm -rf mslp.buildbin-libdir && mkdir mslp.buildbin-libdir && /Users/biocbuild/BBS/utils/build-universal.sh mslp_1.3.0.tar.gz /Library/Frameworks/R.framework/Resources/bin/R mslp.buildbin-libdir
StartedAt: 2023-09-23 00:33:57 -0400 (Sat, 23 Sep 2023)
EndedAt: 2023-09-23 00:34:02 -0400 (Sat, 23 Sep 2023)
EllapsedTime: 5.6 seconds
RetCode: 0
Status:   OK  
PackageFile: mslp_1.3.0.tgz
PackageFileSize: 452.1 KiB

Command output

##############################################################################
##############################################################################
###
### Running command:
###
###   rm -rf mslp.buildbin-libdir && mkdir mslp.buildbin-libdir && /Users/biocbuild/BBS/utils/build-universal.sh mslp_1.3.0.tar.gz /Library/Frameworks/R.framework/Resources/bin/R mslp.buildbin-libdir
###
##############################################################################
##############################################################################


>>>>>>> 
>>>>>>> INSTALLATION WITH 'R CMD INSTALL --preclean --no-multiarch --library=mslp.buildbin-libdir mslp_1.3.0.tar.gz'
>>>>>>> 

* installing *source* package ‘mslp’ ...
** using staged installation
** R
** data
** inst
** byte-compile and prepare package for lazy loading
** help
*** installing help indices
** building package indices
** installing vignettes
** testing if installed package can be loaded from temporary location
** testing if installed package can be loaded from final location
** testing if installed package keeps a record of temporary installation path
* DONE (mslp)