Back to Multiple platform build/check report for BioC 3.19:   simplified   long
ABCDEFGHIJKLMNOPQ[R]STUVWXYZ

This page was generated on 2024-03-01 11:35:51 -0500 (Fri, 01 Mar 2024).

HostnameOSArch (*)R versionInstalled pkgs
nebbiolo1Linux (Ubuntu 22.04.3 LTS)x86_64R Under development (unstable) (2024-01-16 r85808) -- "Unsuffered Consequences" 4676
palomino3Windows Server 2022 Datacenterx64R Under development (unstable) (2024-01-14 r85805 ucrt) -- "Unsuffered Consequences" 4414
merida1macOS 12.7.1 Montereyx86_64R Under development (unstable) (2024-01-16 r85808) -- "Unsuffered Consequences" 4441
kunpeng2Linux (openEuler 22.03 LTS-SP1)aarch64R Under development (unstable) (2024-01-16 r85812) -- "Unsuffered Consequences" 4417
Click on any hostname to see more info about the system (e.g. compilers)      (*) as reported by 'uname -p', except on Windows and Mac OS X

All results for package rtracklayer


To the developers/maintainers of the rtracklayer package:
- Allow up to 24 hours (and sometimes 48 hours) for your latest push to git@git.bioconductor.org:packages/rtracklayer.git to reflect on this report. See Troubleshooting Build Report for more information.
- Use the following Renviron settings to reproduce errors and warnings.
- If 'R CMD check' started to fail recently on the Linux builder(s) over a missing dependency, add the missing dependency to 'Suggests:' in your DESCRIPTION file. See Renviron.bioc for more information.

raw results

Package 1805/2251HostnameOS / ArchINSTALLBUILDCHECKBUILD BIN
rtracklayer 1.63.0  (landing page)
Michael Lawrence
Snapshot Date: 2024-02-28 14:00:14 -0500 (Wed, 28 Feb 2024)
git_url: https://git.bioconductor.org/packages/rtracklayer
git_branch: devel
git_last_commit: 04bfc5d
git_last_commit_date: 2024-02-02 12:27:46 -0500 (Fri, 02 Feb 2024)
nebbiolo1Linux (Ubuntu 22.04.3 LTS) / x86_64  OK    OK    WARNINGS  UNNEEDED, same version is already published
palomino3Windows Server 2022 Datacenter / x64  OK    ERROR  skippedskipped
merida1macOS 12.7.1 Monterey / x86_64  OK    OK    WARNINGS    OK  UNNEEDED, same version is already published
kunpeng2Linux (openEuler 22.03 LTS-SP1) / aarch64  OK    OK    WARNINGS  

Results for Bioconductor software packages that depend directly on package rtracklayer

QUICK STATSOS / ArchINSTALLBUILDCHECKBUILD BIN
nebbiolo1Linux (Ubuntu 22.04.3 LTS) / x86_64
03178
013168
01036122
palomino3Windows Server 2022 Datacenter / x64
03170
029144
0531108
00144
merida1macOS 12.7.1 Monterey / x86_64
02177
115163
2538118
00163
kunpeng2Linux (openEuler 22.03 LTS-SP1) / aarch64
00181
723151
0163798
Package 1/181HostnameOS / ArchINSTALLBUILDCHECKBUILD BIN
AnnotationHubData 1.33.1  (landing page)
Bioconductor Package Maintainer
git_last_commit: 088c3b2
git_last_commit_date: 2024-02-12 13:04:33 -0500
nebbiolo1Linux (Ubuntu 22.04.3 LTS) / x86_64  OK    OK    WARNINGS  UNNEEDED, same version is already published
palomino3Windows Server 2022 Datacenter / x64  OK    OK    WARNINGS    OK  UNNEEDED, same version is already published
merida1macOS 12.7.1 Monterey / x86_64  OK    OK    WARNINGS    OK  UNNEEDED, same version is already published
kunpeng2Linux (openEuler 22.03 LTS-SP1) / aarch64  OK    OK    ERROR  
Package 2/181HostnameOS / ArchINSTALLBUILDCHECKBUILD BIN
annotatr 1.29.0  (landing page)
Raymond G. Cavalcante
git_last_commit: 7656a7a
git_last_commit_date: 2023-10-24 10:53:43 -0500
nebbiolo1Linux (Ubuntu 22.04.3 LTS) / x86_64  OK    OK    OK  UNNEEDED, same version is already published
palomino3Windows Server 2022 Datacenter / x64  OK    OK    OK    OK  UNNEEDED, same version is already published
merida1macOS 12.7.1 Monterey / x86_64  OK    OK    OK    OK  UNNEEDED, same version is already published
kunpeng2Linux (openEuler 22.03 LTS-SP1) / aarch64  OK    OK    ERROR  
Package 3/181HostnameOS / ArchINSTALLBUILDCHECKBUILD BIN
APAlyzer 1.17.0  (landing page)
Ruijia Wang
git_last_commit: 2686730
git_last_commit_date: 2023-10-24 11:15:41 -0500
nebbiolo1Linux (Ubuntu 22.04.3 LTS) / x86_64  OK    OK    WARNINGS  UNNEEDED, same version is already published
palomino3Windows Server 2022 Datacenter / x64  OK    OK    WARNINGS    OK  UNNEEDED, same version is already published
merida1macOS 12.7.1 Monterey / x86_64  OK    OK    WARNINGS    OK  UNNEEDED, same version is already published
kunpeng2Linux (openEuler 22.03 LTS-SP1) / aarch64  OK    OK    ERROR  
Package 4/181HostnameOS / ArchINSTALLBUILDCHECKBUILD BIN
ATACseqQC 1.27.1  (landing page)
Jianhong Ou
git_last_commit: d414adb
git_last_commit_date: 2023-12-12 09:55:41 -0500
nebbiolo1Linux (Ubuntu 22.04.3 LTS) / x86_64  OK    OK    OK  UNNEEDED, same version is already published
palomino3Windows Server 2022 Datacenter / x64  OK    OK    OK    OK  UNNEEDED, same version is already published
merida1macOS 12.7.1 Monterey / x86_64  OK    OK    OK    OK  UNNEEDED, same version is already published
kunpeng2Linux (openEuler 22.03 LTS-SP1) / aarch64  OK    OK    ERROR  
Package 5/181HostnameOS / ArchINSTALLBUILDCHECKBUILD BIN
ATACseqTFEA 1.5.1  (landing page)
Jianhong Ou
git_last_commit: bd2f07b
git_last_commit_date: 2024-02-05 17:31:24 -0500
nebbiolo1Linux (Ubuntu 22.04.3 LTS) / x86_64  OK    OK    OK  UNNEEDED, same version is already published
palomino3Windows Server 2022 Datacenter / x64  OK    OK    OK    OK  UNNEEDED, same version is already published
merida1macOS 12.7.1 Monterey / x86_64  OK    OK    OK    OK  UNNEEDED, same version is already published
kunpeng2Linux (openEuler 22.03 LTS-SP1) / aarch64  OK    OK    ERROR  
Package 6/181HostnameOS / ArchINSTALLBUILDCHECKBUILD BIN
ballgown 2.35.0  (landing page)
Jack Fu
git_last_commit: 0158b63
git_last_commit_date: 2023-10-24 10:00:15 -0500
nebbiolo1Linux (Ubuntu 22.04.3 LTS) / x86_64  OK    OK    OK  UNNEEDED, same version is already published
palomino3Windows Server 2022 Datacenter / x64  OK    OK    OK    OK  UNNEEDED, same version is already published
merida1macOS 12.7.1 Monterey / x86_64  OK    OK    OK    OK  UNNEEDED, same version is already published
kunpeng2Linux (openEuler 22.03 LTS-SP1) / aarch64  OK    OK    ERROR  
Package 7/181HostnameOS / ArchINSTALLBUILDCHECKBUILD BIN
BgeeCall 1.19.0  (landing page)
Julien Wollbrett
git_last_commit: a718e83
git_last_commit_date: 2023-10-31 06:35:04 -0500
nebbiolo1Linux (Ubuntu 22.04.3 LTS) / x86_64  OK    OK    OK  UNNEEDED, same version is already published
palomino3Windows Server 2022 Datacenter / x64  OK    OK    OK    OK  UNNEEDED, same version is already published
merida1macOS 12.7.1 Monterey / x86_64  OK    OK    OK    OK  UNNEEDED, same version is already published
kunpeng2Linux (openEuler 22.03 LTS-SP1) / aarch64  OK    OK    ERROR  
Package 8/181HostnameOS / ArchINSTALLBUILDCHECKBUILD BIN
BindingSiteFinder 2.1.0  (landing page)
Mirko Brüggemann
git_last_commit: 8230907
git_last_commit_date: 2023-10-24 11:35:05 -0500
nebbiolo1Linux (Ubuntu 22.04.3 LTS) / x86_64  OK    OK    OK  UNNEEDED, same version is already published
palomino3Windows Server 2022 Datacenter / x64  OK    OK    OK    OK  UNNEEDED, same version is already published
merida1macOS 12.7.1 Monterey / x86_64  OK    OK    OK    OK  UNNEEDED, same version is already published
kunpeng2Linux (openEuler 22.03 LTS-SP1) / aarch64  OK    OK    ERROR  
Package 9/181HostnameOS / ArchINSTALLBUILDCHECKBUILD BIN
biscuiteer 1.17.2  (landing page)
Jacob Morrison
git_last_commit: abae576
git_last_commit_date: 2023-12-06 12:12:19 -0500
nebbiolo1Linux (Ubuntu 22.04.3 LTS) / x86_64  OK    OK    ERROR  
palomino3Windows Server 2022 Datacenter / x64  OK    OK    ERROR    OK  
merida1macOS 12.7.1 Monterey / x86_64  OK    OK    ERROR    OK  
kunpeng2Linux (openEuler 22.03 LTS-SP1) / aarch64  OK    TIMEOUT  skipped
Package 10/181HostnameOS / ArchINSTALLBUILDCHECKBUILD BIN
BiSeq 1.43.0  (landing page)
Katja Hebestreit
git_last_commit: 7f41896
git_last_commit_date: 2023-10-24 09:53:54 -0500
nebbiolo1Linux (Ubuntu 22.04.3 LTS) / x86_64  OK    OK    OK  UNNEEDED, same version is already published
palomino3Windows Server 2022 Datacenter / x64  OK    ERROR  skippedskipped
merida1macOS 12.7.1 Monterey / x86_64  OK    OK    OK    OK  UNNEEDED, same version is already published
kunpeng2Linux (openEuler 22.03 LTS-SP1) / aarch64  OK    OK    OK  
Package 11/181HostnameOS / ArchINSTALLBUILDCHECKBUILD BIN
branchpointer 1.29.0  (landing page)
Beth Signal
git_last_commit: 1808e53
git_last_commit_date: 2023-10-24 10:56:02 -0500
nebbiolo1Linux (Ubuntu 22.04.3 LTS) / x86_64  OK    OK    OK  UNNEEDED, same version is already published
palomino3Windows Server 2022 Datacenter / x64  OK    ERROR  skippedskipped
merida1macOS 12.7.1 Monterey / x86_64  OK    OK    OK    OK  UNNEEDED, same version is already published
kunpeng2Linux (openEuler 22.03 LTS-SP1) / aarch64  OK    OK    OK  
Package 12/181HostnameOS / ArchINSTALLBUILDCHECKBUILD BIN
BRGenomics 1.15.0  (landing page)
Mike DeBerardine
git_last_commit: 6949bcc
git_last_commit_date: 2023-10-24 11:20:40 -0500
nebbiolo1Linux (Ubuntu 22.04.3 LTS) / x86_64  OK    OK    ERROR  
palomino3Windows Server 2022 Datacenter / x64  OK    OK    ERROR    OK  
merida1macOS 12.7.1 Monterey / x86_64  OK    OK    ERROR    OK  
kunpeng2Linux (openEuler 22.03 LTS-SP1) / aarch64  OK    OK    ERROR  
Package 13/181HostnameOS / ArchINSTALLBUILDCHECKBUILD BIN
BSgenome 1.71.2  (landing page)
Hervé Pagès
git_last_commit: 0cbac87
git_last_commit_date: 2024-02-07 18:38:59 -0500
nebbiolo1Linux (Ubuntu 22.04.3 LTS) / x86_64  OK    OK    WARNINGS  UNNEEDED, same version is already published
palomino3Windows Server 2022 Datacenter / x64  OK    ERROR  skippedskipped
merida1macOS 12.7.1 Monterey / x86_64  OK    OK    WARNINGS    OK  UNNEEDED, same version is already published
kunpeng2Linux (openEuler 22.03 LTS-SP1) / aarch64  OK    OK    WARNINGS  
Package 14/181HostnameOS / ArchINSTALLBUILDCHECKBUILD BIN
BSgenomeForge 1.3.2  (landing page)
Hervé Pagès
git_last_commit: f011316
git_last_commit_date: 2024-02-12 12:53:52 -0500
nebbiolo1Linux (Ubuntu 22.04.3 LTS) / x86_64  OK    ERROR  skipped
palomino3Windows Server 2022 Datacenter / x64  OK    ERROR  skippedskipped
merida1macOS 12.7.1 Monterey / x86_64  OK    ERROR  skippedskipped
kunpeng2Linux (openEuler 22.03 LTS-SP1) / aarch64  OK    ERROR  skipped
Package 15/181HostnameOS / ArchINSTALLBUILDCHECKBUILD BIN
CAGEfightR 1.23.0  (landing page)
Malte Thodberg
git_last_commit: c9667b2
git_last_commit_date: 2023-10-24 11:05:23 -0500
nebbiolo1Linux (Ubuntu 22.04.3 LTS) / x86_64  OK    OK    OK  UNNEEDED, same version is already published
palomino3Windows Server 2022 Datacenter / x64  OK    OK    OK    OK  UNNEEDED, same version is already published
merida1macOS 12.7.1 Monterey / x86_64  OK    OK    OK    OK  UNNEEDED, same version is already published
kunpeng2Linux (openEuler 22.03 LTS-SP1) / aarch64  OK    OK    OK  
Package 16/181HostnameOS / ArchINSTALLBUILDCHECKBUILD BIN
CAGEr 2.9.0  (landing page)
Charles Plessy
git_last_commit: 18d7295
git_last_commit_date: 2023-10-24 09:52:59 -0500
nebbiolo1Linux (Ubuntu 22.04.3 LTS) / x86_64  OK    OK    OK  UNNEEDED, same version is already published
palomino3Windows Server 2022 Datacenter / x64  OK    OK    OK    OK  UNNEEDED, same version is already published
merida1macOS 12.7.1 Monterey / x86_64  OK    OK    OK    OK  UNNEEDED, same version is already published
kunpeng2Linux (openEuler 22.03 LTS-SP1) / aarch64  OK    OK    OK  
Package 17/181HostnameOS / ArchINSTALLBUILDCHECKBUILD BIN
casper 2.37.0  (landing page)
David Rossell
git_last_commit: fdb9dd6
git_last_commit_date: 2023-10-24 09:52:32 -0500
nebbiolo1Linux (Ubuntu 22.04.3 LTS) / x86_64  OK    OK    OK  UNNEEDED, same version is already published
palomino3Windows Server 2022 Datacenter / x64  OK    ERROR  skippedskipped
merida1macOS 12.7.1 Monterey / x86_64  OK    ERROR  skippedskipped
kunpeng2Linux (openEuler 22.03 LTS-SP1) / aarch64  OK    OK    WARNINGS  
Package 18/181HostnameOS / ArchINSTALLBUILDCHECKBUILD BIN
CexoR 1.41.0  (landing page)
Pedro Madrigal
git_last_commit: eff3905
git_last_commit_date: 2023-10-24 11:36:53 -0500
nebbiolo1Linux (Ubuntu 22.04.3 LTS) / x86_64  OK    OK    OK  UNNEEDED, same version is already published
palomino3Windows Server 2022 Datacenter / x64  OK    OK    OK    OK  UNNEEDED, same version is already published
merida1macOS 12.7.1 Monterey / x86_64  OK    OK    OK    OK  UNNEEDED, same version is already published
kunpeng2Linux (openEuler 22.03 LTS-SP1) / aarch64  OK    OK    OK  
Package 19/181HostnameOS / ArchINSTALLBUILDCHECKBUILD BIN
ChIPanalyser 1.25.0  (landing page)
Patrick C.N. Martin
git_last_commit: 022da06
git_last_commit_date: 2023-10-24 10:59:22 -0500
nebbiolo1Linux (Ubuntu 22.04.3 LTS) / x86_64  OK    OK    OK  UNNEEDED, same version is already published
palomino3Windows Server 2022 Datacenter / x64  OK    OK    OK    OK  UNNEEDED, same version is already published
merida1macOS 12.7.1 Monterey / x86_64  OK    OK    OK    OK  UNNEEDED, same version is already published
kunpeng2Linux (openEuler 22.03 LTS-SP1) / aarch64  OK    OK    OK  
Package 20/181HostnameOS / ArchINSTALLBUILDCHECKBUILD BIN
ChIPComp 1.33.0  (landing page)
Li Chen
git_last_commit: 9b4235c
git_last_commit_date: 2023-10-24 10:44:51 -0500
nebbiolo1Linux (Ubuntu 22.04.3 LTS) / x86_64  OK    OK    OK  UNNEEDED, same version is already published
palomino3Windows Server 2022 Datacenter / x64  OK    OK    OK    OK  UNNEEDED, same version is already published
merida1macOS 12.7.1 Monterey / x86_64  OK    OK    OK    OK  UNNEEDED, same version is already published
kunpeng2Linux (openEuler 22.03 LTS-SP1) / aarch64  OK    OK    OK  
Package 21/181HostnameOS / ArchINSTALLBUILDCHECKBUILD BIN
chipenrich 2.27.0  (landing page)
Kai Wang
git_last_commit: b712917
git_last_commit_date: 2023-10-24 09:55:43 -0500
nebbiolo1Linux (Ubuntu 22.04.3 LTS) / x86_64  OK    OK    OK  UNNEEDED, same version is already published
palomino3Windows Server 2022 Datacenter / x64  OK    OK    OK    OK  UNNEEDED, same version is already published
merida1macOS 12.7.1 Monterey / x86_64  OK    OK    OK    OK  UNNEEDED, same version is already published
kunpeng2Linux (openEuler 22.03 LTS-SP1) / aarch64  OK    OK    OK  
Package 22/181HostnameOS / ArchINSTALLBUILDCHECKBUILD BIN
ChIPpeakAnno 3.37.4  (landing page)
Jianhong Ou
git_last_commit: 58a122c
git_last_commit_date: 2024-01-29 08:57:31 -0500
nebbiolo1Linux (Ubuntu 22.04.3 LTS) / x86_64  OK    OK    OK  UNNEEDED, same version is already published
palomino3Windows Server 2022 Datacenter / x64  OK    OK    OK    OK  UNNEEDED, same version is already published
merida1macOS 12.7.1 Monterey / x86_64  OK    TIMEOUT  skippedskipped
kunpeng2Linux (openEuler 22.03 LTS-SP1) / aarch64  OK    OK    OK  
Package 23/181HostnameOS / ArchINSTALLBUILDCHECKBUILD BIN
ChIPseeker 1.39.0  (landing page)
Guangchuang Yu
git_last_commit: cb681a6
git_last_commit_date: 2023-10-25 05:07:35 -0500
nebbiolo1Linux (Ubuntu 22.04.3 LTS) / x86_64  OK    OK    OK  UNNEEDED, same version is already published
palomino3Windows Server 2022 Datacenter / x64  OK    OK    OK    OK  UNNEEDED, same version is already published
merida1macOS 12.7.1 Monterey / x86_64  OK    OK    TIMEOUT    OK  
kunpeng2Linux (openEuler 22.03 LTS-SP1) / aarch64  OK    OK    OK  
Package 24/181HostnameOS / ArchINSTALLBUILDCHECKBUILD BIN
ChromHeatMap 1.57.0  (landing page)
Tim F. Rayner
git_last_commit: 380cfa5
git_last_commit_date: 2023-10-24 09:42:48 -0500
nebbiolo1Linux (Ubuntu 22.04.3 LTS) / x86_64  OK    OK    OK  UNNEEDED, same version is already published
palomino3Windows Server 2022 Datacenter / x64  OK    OK    OK    OK  UNNEEDED, same version is already published
merida1macOS 12.7.1 Monterey / x86_64  OK    OK    OK    OK  UNNEEDED, same version is already published
kunpeng2Linux (openEuler 22.03 LTS-SP1) / aarch64  OK    OK    OK  
Package 25/181HostnameOS / ArchINSTALLBUILDCHECKBUILD BIN
ChromSCape 1.13.0  (landing page)
Pacome Prompsy
git_last_commit: d73b93e
git_last_commit_date: 2023-10-24 11:26:16 -0500
nebbiolo1Linux (Ubuntu 22.04.3 LTS) / x86_64  OK    OK    WARNINGS  UNNEEDED, same version is already published
palomino3Windows Server 2022 Datacenter / x64  OK    OK    WARNINGS    OK  UNNEEDED, same version is already published
merida1macOS 12.7.1 Monterey / x86_64  OK    OK    WARNINGS    OK  UNNEEDED, same version is already published
kunpeng2Linux (openEuler 22.03 LTS-SP1) / aarch64  OK    OK    WARNINGS  
Package 26/181HostnameOS / ArchINSTALLBUILDCHECKBUILD BIN
circRNAprofiler 1.17.0  (landing page)
Simona Aufiero
git_last_commit: 84d864a
git_last_commit_date: 2023-10-26 12:17:10 -0500
nebbiolo1Linux (Ubuntu 22.04.3 LTS) / x86_64  OK    OK    OK  UNNEEDED, same version is already published
palomino3Windows Server 2022 Datacenter / x64  OK    OK    OK    OK  UNNEEDED, same version is already published
merida1macOS 12.7.1 Monterey / x86_64  OK    OK    OK    OK  UNNEEDED, same version is already published
kunpeng2Linux (openEuler 22.03 LTS-SP1) / aarch64  OK    OK    OK  
Package 27/181HostnameOS / ArchINSTALLBUILDCHECKBUILD BIN
cliProfiler 1.9.0  (landing page)
You Zhou
git_last_commit: 5a43d1d
git_last_commit_date: 2023-10-24 11:37:13 -0500
nebbiolo1Linux (Ubuntu 22.04.3 LTS) / x86_64  OK    OK    OK  UNNEEDED, same version is already published
palomino3Windows Server 2022 Datacenter / x64  OK    OK    OK    OK  UNNEEDED, same version is already published
merida1macOS 12.7.1 Monterey / x86_64  OK    OK    OK    OK  UNNEEDED, same version is already published
kunpeng2Linux (openEuler 22.03 LTS-SP1) / aarch64  OK    OK    OK  
Package 28/181HostnameOS / ArchINSTALLBUILDCHECKBUILD BIN
CNEr 1.39.0  (landing page)
Ge Tan
git_last_commit: 22a4e19
git_last_commit_date: 2023-10-24 09:57:27 -0500
nebbiolo1Linux (Ubuntu 22.04.3 LTS) / x86_64  OK    OK    WARNINGS  UNNEEDED, same version is already published
palomino3Windows Server 2022 Datacenter / x64  OK    OK    WARNINGS    OK  UNNEEDED, same version is already published
merida1macOS 12.7.1 Monterey / x86_64  OK    OK    WARNINGS    OK  UNNEEDED, same version is already published
kunpeng2Linux (openEuler 22.03 LTS-SP1) / aarch64  OK    OK    WARNINGS  
Package 29/181HostnameOS / ArchINSTALLBUILDCHECKBUILD BIN
coMET 1.35.0  (landing page)
Tiphaine Martin
git_last_commit: cfaf67e
git_last_commit_date: 2023-10-24 11:45:22 -0500
nebbiolo1Linux (Ubuntu 22.04.3 LTS) / x86_64  OK    OK    WARNINGS  UNNEEDED, same version is already published
palomino3Windows Server 2022 Datacenter / x64  OK    ERROR  skippedskipped
merida1macOS 12.7.1 Monterey / x86_64  OK    OK    WARNINGS    OK  UNNEEDED, same version is already published
kunpeng2Linux (openEuler 22.03 LTS-SP1) / aarch64  OK    OK    WARNINGS  
Package 30/181HostnameOS / ArchINSTALLBUILDCHECKBUILD BIN
compartmap 1.21.1  (landing page)
Benjamin Johnson
git_last_commit: 435fffd
git_last_commit_date: 2024-02-02 11:37:47 -0500
nebbiolo1Linux (Ubuntu 22.04.3 LTS) / x86_64  OK    OK    ERROR  
palomino3Windows Server 2022 Datacenter / x64  OK    OK    WARNINGS    OK  UNNEEDED, same version is already published
merida1macOS 12.7.1 Monterey / x86_64  OK    OK    WARNINGS    OK  UNNEEDED, same version is already published
kunpeng2Linux (openEuler 22.03 LTS-SP1) / aarch64  OK    OK    WARNINGS  
Package 31/181HostnameOS / ArchINSTALLBUILDCHECKBUILD BIN
consensusSeekeR 1.31.2  (landing page)
Astrid Deschênes
git_last_commit: d8c3500
git_last_commit_date: 2024-02-22 19:59:06 -0500
nebbiolo1Linux (Ubuntu 22.04.3 LTS) / x86_64  OK    OK    OK  UNNEEDED, same version is already published
palomino3Windows Server 2022 Datacenter / x64  OK    OK    OK    OK  UNNEEDED, same version is already published
merida1macOS 12.7.1 Monterey / x86_64  OK    OK    OK    OK  UNNEEDED, same version is already published
kunpeng2Linux (openEuler 22.03 LTS-SP1) / aarch64  OK    OK    OK  
Package 32/181HostnameOS / ArchINSTALLBUILDCHECKBUILD BIN
contiBAIT 1.31.1  (landing page)
Kieran O'Neill
git_last_commit: a473e33
git_last_commit_date: 2024-02-01 14:51:17 -0500
nebbiolo1Linux (Ubuntu 22.04.3 LTS) / x86_64  ERROR    ERROR  skipped
palomino3Windows Server 2022 Datacenter / x64  ERROR    ERROR  skippedskipped
merida1macOS 12.7.1 Monterey / x86_64  ERROR    ERROR  skippedskipped
kunpeng2Linux (openEuler 22.03 LTS-SP1) / aarch64  OK    OK    WARNINGS  
Package 33/181HostnameOS / ArchINSTALLBUILDCHECKBUILD BIN
conumee 1.37.0  (landing page)
Volker Hovestadt
git_last_commit: f40271c
git_last_commit_date: 2023-10-24 10:43:01 -0500
nebbiolo1Linux (Ubuntu 22.04.3 LTS) / x86_64  OK    OK    OK  UNNEEDED, same version is already published
palomino3Windows Server 2022 Datacenter / x64... NOT SUPPORTED ...
merida1macOS 12.7.1 Monterey / x86_64  OK    OK    TIMEOUT    OK  
kunpeng2Linux (openEuler 22.03 LTS-SP1) / aarch64  OK    OK    OK  
Package 34/181HostnameOS / ArchINSTALLBUILDCHECKBUILD BIN
CoverageView 1.41.0  (landing page)
Ernesto Lowy
git_last_commit: b3ab7f7
git_last_commit_date: 2023-10-24 09:58:32 -0500
nebbiolo1Linux (Ubuntu 22.04.3 LTS) / x86_64  OK    OK    WARNINGS  UNNEEDED, same version is already published
palomino3Windows Server 2022 Datacenter / x64... NOT SUPPORTED ...
merida1macOS 12.7.1 Monterey / x86_64  OK    OK    WARNINGS    OK  UNNEEDED, same version is already published
kunpeng2Linux (openEuler 22.03 LTS-SP1) / aarch64  OK    OK    WARNINGS  
Package 35/181HostnameOS / ArchINSTALLBUILDCHECKBUILD BIN
crisprDesign 1.5.1  (landing page)
Jean-Philippe Fortin
git_last_commit: 4ff15ad
git_last_commit_date: 2024-02-01 14:21:02 -0500
nebbiolo1Linux (Ubuntu 22.04.3 LTS) / x86_64  OK    OK    OK  UNNEEDED, same version is already published
palomino3Windows Server 2022 Datacenter / x64  OK    OK    OK    OK  UNNEEDED, same version is already published
merida1macOS 12.7.1 Monterey / x86_64  OK    OK    OK    OK  UNNEEDED, same version is already published
kunpeng2Linux (openEuler 22.03 LTS-SP1) / aarch64  OK    OK    OK  
Package 36/181HostnameOS / ArchINSTALLBUILDCHECKBUILD BIN
CSSQ 1.15.0  (landing page)
Fan Lab at Georgia Institute of Technology
git_last_commit: b72333f
git_last_commit_date: 2023-10-24 11:18:33 -0500
nebbiolo1Linux (Ubuntu 22.04.3 LTS) / x86_64  OK    OK    OK  UNNEEDED, same version is already published
palomino3Windows Server 2022 Datacenter / x64  OK    OK    OK    OK  UNNEEDED, same version is already published
merida1macOS 12.7.1 Monterey / x86_64  OK    OK    OK    OK  UNNEEDED, same version is already published
kunpeng2Linux (openEuler 22.03 LTS-SP1) / aarch64  OK    OK    OK  
Package 37/181HostnameOS / ArchINSTALLBUILDCHECKBUILD BIN
cummeRbund 2.45.0  (landing page)
Loyal A. Goff
git_last_commit: 32af841
git_last_commit_date: 2023-10-24 09:48:13 -0500
nebbiolo1Linux (Ubuntu 22.04.3 LTS) / x86_64  OK    OK    WARNINGS  UNNEEDED, same version is already published
palomino3Windows Server 2022 Datacenter / x64  OK    OK    WARNINGS    OK  UNNEEDED, same version is already published
merida1macOS 12.7.1 Monterey / x86_64  OK    OK    WARNINGS    OK  UNNEEDED, same version is already published
kunpeng2Linux (openEuler 22.03 LTS-SP1) / aarch64  OK    OK    WARNINGS  
Package 38/181HostnameOS / ArchINSTALLBUILDCHECKBUILD BIN
customProDB 1.43.0  (landing page)
Xiaojing Wang
git_last_commit: 2c17e50
git_last_commit_date: 2023-10-24 09:54:20 -0500
nebbiolo1Linux (Ubuntu 22.04.3 LTS) / x86_64  OK    ERROR  skipped
palomino3Windows Server 2022 Datacenter / x64  OK    ERROR  skippedskipped
merida1macOS 12.7.1 Monterey / x86_64  OK    ERROR  skippedskipped
kunpeng2Linux (openEuler 22.03 LTS-SP1) / aarch64  OK    ERROR  skipped
Package 39/181HostnameOS / ArchINSTALLBUILDCHECKBUILD BIN
derfinder 1.37.0  (landing page)
Leonardo Collado-Torres
git_last_commit: 6bd1e04
git_last_commit_date: 2023-10-24 10:38:56 -0500
nebbiolo1Linux (Ubuntu 22.04.3 LTS) / x86_64  OK    OK    OK  UNNEEDED, same version is already published
palomino3Windows Server 2022 Datacenter / x64  OK    OK    OK    OK  UNNEEDED, same version is already published
merida1macOS 12.7.1 Monterey / x86_64  OK    OK    OK    OK  UNNEEDED, same version is already published
kunpeng2Linux (openEuler 22.03 LTS-SP1) / aarch64  OK    OK    OK  
Package 40/181HostnameOS / ArchINSTALLBUILDCHECKBUILD BIN
DEScan2 1.23.0  (landing page)
Dario Righelli
git_last_commit: 02d5fcb
git_last_commit_date: 2023-10-24 11:03:24 -0500
nebbiolo1Linux (Ubuntu 22.04.3 LTS) / x86_64  OK    OK    WARNINGS  UNNEEDED, same version is already published
palomino3Windows Server 2022 Datacenter / x64  OK    OK    WARNINGS    OK  UNNEEDED, same version is already published
merida1macOS 12.7.1 Monterey / x86_64  OK    OK    WARNINGS    OK  UNNEEDED, same version is already published
kunpeng2Linux (openEuler 22.03 LTS-SP1) / aarch64  OK    OK    WARNINGS  
Package 41/181HostnameOS / ArchINSTALLBUILDCHECKBUILD BIN
diffHic 1.35.0  (landing page)
Aaron Lun
git_last_commit: 16c4aaf
git_last_commit_date: 2023-10-24 10:43:16 -0500
nebbiolo1Linux (Ubuntu 22.04.3 LTS) / x86_64  OK    OK    WARNINGS  UNNEEDED, same version is already published
palomino3Windows Server 2022 Datacenter / x64  OK    ERROR  skippedskipped
merida1macOS 12.7.1 Monterey / x86_64  OK    OK    WARNINGS    OK  UNNEEDED, same version is already published
kunpeng2Linux (openEuler 22.03 LTS-SP1) / aarch64  OK    OK    WARNINGS  
Package 42/181HostnameOS / ArchINSTALLBUILDCHECKBUILD BIN
diffUTR 1.11.0  (landing page)
Pierre-Luc Germain
git_last_commit: 71ca7a2
git_last_commit_date: 2023-10-24 11:33:18 -0500
nebbiolo1Linux (Ubuntu 22.04.3 LTS) / x86_64  OK    OK    OK  UNNEEDED, same version is already published
palomino3Windows Server 2022 Datacenter / x64  OK    OK    OK    OK  UNNEEDED, same version is already published
merida1macOS 12.7.1 Monterey / x86_64  OK    OK    OK    OK  UNNEEDED, same version is already published
kunpeng2Linux (openEuler 22.03 LTS-SP1) / aarch64  OK    OK    OK  
Package 43/181HostnameOS / ArchINSTALLBUILDCHECKBUILD BIN
DMCFB 1.17.2  (landing page)
Farhad Shokoohi
git_last_commit: 4f8dbae
git_last_commit_date: 2024-01-31 21:36:57 -0500
nebbiolo1Linux (Ubuntu 22.04.3 LTS) / x86_64  OK    OK    OK  UNNEEDED, same version is already published
palomino3Windows Server 2022 Datacenter / x64  OK    OK    OK    OK  UNNEEDED, same version is already published
merida1macOS 12.7.1 Monterey / x86_64  OK    OK    OK    OK  UNNEEDED, same version is already published
kunpeng2Linux (openEuler 22.03 LTS-SP1) / aarch64  OK    OK    OK  
Package 44/181HostnameOS / ArchINSTALLBUILDCHECKBUILD BIN
DMCHMM 1.25.0  (landing page)
Farhad Shokoohi
git_last_commit: ea9be90
git_last_commit_date: 2023-10-24 10:59:14 -0500
nebbiolo1Linux (Ubuntu 22.04.3 LTS) / x86_64  OK    OK    OK  UNNEEDED, same version is already published
palomino3Windows Server 2022 Datacenter / x64  OK    OK    WARNINGS    OK  UNNEEDED, same version is already published
merida1macOS 12.7.1 Monterey / x86_64  OK    OK    OK    OK  UNNEEDED, same version is already published
kunpeng2Linux (openEuler 22.03 LTS-SP1) / aarch64  OK    OK    OK  
Package 45/181HostnameOS / ArchINSTALLBUILDCHECKBUILD BIN
dmrseq 1.23.1  (landing page)
Keegan Korthauer
git_last_commit: 1b2b0e7
git_last_commit_date: 2024-02-16 17:13:13 -0500
nebbiolo1Linux (Ubuntu 22.04.3 LTS) / x86_64  OK    OK    OK  UNNEEDED, same version is already published
palomino3Windows Server 2022 Datacenter / x64  OK    OK    OK    OK  UNNEEDED, same version is already published
merida1macOS 12.7.1 Monterey / x86_64  OK    OK    OK    OK  UNNEEDED, same version is already published
kunpeng2Linux (openEuler 22.03 LTS-SP1) / aarch64  OK    OK    OK  
Package 46/181HostnameOS / ArchINSTALLBUILDCHECKBUILD BIN
easylift 1.1.0  (landing page)
Abdullah Al Nahid
git_last_commit: 9423c0e
git_last_commit_date: 2023-10-24 13:06:23 -0500
nebbiolo1Linux (Ubuntu 22.04.3 LTS) / x86_64  OK    OK    OK  UNNEEDED, same version is already published
palomino3Windows Server 2022 Datacenter / x64  OK    OK    OK    OK  UNNEEDED, same version is already published
merida1macOS 12.7.1 Monterey / x86_64  OK    OK    OK    OK  UNNEEDED, same version is already published
kunpeng2Linux (openEuler 22.03 LTS-SP1) / aarch64  OK    OK    OK  
Package 47/181HostnameOS / ArchINSTALLBUILDCHECKBUILD BIN
ELMER 2.27.0  (landing page)
Tiago Chedraoui Silva
git_last_commit: de20e96
git_last_commit_date: 2023-10-24 10:43:48 -0500
nebbiolo1Linux (Ubuntu 22.04.3 LTS) / x86_64  OK    OK    OK  UNNEEDED, same version is already published
palomino3Windows Server 2022 Datacenter / x64  OK    OK    OK    OK  UNNEEDED, same version is already published
merida1macOS 12.7.1 Monterey / x86_64  OK    OK    OK    OK  UNNEEDED, same version is already published
kunpeng2Linux (openEuler 22.03 LTS-SP1) / aarch64  OK    TIMEOUT  skipped
Package 48/181HostnameOS / ArchINSTALLBUILDCHECKBUILD BIN
enhancerHomologSearch 1.9.4  (landing page)
Jianhong Ou
git_last_commit: 7b090cb
git_last_commit_date: 2024-02-13 08:45:43 -0500
nebbiolo1Linux (Ubuntu 22.04.3 LTS) / x86_64  OK    OK    OK  UNNEEDED, same version is already published
palomino3Windows Server 2022 Datacenter / x64  OK    OK    OK    OK  UNNEEDED, same version is already published
merida1macOS 12.7.1 Monterey / x86_64  OK    OK    OK    OK  UNNEEDED, same version is already published
kunpeng2Linux (openEuler 22.03 LTS-SP1) / aarch64  OK    OK    OK  
Package 49/181HostnameOS / ArchINSTALLBUILDCHECKBUILD BIN
enrichTF 1.19.0  (landing page)
Zheng Wei
git_last_commit: b365add
git_last_commit_date: 2023-10-24 11:13:36 -0500
nebbiolo1Linux (Ubuntu 22.04.3 LTS) / x86_64  OK    OK    ERROR  
palomino3Windows Server 2022 Datacenter / x64  OK    OK    OK    OK  UNNEEDED, same version is already published
merida1macOS 12.7.1 Monterey / x86_64  OK    OK    OK    OK  UNNEEDED, same version is already published
kunpeng2Linux (openEuler 22.03 LTS-SP1) / aarch64  OK    OK    ERROR  
Package 50/181HostnameOS / ArchINSTALLBUILDCHECKBUILD BIN
ensembldb 2.27.1  (landing page)
Johannes Rainer
git_last_commit: cd5b590
git_last_commit_date: 2023-11-20 04:49:44 -0500
nebbiolo1Linux (Ubuntu 22.04.3 LTS) / x86_64  OK    OK    OK  UNNEEDED, same version is already published
palomino3Windows Server 2022 Datacenter / x64  OK    OK    OK    OK  UNNEEDED, same version is already published
merida1macOS 12.7.1 Monterey / x86_64  OK    OK    OK    OK  UNNEEDED, same version is already published
kunpeng2Linux (openEuler 22.03 LTS-SP1) / aarch64  OK    OK    OK  
Package 51/181HostnameOS / ArchINSTALLBUILDCHECKBUILD BIN
EpiCompare 1.7.3  (landing page)
Thomas Roberts
git_last_commit: 650ac8d
git_last_commit_date: 2024-02-13 04:45:42 -0500
nebbiolo1Linux (Ubuntu 22.04.3 LTS) / x86_64  OK    OK    ERROR  
palomino3Windows Server 2022 Datacenter / x64  OK    OK    ERROR    OK  
merida1macOS 12.7.1 Monterey / x86_64  OK    OK    ERROR    OK  
kunpeng2Linux (openEuler 22.03 LTS-SP1) / aarch64  OK    OK    ERROR  
Package 52/181HostnameOS / ArchINSTALLBUILDCHECKBUILD BIN
epidecodeR 1.11.0  (landing page)
Kandarp Joshi
git_last_commit: 9a00dad
git_last_commit_date: 2023-10-24 11:31:43 -0500
nebbiolo1Linux (Ubuntu 22.04.3 LTS) / x86_64  OK    OK    OK  UNNEEDED, same version is already published
palomino3Windows Server 2022 Datacenter / x64  OK    OK    OK    OK  UNNEEDED, same version is already published
merida1macOS 12.7.1 Monterey / x86_64  OK    OK    OK    OK  UNNEEDED, same version is already published
kunpeng2Linux (openEuler 22.03 LTS-SP1) / aarch64  OK    OK    OK  
Package 53/181HostnameOS / ArchINSTALLBUILDCHECKBUILD BIN
epigraHMM 1.11.0  (landing page)
Pedro Baldoni
git_last_commit: 2e759b7
git_last_commit_date: 2023-10-24 11:33:52 -0500
nebbiolo1Linux (Ubuntu 22.04.3 LTS) / x86_64  OK    OK    WARNINGS  UNNEEDED, same version is already published
palomino3Windows Server 2022 Datacenter / x64  OK    OK    OK    OK  UNNEEDED, same version is already published
merida1macOS 12.7.1 Monterey / x86_64  OK    OK    WARNINGS    OK  UNNEEDED, same version is already published
kunpeng2Linux (openEuler 22.03 LTS-SP1) / aarch64  OK    OK    WARNINGS  
Package 54/181HostnameOS / ArchINSTALLBUILDCHECKBUILD BIN
epimutacions 1.7.1  (landing page)
Dolors Pelegri-Siso
git_last_commit: deb5e62
git_last_commit_date: 2023-11-03 07:38:00 -0500
nebbiolo1Linux (Ubuntu 22.04.3 LTS) / x86_64  OK    OK    OK  UNNEEDED, same version is already published
palomino3Windows Server 2022 Datacenter / x64  OK    OK    OK    OK  UNNEEDED, same version is already published
merida1macOS 12.7.1 Monterey / x86_64  OK    OK    OK    OK  UNNEEDED, same version is already published
kunpeng2Linux (openEuler 22.03 LTS-SP1) / aarch64  OK    TIMEOUT  skipped
Package 55/181HostnameOS / ArchINSTALLBUILDCHECKBUILD BIN
erma 1.19.0  (landing page)
VJ Carey
git_last_commit: 6755a45
git_last_commit_date: 2023-10-24 10:43:59 -0500
nebbiolo1Linux (Ubuntu 22.04.3 LTS) / x86_64  OK    OK    OK  UNNEEDED, same version is already published
palomino3Windows Server 2022 Datacenter / x64  OK    OK    OK    OK  UNNEEDED, same version is already published
merida1macOS 12.7.1 Monterey / x86_64  OK    OK    OK    OK  UNNEEDED, same version is already published
kunpeng2Linux (openEuler 22.03 LTS-SP1) / aarch64  OK    OK    OK  
Package 56/181HostnameOS / ArchINSTALLBUILDCHECKBUILD BIN
esATAC 1.25.0  (landing page)
Zheng Wei
git_last_commit: c979e6e
git_last_commit_date: 2023-10-24 11:01:27 -0500
nebbiolo1Linux (Ubuntu 22.04.3 LTS) / x86_64  OK    OK    OK  UNNEEDED, same version is already published
palomino3Windows Server 2022 Datacenter / x64  OK    OK    OK    OK  UNNEEDED, same version is already published
merida1macOS 12.7.1 Monterey / x86_64  OK    OK    OK    OK  UNNEEDED, same version is already published
kunpeng2Linux (openEuler 22.03 LTS-SP1) / aarch64  OK    OK    OK  
Package 57/181HostnameOS / ArchINSTALLBUILDCHECKBUILD BIN
ExCluster 1.21.0  (landing page)
R. Matthew Tanner
git_last_commit: 34eca14
git_last_commit_date: 2023-10-24 11:08:09 -0500
nebbiolo1Linux (Ubuntu 22.04.3 LTS) / x86_64  OK    OK    OK  UNNEEDED, same version is already published
palomino3Windows Server 2022 Datacenter / x64... NOT SUPPORTED ...
merida1macOS 12.7.1 Monterey / x86_64  OK    OK    OK    OK  UNNEEDED, same version is already published
kunpeng2Linux (openEuler 22.03 LTS-SP1) / aarch64  OK    OK    OK  
Package 58/181HostnameOS / ArchINSTALLBUILDCHECKBUILD BIN
exomePeak2 1.15.0  (landing page)
Zhen Wei
git_last_commit: 2a94dee
git_last_commit_date: 2023-10-24 11:19:49 -0500
nebbiolo1Linux (Ubuntu 22.04.3 LTS) / x86_64  OK    OK    ERROR  
palomino3Windows Server 2022 Datacenter / x64  OK    OK    OK    OK  UNNEEDED, same version is already published
merida1macOS 12.7.1 Monterey / x86_64  OK    OK    OK    OK  UNNEEDED, same version is already published
kunpeng2Linux (openEuler 22.03 LTS-SP1) / aarch64  OK    OK    ERROR  
Package 59/181HostnameOS / ArchINSTALLBUILDCHECKBUILD BIN
extraChIPs 1.7.2  (landing page)
Stephen Pederson
git_last_commit: fa233c1
git_last_commit_date: 2024-02-15 08:50:38 -0500
nebbiolo1Linux (Ubuntu 22.04.3 LTS) / x86_64  OK    ERROR  skipped
palomino3Windows Server 2022 Datacenter / x64  OK    ERROR  skippedskipped
merida1macOS 12.7.1 Monterey / x86_64  OK    ERROR  skippedskipped
kunpeng2Linux (openEuler 22.03 LTS-SP1) / aarch64  OK    ERROR  skipped
Package 60/181HostnameOS / ArchINSTALLBUILDCHECKBUILD BIN
factR 1.5.0  (landing page)
Fursham Hamid
git_last_commit: d349fb4
git_last_commit_date: 2023-10-24 11:42:45 -0500
nebbiolo1Linux (Ubuntu 22.04.3 LTS) / x86_64  OK    OK    OK  UNNEEDED, same version is already published
palomino3Windows Server 2022 Datacenter / x64  OK    OK    OK    OK  UNNEEDED, same version is already published
merida1macOS 12.7.1 Monterey / x86_64  OK    OK    OK    OK  UNNEEDED, same version is already published
kunpeng2Linux (openEuler 22.03 LTS-SP1) / aarch64  OK    OK    OK  
Package 61/181HostnameOS / ArchINSTALLBUILDCHECKBUILD BIN
fcScan 1.17.0  (landing page)
Pierre Khoueiry Abdullah El-Kurdi
git_last_commit: 55c627e
git_last_commit_date: 2023-10-24 11:15:44 -0500
nebbiolo1Linux (Ubuntu 22.04.3 LTS) / x86_64  OK    OK    OK  UNNEEDED, same version is already published
palomino3Windows Server 2022 Datacenter / x64  OK    ERROR  skippedskipped
merida1macOS 12.7.1 Monterey / x86_64  OK    OK    OK    OK  UNNEEDED, same version is already published
kunpeng2Linux (openEuler 22.03 LTS-SP1) / aarch64  OK    OK    OK  
Package 62/181HostnameOS / ArchINSTALLBUILDCHECKBUILD BIN
FindIT2 1.9.1  (landing page)
Guandong Shang
git_last_commit: ad4f102
git_last_commit_date: 2024-02-27 03:41:20 -0500
nebbiolo1Linux (Ubuntu 22.04.3 LTS) / x86_64  OK    OK    OK  YES
palomino3Windows Server 2022 Datacenter / x64  OK    OK    OK    OK  YES
merida1macOS 12.7.1 Monterey / x86_64  OK    OK    OK    OK  YES
kunpeng2Linux (openEuler 22.03 LTS-SP1) / aarch64  OK    OK    OK  
Package 63/181HostnameOS / ArchINSTALLBUILDCHECKBUILD BIN
FLAMES 1.9.0  (landing page)
Changqing Wang
git_last_commit: 38c29f8
git_last_commit_date: 2024-01-19 01:44:50 -0500
nebbiolo1Linux (Ubuntu 22.04.3 LTS) / x86_64  OK    OK    OK  UNNEEDED, same version is already published
palomino3Windows Server 2022 Datacenter / x64... NOT SUPPORTED ...
merida1macOS 12.7.1 Monterey / x86_64  OK    OK    OK    OK  UNNEEDED, same version is already published
kunpeng2Linux (openEuler 22.03 LTS-SP1) / aarch64  OK    OK    ERROR  
Package 64/181HostnameOS / ArchINSTALLBUILDCHECKBUILD BIN
geneAttribution 1.29.0  (landing page)
Arthur Wuster
git_last_commit: e8c2f45
git_last_commit_date: 2023-10-24 10:52:24 -0500
nebbiolo1Linux (Ubuntu 22.04.3 LTS) / x86_64  OK    OK    OK  UNNEEDED, same version is already published
palomino3Windows Server 2022 Datacenter / x64  OK    OK    OK    OK  UNNEEDED, same version is already published
merida1macOS 12.7.1 Monterey / x86_64  OK    OK    OK    OK  UNNEEDED, same version is already published
kunpeng2Linux (openEuler 22.03 LTS-SP1) / aarch64  OK    OK    OK  
Package 65/181HostnameOS / ArchINSTALLBUILDCHECKBUILD BIN
GeneStructureTools 1.23.0  (landing page)
Beth Signal
git_last_commit: def278e
git_last_commit_date: 2023-10-24 11:03:19 -0500
nebbiolo1Linux (Ubuntu 22.04.3 LTS) / x86_64  OK    OK    OK  UNNEEDED, same version is already published
palomino3Windows Server 2022 Datacenter / x64  OK    OK    OK    OK  UNNEEDED, same version is already published
merida1macOS 12.7.1 Monterey / x86_64  OK    OK    OK    OK  UNNEEDED, same version is already published
kunpeng2Linux (openEuler 22.03 LTS-SP1) / aarch64  OK    OK    OK  
Package 66/181HostnameOS / ArchINSTALLBUILDCHECKBUILD BIN
geneXtendeR 1.29.0  (landing page)
Bohdan Khomtchouk
git_last_commit: 8f1e0a9
git_last_commit_date: 2023-10-24 10:53:12 -0500
nebbiolo1Linux (Ubuntu 22.04.3 LTS) / x86_64  OK    OK    WARNINGS  UNNEEDED, same version is already published
palomino3Windows Server 2022 Datacenter / x64  OK    OK    WARNINGS    OK  UNNEEDED, same version is already published
merida1macOS 12.7.1 Monterey / x86_64  OK    OK    WARNINGS    OK  UNNEEDED, same version is already published
kunpeng2Linux (openEuler 22.03 LTS-SP1) / aarch64  OK    OK    WARNINGS  
Package 67/181HostnameOS / ArchINSTALLBUILDCHECKBUILD BIN
genomation 1.35.0  (landing page)
Altuna Akalin , Vedran Franke
git_last_commit: 16baa99
git_last_commit_date: 2023-10-24 10:40:33 -0500
nebbiolo1Linux (Ubuntu 22.04.3 LTS) / x86_64  OK    OK    WARNINGS  UNNEEDED, same version is already published
palomino3Windows Server 2022 Datacenter / x64  OK    OK    WARNINGS    OK  UNNEEDED, same version is already published
merida1macOS 12.7.1 Monterey / x86_64  OK    OK    WARNINGS    OK  UNNEEDED, same version is already published
kunpeng2Linux (openEuler 22.03 LTS-SP1) / aarch64  OK    OK    WARNINGS  
Package 68/181HostnameOS / ArchINSTALLBUILDCHECKBUILD BIN
GenomicFeatures 1.55.3  (landing page)
H. Pagès
git_last_commit: 8de3d35
git_last_commit_date: 2024-01-28 00:38:41 -0500
nebbiolo1Linux (Ubuntu 22.04.3 LTS) / x86_64  OK    ERROR  skipped
palomino3Windows Server 2022 Datacenter / x64  OK    ERROR  skippedskipped
merida1macOS 12.7.1 Monterey / x86_64  OK    ERROR  skippedskipped
kunpeng2Linux (openEuler 22.03 LTS-SP1) / aarch64  OK    ERROR  skipped
Package 69/181HostnameOS / ArchINSTALLBUILDCHECKBUILD BIN
GenomicFiles 1.39.0  (landing page)
Bioconductor Package Maintainer
git_last_commit: 291e847
git_last_commit_date: 2023-10-24 09:58:47 -0500
nebbiolo1Linux (Ubuntu 22.04.3 LTS) / x86_64  OK    OK    WARNINGS  UNNEEDED, same version is already published
palomino3Windows Server 2022 Datacenter / x64  OK    OK    WARNINGS    OK  UNNEEDED, same version is already published
merida1macOS 12.7.1 Monterey / x86_64  OK    OK    WARNINGS    OK  UNNEEDED, same version is already published
kunpeng2Linux (openEuler 22.03 LTS-SP1) / aarch64  OK    OK    WARNINGS  
Package 70/181HostnameOS / ArchINSTALLBUILDCHECKBUILD BIN
GenomicInteractions 1.37.0  (landing page)
Liz Ing-Simmons
git_last_commit: 0a634e0
git_last_commit_date: 2023-10-24 10:38:45 -0500
nebbiolo1Linux (Ubuntu 22.04.3 LTS) / x86_64  OK    OK    OK  UNNEEDED, same version is already published
palomino3Windows Server 2022 Datacenter / x64  OK    OK    OK    OK  UNNEEDED, same version is already published
merida1macOS 12.7.1 Monterey / x86_64  OK    OK    OK    OK  UNNEEDED, same version is already published
kunpeng2Linux (openEuler 22.03 LTS-SP1) / aarch64  OK    OK    OK  
Package 71/181HostnameOS / ArchINSTALLBUILDCHECKBUILD BIN
GenomicPlot 1.1.5  (landing page)
Shuye Pu
git_last_commit: 03356a8
git_last_commit_date: 2024-02-20 21:23:55 -0500
nebbiolo1Linux (Ubuntu 22.04.3 LTS) / x86_64  OK    OK    OK  UNNEEDED, same version is already published
palomino3Windows Server 2022 Datacenter / x64  OK    OK    OK    OK  UNNEEDED, same version is already published
merida1macOS 12.7.1 Monterey / x86_64  OK    OK    OK    OK  UNNEEDED, same version is already published
kunpeng2Linux (openEuler 22.03 LTS-SP1) / aarch64  OK    OK    OK  
Package 72/181HostnameOS / ArchINSTALLBUILDCHECKBUILD BIN
ggbio 1.51.0  (landing page)
Michael Lawrence
git_last_commit: 7782892
git_last_commit_date: 2023-10-25 17:31:50 -0500
nebbiolo1Linux (Ubuntu 22.04.3 LTS) / x86_64  OK    OK    WARNINGS  UNNEEDED, same version is already published
palomino3Windows Server 2022 Datacenter / x64  OK    ERROR  skippedskipped
merida1macOS 12.7.1 Monterey / x86_64  OK    OK    WARNINGS    OK  UNNEEDED, same version is already published
kunpeng2Linux (openEuler 22.03 LTS-SP1) / aarch64  OK    OK    WARNINGS  
Package 73/181HostnameOS / ArchINSTALLBUILDCHECKBUILD BIN
gmapR 1.45.0  (landing page)
Michael Lawrence
git_last_commit: acb82a0
git_last_commit_date: 2024-01-18 16:28:42 -0500
nebbiolo1Linux (Ubuntu 22.04.3 LTS) / x86_64  OK    OK    WARNINGS  UNNEEDED, same version is already published
palomino3Windows Server 2022 Datacenter / x64... NOT SUPPORTED ...
merida1macOS 12.7.1 Monterey / x86_64  OK    OK    WARNINGS    OK  UNNEEDED, same version is already published
kunpeng2Linux (openEuler 22.03 LTS-SP1) / aarch64  OK    OK    WARNINGS  
Package 74/181HostnameOS / ArchINSTALLBUILDCHECKBUILD BIN
gmoviz 1.15.0  (landing page)
Kathleen Zeglinski
git_last_commit: ad2df19
git_last_commit_date: 2023-10-24 11:20:31 -0500
nebbiolo1Linux (Ubuntu 22.04.3 LTS) / x86_64  OK    OK    OK  UNNEEDED, same version is already published
palomino3Windows Server 2022 Datacenter / x64  OK    OK    OK    OK  UNNEEDED, same version is already published
merida1macOS 12.7.1 Monterey / x86_64  OK    OK    OK    OK  UNNEEDED, same version is already published
kunpeng2Linux (openEuler 22.03 LTS-SP1) / aarch64  OK    OK    OK  
Package 75/181HostnameOS / ArchINSTALLBUILDCHECKBUILD BIN
GOTHiC 1.39.0  (landing page)
Borbala Mifsud
git_last_commit: f393257
git_last_commit_date: 2023-10-24 11:15:00 -0500
nebbiolo1Linux (Ubuntu 22.04.3 LTS) / x86_64  OK    OK    OK  UNNEEDED, same version is already published
palomino3Windows Server 2022 Datacenter / x64  OK    ERROR  skippedskipped
merida1macOS 12.7.1 Monterey / x86_64  OK    OK    OK    OK  UNNEEDED, same version is already published
kunpeng2Linux (openEuler 22.03 LTS-SP1) / aarch64  OK    OK    OK  
Package 76/181HostnameOS / ArchINSTALLBUILDCHECKBUILD BIN
GreyListChIP 1.35.1  (landing page)
Matt Eldridge
git_last_commit: da11016
git_last_commit_date: 2023-12-21 07:59:52 -0500
nebbiolo1Linux (Ubuntu 22.04.3 LTS) / x86_64  OK    OK    OK  UNNEEDED, same version is already published
palomino3Windows Server 2022 Datacenter / x64  OK    OK    OK    OK  UNNEEDED, same version is already published
merida1macOS 12.7.1 Monterey / x86_64  OK    OK    OK    OK  UNNEEDED, same version is already published
kunpeng2Linux (openEuler 22.03 LTS-SP1) / aarch64  OK    OK    OK  
Package 77/181HostnameOS / ArchINSTALLBUILDCHECKBUILD BIN
groHMM 1.37.0  (landing page)
Tulip Nandu , W. Lee Kraus
git_last_commit: 114289a
git_last_commit_date: 2023-10-24 10:39:48 -0500
nebbiolo1Linux (Ubuntu 22.04.3 LTS) / x86_64  OK    OK    WARNINGS  UNNEEDED, same version is already published
palomino3Windows Server 2022 Datacenter / x64  OK    OK    WARNINGS    OK  UNNEEDED, same version is already published
merida1macOS 12.7.1 Monterey / x86_64  OK    OK    WARNINGS    OK  UNNEEDED, same version is already published
kunpeng2Linux (openEuler 22.03 LTS-SP1) / aarch64  OK    OK    WARNINGS  
Package 78/181HostnameOS / ArchINSTALLBUILDCHECKBUILD BIN
Guitar 2.19.0  (landing page)
Jia Meng
git_last_commit: 99534a3
git_last_commit_date: 2023-10-24 10:45:29 -0500
nebbiolo1Linux (Ubuntu 22.04.3 LTS) / x86_64  OK    OK    OK  UNNEEDED, same version is already published
palomino3Windows Server 2022 Datacenter / x64  OK    OK    OK    OK  UNNEEDED, same version is already published
merida1macOS 12.7.1 Monterey / x86_64  OK    OK    OK    OK  UNNEEDED, same version is already published
kunpeng2Linux (openEuler 22.03 LTS-SP1) / aarch64  OK    OK    OK  
Package 79/181HostnameOS / ArchINSTALLBUILDCHECKBUILD BIN
Gviz 1.47.1  (landing page)
Robert Ivanek
git_last_commit: d1385ee
git_last_commit_date: 2023-11-16 09:37:00 -0500
nebbiolo1Linux (Ubuntu 22.04.3 LTS) / x86_64  OK    OK    OK  UNNEEDED, same version is already published
palomino3Windows Server 2022 Datacenter / x64  OK    OK    OK    OK  UNNEEDED, same version is already published
merida1macOS 12.7.1 Monterey / x86_64  OK    OK    OK    OK  UNNEEDED, same version is already published
kunpeng2Linux (openEuler 22.03 LTS-SP1) / aarch64  OK    OK    OK  
Package 80/181HostnameOS / ArchINSTALLBUILDCHECKBUILD BIN
HelloRanges 1.29.0  (landing page)
Michael Lawrence
git_last_commit: d185387
git_last_commit_date: 2023-10-24 10:53:38 -0500
nebbiolo1Linux (Ubuntu 22.04.3 LTS) / x86_64  OK    OK    OK  UNNEEDED, same version is already published
palomino3Windows Server 2022 Datacenter / x64  OK    ERROR  skippedskipped
merida1macOS 12.7.1 Monterey / x86_64  OK    ERROR  skippedskipped
kunpeng2Linux (openEuler 22.03 LTS-SP1) / aarch64  OK    ERROR  skipped
Package 81/181HostnameOS / ArchINSTALLBUILDCHECKBUILD BIN
hiAnnotator 1.37.0  (landing page)
Nirav V Malani
git_last_commit: 8fad872
git_last_commit_date: 2023-10-24 09:59:04 -0500
nebbiolo1Linux (Ubuntu 22.04.3 LTS) / x86_64  OK    OK    OK  UNNEEDED, same version is already published
palomino3Windows Server 2022 Datacenter / x64  OK    OK    OK    OK  UNNEEDED, same version is already published
merida1macOS 12.7.1 Monterey / x86_64  OK    OK    OK    OK  UNNEEDED, same version is already published
kunpeng2Linux (openEuler 22.03 LTS-SP1) / aarch64  OK    OK    OK  
Package 82/181HostnameOS / ArchINSTALLBUILDCHECKBUILD BIN
HiCDCPlus 1.11.0  (landing page)
Merve Sahin
git_last_commit: 7752e7a
git_last_commit_date: 2023-10-24 11:29:59 -0500
nebbiolo1Linux (Ubuntu 22.04.3 LTS) / x86_64  OK    OK    OK  UNNEEDED, same version is already published
palomino3Windows Server 2022 Datacenter / x64  OK    OK    OK    OK  UNNEEDED, same version is already published
merida1macOS 12.7.1 Monterey / x86_64  OK    OK    OK    OK  UNNEEDED, same version is already published
kunpeng2Linux (openEuler 22.03 LTS-SP1) / aarch64  OK    OK    OK  
Package 83/181HostnameOS / ArchINSTALLBUILDCHECKBUILD BIN
hicVennDiagram 1.1.0  (landing page)
Jianhong Ou
git_last_commit: 0a04222
git_last_commit_date: 2023-10-24 11:50:18 -0500
nebbiolo1Linux (Ubuntu 22.04.3 LTS) / x86_64  OK    ERROR  skipped
palomino3Windows Server 2022 Datacenter / x64  OK    ERROR  skippedskipped
merida1macOS 12.7.1 Monterey / x86_64  OK    ERROR  skippedskipped
kunpeng2Linux (openEuler 22.03 LTS-SP1) / aarch64  OK    ERROR  skipped
Package 84/181HostnameOS / ArchINSTALLBUILDCHECKBUILD BIN
HiTC 1.47.0  (landing page)
Nicolas Servant
git_last_commit: 8dd06cc
git_last_commit_date: 2024-02-15 11:23:49 -0500
nebbiolo1Linux (Ubuntu 22.04.3 LTS) / x86_64  OK    OK    WARNINGS  UNNEEDED, same version is already published
palomino3Windows Server 2022 Datacenter / x64  OK    OK    WARNINGS    OK  UNNEEDED, same version is already published
merida1macOS 12.7.1 Monterey / x86_64  OK    OK    WARNINGS    OK  UNNEEDED, same version is already published
kunpeng2Linux (openEuler 22.03 LTS-SP1) / aarch64  OK    OK    WARNINGS  
Package 85/181HostnameOS / ArchINSTALLBUILDCHECKBUILD BIN
HTSeqGenie 4.33.0  (landing page)
Jens Reeder
git_last_commit: a6e457f
git_last_commit_date: 2023-10-24 09:51:39 -0500
nebbiolo1Linux (Ubuntu 22.04.3 LTS) / x86_64  OK    OK    OK  UNNEEDED, same version is already published
palomino3Windows Server 2022 Datacenter / x64... NOT SUPPORTED ...
merida1macOS 12.7.1 Monterey / x86_64... NOT SUPPORTED ...
kunpeng2Linux (openEuler 22.03 LTS-SP1) / aarch64  OK    OK    OK  
Package 86/181HostnameOS / ArchINSTALLBUILDCHECKBUILD BIN
icetea 1.21.0  (landing page)
Vivek Bhardwaj
git_last_commit: 4539135
git_last_commit_date: 2023-10-24 11:06:09 -0500
nebbiolo1Linux (Ubuntu 22.04.3 LTS) / x86_64  OK    OK    WARNINGS  UNNEEDED, same version is already published
palomino3Windows Server 2022 Datacenter / x64  OK    OK    WARNINGS    OK  UNNEEDED, same version is already published
merida1macOS 12.7.1 Monterey / x86_64  OK    OK    WARNINGS    OK  UNNEEDED, same version is already published
kunpeng2Linux (openEuler 22.03 LTS-SP1) / aarch64  OK    OK    WARNINGS  
Package 87/181HostnameOS / ArchINSTALLBUILDCHECKBUILD BIN
IdeoViz 1.39.1  (landing page)
Shraddha Pai
git_last_commit: d1c253d
git_last_commit_date: 2024-02-15 21:55:09 -0500
nebbiolo1Linux (Ubuntu 22.04.3 LTS) / x86_64  OK    OK    WARNINGS  UNNEEDED, same version is already published
palomino3Windows Server 2022 Datacenter / x64  OK    OK    WARNINGS    OK  UNNEEDED, same version is already published
merida1macOS 12.7.1 Monterey / x86_64  OK    OK    WARNINGS    OK  UNNEEDED, same version is already published
kunpeng2Linux (openEuler 22.03 LTS-SP1) / aarch64  OK    OK    WARNINGS  
Package 88/181HostnameOS / ArchINSTALLBUILDCHECKBUILD BIN
igvR 1.23.0  (landing page)
Arkadiusz Gladki
git_last_commit: fc3978b
git_last_commit_date: 2023-10-24 11:04:57 -0500
nebbiolo1Linux (Ubuntu 22.04.3 LTS) / x86_64  OK    OK    OK  UNNEEDED, same version is already published
palomino3Windows Server 2022 Datacenter / x64  OK    OK    OK    OK  UNNEEDED, same version is already published
merida1macOS 12.7.1 Monterey / x86_64  OK    OK    OK    OK  UNNEEDED, same version is already published
kunpeng2Linux (openEuler 22.03 LTS-SP1) / aarch64  OK    OK    OK  
Package 89/181HostnameOS / ArchINSTALLBUILDCHECKBUILD BIN
INSPEcT 1.33.1  (landing page)
Stefano de Pretis
git_last_commit: 818e03b
git_last_commit_date: 2024-01-02 11:46:50 -0500
nebbiolo1Linux (Ubuntu 22.04.3 LTS) / x86_64  OK    OK    OK  UNNEEDED, same version is already published
palomino3Windows Server 2022 Datacenter / x64  OK    OK    OK    OK  UNNEEDED, same version is already published
merida1macOS 12.7.1 Monterey / x86_64  OK    OK    OK    OK  UNNEEDED, same version is already published
kunpeng2Linux (openEuler 22.03 LTS-SP1) / aarch64  OK    OK    OK  
Package 90/181HostnameOS / ArchINSTALLBUILDCHECKBUILD BIN
InTAD 1.23.0  (landing page)
Konstantin Okonechnikov
git_last_commit: 01222b8
git_last_commit_date: 2023-10-24 11:04:33 -0500
nebbiolo1Linux (Ubuntu 22.04.3 LTS) / x86_64  OK    OK    OK  UNNEEDED, same version is already published
palomino3Windows Server 2022 Datacenter / x64  OK    OK    OK    OK  UNNEEDED, same version is already published
merida1macOS 12.7.1 Monterey / x86_64  OK    OK    OK    OK  UNNEEDED, same version is already published
kunpeng2Linux (openEuler 22.03 LTS-SP1) / aarch64  OK    OK    OK  
Package 91/181HostnameOS / ArchINSTALLBUILDCHECKBUILD BIN
IsoformSwitchAnalyzeR 2.3.0  (landing page)
Kristoffer Vitting-Seerup
git_last_commit: 55e5728
git_last_commit_date: 2023-10-24 10:57:42 -0500
nebbiolo1Linux (Ubuntu 22.04.3 LTS) / x86_64  OK    OK    OK  UNNEEDED, same version is already published
palomino3Windows Server 2022 Datacenter / x64  OK    OK    OK    OK  UNNEEDED, same version is already published
merida1macOS 12.7.1 Monterey / x86_64  OK    OK    OK    OK  UNNEEDED, same version is already published
kunpeng2Linux (openEuler 22.03 LTS-SP1) / aarch64  OK    OK    OK  
Package 92/181HostnameOS / ArchINSTALLBUILDCHECKBUILD BIN
karyoploteR 1.29.1  (landing page)
Bernat Gel
git_last_commit: 2a860f3
git_last_commit_date: 2024-01-11 06:04:35 -0500
nebbiolo1Linux (Ubuntu 22.04.3 LTS) / x86_64  OK    OK    OK  UNNEEDED, same version is already published
palomino3Windows Server 2022 Datacenter / x64  OK    OK    OK    OK  UNNEEDED, same version is already published
merida1macOS 12.7.1 Monterey / x86_64  OK    OK    OK    OK  UNNEEDED, same version is already published
kunpeng2Linux (openEuler 22.03 LTS-SP1) / aarch64  OK    OK    OK  
Package 93/181HostnameOS / ArchINSTALLBUILDCHECKBUILD BIN
m6Aboost 1.9.0  (landing page)
You Zhou
git_last_commit: edfcadf
git_last_commit_date: 2023-10-24 11:34:23 -0500
nebbiolo1Linux (Ubuntu 22.04.3 LTS) / x86_64  OK    OK    OK  UNNEEDED, same version is already published
palomino3Windows Server 2022 Datacenter / x64  OK    OK    OK    OK  UNNEEDED, same version is already published
merida1macOS 12.7.1 Monterey / x86_64  OK    OK    OK    OK  UNNEEDED, same version is already published
kunpeng2Linux (openEuler 22.03 LTS-SP1) / aarch64  OK    TIMEOUT  skipped
Package 94/181HostnameOS / ArchINSTALLBUILDCHECKBUILD BIN
MADSEQ 1.29.0  (landing page)
Yu Kong
git_last_commit: 964b2a9
git_last_commit_date: 2023-10-24 10:50:43 -0500
nebbiolo1Linux (Ubuntu 22.04.3 LTS) / x86_64  OK    OK    OK  UNNEEDED, same version is already published
palomino3Windows Server 2022 Datacenter / x64  OK    OK    OK    OK  UNNEEDED, same version is already published
merida1macOS 12.7.1 Monterey / x86_64  OK    OK    OK    OK  UNNEEDED, same version is already published
kunpeng2Linux (openEuler 22.03 LTS-SP1) / aarch64  OK    OK    OK  
Package 95/181HostnameOS / ArchINSTALLBUILDCHECKBUILD BIN
magpie 1.3.1  (landing page)
Daoyu Duan
git_last_commit: 7b3602e
git_last_commit_date: 2023-12-15 13:03:45 -0500
nebbiolo1Linux (Ubuntu 22.04.3 LTS) / x86_64  OK    OK    WARNINGS  UNNEEDED, same version is already published
palomino3Windows Server 2022 Datacenter / x64  OK    OK    WARNINGS    OK  UNNEEDED, same version is already published
merida1macOS 12.7.1 Monterey / x86_64  OK    OK    WARNINGS    OK  UNNEEDED, same version is already published
kunpeng2Linux (openEuler 22.03 LTS-SP1) / aarch64  OK    OK    WARNINGS  
Package 96/181HostnameOS / ArchINSTALLBUILDCHECKBUILD BIN
maser 1.21.0  (landing page)
Diogo F.T. Veiga
git_last_commit: 981a97f
git_last_commit_date: 2023-10-24 11:05:44 -0500
nebbiolo1Linux (Ubuntu 22.04.3 LTS) / x86_64  OK    OK    OK  UNNEEDED, same version is already published
palomino3Windows Server 2022 Datacenter / x64  OK    OK    OK    OK  UNNEEDED, same version is already published
merida1macOS 12.7.1 Monterey / x86_64  OK    OK    OK    OK  UNNEEDED, same version is already published
kunpeng2Linux (openEuler 22.03 LTS-SP1) / aarch64  OK    OK    OK  
Package 97/181HostnameOS / ArchINSTALLBUILDCHECKBUILD BIN
MEDIPS 1.55.0  (landing page)
Lukas Chavez
git_last_commit: eef7376
git_last_commit_date: 2023-10-24 09:45:13 -0500
nebbiolo1Linux (Ubuntu 22.04.3 LTS) / x86_64  OK    OK    OK  UNNEEDED, same version is already published
palomino3Windows Server 2022 Datacenter / x64  OK    OK    OK    OK  UNNEEDED, same version is already published
merida1macOS 12.7.1 Monterey / x86_64  OK    OK    OK    OK  UNNEEDED, same version is already published
kunpeng2Linux (openEuler 22.03 LTS-SP1) / aarch64  OK    OK    OK  
Package 98/181HostnameOS / ArchINSTALLBUILDCHECKBUILD BIN
metagene 2.35.0  (landing page)
Charles Joly Beauparlant
git_last_commit: 588cf5a
git_last_commit_date: 2023-10-24 10:00:24 -0500
nebbiolo1Linux (Ubuntu 22.04.3 LTS) / x86_64  OK    OK    ERROR  
palomino3Windows Server 2022 Datacenter / x64  OK    OK    WARNINGS    OK  UNNEEDED, same version is already published
merida1macOS 12.7.1 Monterey / x86_64  OK    OK    ERROR    OK  
kunpeng2Linux (openEuler 22.03 LTS-SP1) / aarch64  OK    OK    ERROR  
Package 99/181HostnameOS / ArchINSTALLBUILDCHECKBUILD BIN
metagene2 1.19.0  (landing page)
Eric Fournier
git_last_commit: 7dd1bd1
git_last_commit_date: 2023-10-24 11:13:42 -0500
nebbiolo1Linux (Ubuntu 22.04.3 LTS) / x86_64  OK    OK    WARNINGS  UNNEEDED, same version is already published
palomino3Windows Server 2022 Datacenter / x64  OK    OK    WARNINGS    OK  UNNEEDED, same version is already published
merida1macOS 12.7.1 Monterey / x86_64  OK    OK    WARNINGS    OK  UNNEEDED, same version is already published
kunpeng2Linux (openEuler 22.03 LTS-SP1) / aarch64  OK    OK    WARNINGS  
Package 100/181HostnameOS / ArchINSTALLBUILDCHECKBUILD BIN
metaseqR2 1.15.0  (landing page)
Panagiotis Moulos
git_last_commit: eebcb8e
git_last_commit_date: 2023-10-24 11:22:10 -0500
nebbiolo1Linux (Ubuntu 22.04.3 LTS) / x86_64  OK    OK    OK  UNNEEDED, same version is already published
palomino3Windows Server 2022 Datacenter / x64  OK    OK    OK    OK  UNNEEDED, same version is already published
merida1macOS 12.7.1 Monterey / x86_64  OK    ERROR  skippedskipped
kunpeng2Linux (openEuler 22.03 LTS-SP1) / aarch64  OK    OK    OK  
Package 101/181HostnameOS / ArchINSTALLBUILDCHECKBUILD BIN
methodical 0.99.21  (landing page)
Richard Heery
git_last_commit: 9cc9fff
git_last_commit_date: 2024-01-12 14:44:06 -0500
nebbiolo1Linux (Ubuntu 22.04.3 LTS) / x86_64  OK    ERROR  skipped
palomino3Windows Server 2022 Datacenter / x64  OK    ERROR  skippedskipped
merida1macOS 12.7.1 Monterey / x86_64  OK    ERROR  skippedskipped
kunpeng2Linux (openEuler 22.03 LTS-SP1) / aarch64  OK    TIMEOUT  skipped
Package 102/181HostnameOS / ArchINSTALLBUILDCHECKBUILD BIN
methrix 1.17.0  (landing page)
Anand Mayakonda
git_last_commit: 8a77091
git_last_commit_date: 2023-10-24 11:17:51 -0500
nebbiolo1Linux (Ubuntu 22.04.3 LTS) / x86_64  OK    OK    OK  UNNEEDED, same version is already published
palomino3Windows Server 2022 Datacenter / x64  OK    OK    OK    OK  UNNEEDED, same version is already published
merida1macOS 12.7.1 Monterey / x86_64  OK    OK    OK    OK  UNNEEDED, same version is already published
kunpeng2Linux (openEuler 22.03 LTS-SP1) / aarch64  OK    ERROR  skipped
Package 103/181HostnameOS / ArchINSTALLBUILDCHECKBUILD BIN
methylKit 1.29.1  (landing page)
Altuna Akalin , Alexander Blume
git_last_commit: 9061a7c
git_last_commit_date: 2024-01-17 11:02:15 -0500
nebbiolo1Linux (Ubuntu 22.04.3 LTS) / x86_64  OK    OK    OK  UNNEEDED, same version is already published
palomino3Windows Server 2022 Datacenter / x64  OK    OK    OK    OK  UNNEEDED, same version is already published
merida1macOS 12.7.1 Monterey / x86_64  OK    OK    OK    OK  UNNEEDED, same version is already published
kunpeng2Linux (openEuler 22.03 LTS-SP1) / aarch64  OK    OK    OK  
Package 104/181HostnameOS / ArchINSTALLBUILDCHECKBUILD BIN
MethylSeekR 1.43.0  (landing page)
Lukas Burger
git_last_commit: 1f68e4a
git_last_commit_date: 2023-10-24 09:52:39 -0500
nebbiolo1Linux (Ubuntu 22.04.3 LTS) / x86_64  OK    OK    OK  UNNEEDED, same version is already published
palomino3Windows Server 2022 Datacenter / x64  OK    OK    OK    OK  UNNEEDED, same version is already published
merida1macOS 12.7.1 Monterey / x86_64  OK    OK    OK    OK  UNNEEDED, same version is already published
kunpeng2Linux (openEuler 22.03 LTS-SP1) / aarch64  OK    OK    OK  
Package 105/181HostnameOS / ArchINSTALLBUILDCHECKBUILD BIN
mobileRNA 0.99.20  (landing page)
Katie Jeynes-Cupper
git_last_commit: ca36c4b
git_last_commit_date: 2024-02-26 08:03:11 -0500
nebbiolo1Linux (Ubuntu 22.04.3 LTS) / x86_64  OK    OK    OK  UNNEEDED, same version is already published
palomino3Windows Server 2022 Datacenter / x64  OK    OK    OK    OK  UNNEEDED, same version is already published
merida1macOS 12.7.1 Monterey / x86_64  OK    OK    OK    OK  UNNEEDED, same version is already published
kunpeng2Linux (openEuler 22.03 LTS-SP1) / aarch64  OK    OK    OK  
Package 106/181HostnameOS / ArchINSTALLBUILDCHECKBUILD BIN
Moonlight2R 1.1.0  (landing page)
Matteo Tiberti
git_last_commit: 5e6c38d
git_last_commit_date: 2023-10-24 11:51:18 -0500
nebbiolo1Linux (Ubuntu 22.04.3 LTS) / x86_64  OK    OK    OK  UNNEEDED, same version is already published
palomino3Windows Server 2022 Datacenter / x64  OK    OK    OK    OK  UNNEEDED, same version is already published
merida1macOS 12.7.1 Monterey / x86_64  OK    OK    OK    OK  UNNEEDED, same version is already published
kunpeng2Linux (openEuler 22.03 LTS-SP1) / aarch64  OK    OK    OK  
Package 107/181HostnameOS / ArchINSTALLBUILDCHECKBUILD BIN
motifbreakR 2.17.0  (landing page)
Simon Gert Coetzee
git_last_commit: ae7ee17
git_last_commit_date: 2023-10-24 10:45:13 -0500
nebbiolo1Linux (Ubuntu 22.04.3 LTS) / x86_64  OK    OK    WARNINGS  UNNEEDED, same version is already published
palomino3Windows Server 2022 Datacenter / x64  OK    OK    WARNINGS    OK  UNNEEDED, same version is already published
merida1macOS 12.7.1 Monterey / x86_64  OK    OK    WARNINGS    OK  UNNEEDED, same version is already published
kunpeng2Linux (openEuler 22.03 LTS-SP1) / aarch64  OK    ERROR  skipped
Package 108/181HostnameOS / ArchINSTALLBUILDCHECKBUILD BIN
MotifDb 1.45.0  (landing page)
Paul Shannon
git_last_commit: 3a552ea
git_last_commit_date: 2023-10-24 09:50:54 -0500
nebbiolo1Linux (Ubuntu 22.04.3 LTS) / x86_64  OK    OK    WARNINGS  UNNEEDED, same version is already published
palomino3Windows Server 2022 Datacenter / x64  OK    OK    WARNINGS    OK  UNNEEDED, same version is already published
merida1macOS 12.7.1 Monterey / x86_64  OK    OK    WARNINGS    OK  UNNEEDED, same version is already published
kunpeng2Linux (openEuler 22.03 LTS-SP1) / aarch64  OK    OK    WARNINGS  
Package 109/181HostnameOS / ArchINSTALLBUILDCHECKBUILD BIN
multicrispr 1.13.4  (landing page)
Aditya Bhagwat
git_last_commit: 1b69e38
git_last_commit_date: 2023-11-13 04:50:12 -0500
nebbiolo1Linux (Ubuntu 22.04.3 LTS) / x86_64  OK    OK    OK  UNNEEDED, same version is already published
palomino3Windows Server 2022 Datacenter / x64  OK    OK    OK    OK  UNNEEDED, same version is already published
merida1macOS 12.7.1 Monterey / x86_64  OK    OK    OK    OK  UNNEEDED, same version is already published
kunpeng2Linux (openEuler 22.03 LTS-SP1) / aarch64  OK    OK    OK  
Package 110/181HostnameOS / ArchINSTALLBUILDCHECKBUILD BIN
MungeSumstats 1.11.8  (landing page)
Alan Murphy
git_last_commit: f7bd333
git_last_commit_date: 2024-02-22 04:03:48 -0500
nebbiolo1Linux (Ubuntu 22.04.3 LTS) / x86_64  OK    OK    OK  UNNEEDED, same version is already published
palomino3Windows Server 2022 Datacenter / x64  OK    OK    OK    OK  UNNEEDED, same version is already published
merida1macOS 12.7.1 Monterey / x86_64  OK    OK    OK    OK  UNNEEDED, same version is already published
kunpeng2Linux (openEuler 22.03 LTS-SP1) / aarch64  OK    ERROR  skipped
Package 111/181HostnameOS / ArchINSTALLBUILDCHECKBUILD BIN
NADfinder 1.27.0  (landing page)
Jianhong Ou
git_last_commit: 01062af
git_last_commit_date: 2023-10-24 10:56:31 -0500
nebbiolo1Linux (Ubuntu 22.04.3 LTS) / x86_64  OK    OK    OK  UNNEEDED, same version is already published
palomino3Windows Server 2022 Datacenter / x64  OK    OK    OK    OK  UNNEEDED, same version is already published
merida1macOS 12.7.1 Monterey / x86_64  OK    OK    OK    OK  UNNEEDED, same version is already published
kunpeng2Linux (openEuler 22.03 LTS-SP1) / aarch64  OK    ERROR  skipped
Package 112/181HostnameOS / ArchINSTALLBUILDCHECKBUILD BIN
nearBynding 1.13.0  (landing page)
Veronica Busa
git_last_commit: 08ff356
git_last_commit_date: 2023-10-24 11:25:39 -0500
nebbiolo1Linux (Ubuntu 22.04.3 LTS) / x86_64  OK    OK    OK  UNNEEDED, same version is already published
palomino3Windows Server 2022 Datacenter / x64  OK    OK    OK    OK  UNNEEDED, same version is already published
merida1macOS 12.7.1 Monterey / x86_64  OK    OK    OK    OK  UNNEEDED, same version is already published
kunpeng2Linux (openEuler 22.03 LTS-SP1) / aarch64  OK    OK    OK  
Package 113/181HostnameOS / ArchINSTALLBUILDCHECKBUILD BIN
NoRCE 1.15.0  (landing page)
Gulden Olgun
git_last_commit: 20d62c4
git_last_commit_date: 2023-10-24 11:20:20 -0500
nebbiolo1Linux (Ubuntu 22.04.3 LTS) / x86_64  OK    OK    OK  UNNEEDED, same version is already published
palomino3Windows Server 2022 Datacenter / x64  OK    OK    OK    OK  UNNEEDED, same version is already published
merida1macOS 12.7.1 Monterey / x86_64  OK    OK    OK    OK  UNNEEDED, same version is already published
kunpeng2Linux (openEuler 22.03 LTS-SP1) / aarch64  OK    OK    OK  
Package 114/181HostnameOS / ArchINSTALLBUILDCHECKBUILD BIN
normr 1.29.0  (landing page)
Johannes Helmuth
git_last_commit: db4896b
git_last_commit_date: 2023-10-24 10:51:02 -0500
nebbiolo1Linux (Ubuntu 22.04.3 LTS) / x86_64  OK    OK    WARNINGS  UNNEEDED, same version is already published
palomino3Windows Server 2022 Datacenter / x64  OK    OK    WARNINGS    OK  UNNEEDED, same version is already published
merida1macOS 12.7.1 Monterey / x86_64  OK    OK    WARNINGS    OK  UNNEEDED, same version is already published
kunpeng2Linux (openEuler 22.03 LTS-SP1) / aarch64  OK    OK    WARNINGS  
Package 115/181HostnameOS / ArchINSTALLBUILDCHECKBUILD BIN
OGRE 1.7.0  (landing page)
Sven Berres
git_last_commit: 323b550
git_last_commit_date: 2023-10-24 11:39:04 -0500
nebbiolo1Linux (Ubuntu 22.04.3 LTS) / x86_64  OK    OK    OK  UNNEEDED, same version is already published
palomino3Windows Server 2022 Datacenter / x64  OK    OK    OK    OK  UNNEEDED, same version is already published
merida1macOS 12.7.1 Monterey / x86_64  OK    OK    OK    OK  UNNEEDED, same version is already published
kunpeng2Linux (openEuler 22.03 LTS-SP1) / aarch64  OK    ERROR  skipped
Package 116/181HostnameOS / ArchINSTALLBUILDCHECKBUILD BIN
OMICsPCA 1.21.0  (landing page)
Subhadeep Das
git_last_commit: 330a66d
git_last_commit_date: 2023-10-24 11:08:12 -0500
nebbiolo1Linux (Ubuntu 22.04.3 LTS) / x86_64  OK    OK    OK  UNNEEDED, same version is already published
palomino3Windows Server 2022 Datacenter / x64  OK    OK    OK    OK  UNNEEDED, same version is already published
merida1macOS 12.7.1 Monterey / x86_64  OK    OK    OK    OK  UNNEEDED, same version is already published
kunpeng2Linux (openEuler 22.03 LTS-SP1) / aarch64  OK    OK    OK  
Package 117/181HostnameOS / ArchINSTALLBUILDCHECKBUILD BIN
ORFhunteR 1.11.0  (landing page)
Vasily V. Grinev
git_last_commit: 2b16655
git_last_commit_date: 2023-10-24 11:29:32 -0500
nebbiolo1Linux (Ubuntu 22.04.3 LTS) / x86_64  OK    OK    OK  UNNEEDED, same version is already published
palomino3Windows Server 2022 Datacenter / x64  OK    OK    OK    OK  UNNEEDED, same version is already published
merida1macOS 12.7.1 Monterey / x86_64  OK    OK    OK    OK  UNNEEDED, same version is already published
kunpeng2Linux (openEuler 22.03 LTS-SP1) / aarch64  OK    ERROR  skipped
Package 118/181HostnameOS / ArchINSTALLBUILDCHECKBUILD BIN
ORFik 1.23.6  (landing page)
Haakon Tjeldnes
git_last_commit: 7e429b3
git_last_commit_date: 2024-02-19 08:55:05 -0500
nebbiolo1Linux (Ubuntu 22.04.3 LTS) / x86_64  OK    OK    OK  UNNEEDED, same version is already published
palomino3Windows Server 2022 Datacenter / x64  OK    OK    OK    OK  UNNEEDED, same version is already published
merida1macOS 12.7.1 Monterey / x86_64  OK    OK    OK    OK  UNNEEDED, same version is already published
kunpeng2Linux (openEuler 22.03 LTS-SP1) / aarch64  OK    OK    OK  
Package 119/181HostnameOS / ArchINSTALLBUILDCHECKBUILD BIN
PAST 1.19.0  (landing page)
Thrash Adam
git_last_commit: 6792397
git_last_commit_date: 2023-10-24 11:14:13 -0500
nebbiolo1Linux (Ubuntu 22.04.3 LTS) / x86_64  OK    OK    WARNINGS  UNNEEDED, same version is already published
palomino3Windows Server 2022 Datacenter / x64  OK    OK    WARNINGS    OK  UNNEEDED, same version is already published
merida1macOS 12.7.1 Monterey / x86_64  OK    OK    WARNINGS    OK  UNNEEDED, same version is already published
kunpeng2Linux (openEuler 22.03 LTS-SP1) / aarch64  OK    OK    WARNINGS  
Package 120/181HostnameOS / ArchINSTALLBUILDCHECKBUILD BIN
periodicDNA 1.13.0  (landing page)
Jacques Serizay
git_last_commit: dccf2c4
git_last_commit_date: 2023-10-24 11:25:19 -0500
nebbiolo1Linux (Ubuntu 22.04.3 LTS) / x86_64  OK    OK    WARNINGS  UNNEEDED, same version is already published
palomino3Windows Server 2022 Datacenter / x64  OK    OK    WARNINGS    OK  UNNEEDED, same version is already published
merida1macOS 12.7.1 Monterey / x86_64  OK    OK    WARNINGS    OK  UNNEEDED, same version is already published
kunpeng2Linux (openEuler 22.03 LTS-SP1) / aarch64  OK    OK    WARNINGS  
Package 121/181HostnameOS / ArchINSTALLBUILDCHECKBUILD BIN
plyranges 1.23.0  (landing page)
Stuart Lee
git_last_commit: b5c1421
git_last_commit_date: 2023-10-24 11:04:07 -0500
nebbiolo1Linux (Ubuntu 22.04.3 LTS) / x86_64  OK    OK    WARNINGS  UNNEEDED, same version is already published
palomino3Windows Server 2022 Datacenter / x64  OK    OK    WARNINGS    OK  UNNEEDED, same version is already published
merida1macOS 12.7.1 Monterey / x86_64  OK    OK    WARNINGS    OK  UNNEEDED, same version is already published
kunpeng2Linux (openEuler 22.03 LTS-SP1) / aarch64  OK    OK    WARNINGS  
Package 122/181HostnameOS / ArchINSTALLBUILDCHECKBUILD BIN
pram 1.19.0  (landing page)
Peng Liu
git_last_commit: 6f9e686
git_last_commit_date: 2023-10-24 11:11:44 -0500
nebbiolo1Linux (Ubuntu 22.04.3 LTS) / x86_64  OK    OK    OK  UNNEEDED, same version is already published
palomino3Windows Server 2022 Datacenter / x64  OK    OK    OK    OK  UNNEEDED, same version is already published
merida1macOS 12.7.1 Monterey / x86_64  OK    OK    OK    OK  UNNEEDED, same version is already published
kunpeng2Linux (openEuler 22.03 LTS-SP1) / aarch64  OK    OK    OK  
Package 123/181HostnameOS / ArchINSTALLBUILDCHECKBUILD BIN
primirTSS 1.21.0  (landing page)
Pumin Li
git_last_commit: 6e0c645
git_last_commit_date: 2023-10-24 11:07:37 -0500
nebbiolo1Linux (Ubuntu 22.04.3 LTS) / x86_64  OK    OK    WARNINGS  UNNEEDED, same version is already published
palomino3Windows Server 2022 Datacenter / x64  OK    OK    WARNINGS    OK  UNNEEDED, same version is already published
merida1macOS 12.7.1 Monterey / x86_64  OK    OK    WARNINGS    OK  UNNEEDED, same version is already published
kunpeng2Linux (openEuler 22.03 LTS-SP1) / aarch64  OK    OK    WARNINGS  
Package 124/181HostnameOS / ArchINSTALLBUILDCHECKBUILD BIN
proBAMr 1.37.0  (landing page)
Xiaojing Wang
git_last_commit: c6c3dae
git_last_commit_date: 2023-10-24 10:39:10 -0500
nebbiolo1Linux (Ubuntu 22.04.3 LTS) / x86_64  OK    OK    OK  UNNEEDED, same version is already published
palomino3Windows Server 2022 Datacenter / x64  OK    OK    OK    OK  UNNEEDED, same version is already published
merida1macOS 12.7.1 Monterey / x86_64  OK    OK    OK    OK  UNNEEDED, same version is already published
kunpeng2Linux (openEuler 22.03 LTS-SP1) / aarch64  OK    OK    OK  
Package 125/181HostnameOS / ArchINSTALLBUILDCHECKBUILD BIN
profileplyr 1.19.0  (landing page)
Tom Carroll , Doug Barrows
git_last_commit: 785c629
git_last_commit_date: 2023-10-24 11:12:50 -0500
nebbiolo1Linux (Ubuntu 22.04.3 LTS) / x86_64  ERROR    ERROR  skipped
palomino3Windows Server 2022 Datacenter / x64  ERROR    ERROR  skippedskipped
merida1macOS 12.7.1 Monterey / x86_64  OK    OK    OK    OK  UNNEEDED, same version is already published
kunpeng2Linux (openEuler 22.03 LTS-SP1) / aarch64  OK    OK    OK  
Package 126/181HostnameOS / ArchINSTALLBUILDCHECKBUILD BIN
PureCN 2.9.4  (landing page)
Markus Riester
git_last_commit: c7fddf0
git_last_commit_date: 2024-01-12 13:11:24 -0500
nebbiolo1Linux (Ubuntu 22.04.3 LTS) / x86_64  OK    OK    OK  UNNEEDED, same version is already published
palomino3Windows Server 2022 Datacenter / x64  OK    ERROR  skippedskipped
merida1macOS 12.7.1 Monterey / x86_64  OK    OK    OK    OK  UNNEEDED, same version is already published
kunpeng2Linux (openEuler 22.03 LTS-SP1) / aarch64  OK    OK    OK  
Package 127/181HostnameOS / ArchINSTALLBUILDCHECKBUILD BIN
qsea 1.29.0  (landing page)
Matthias Lienhard
git_last_commit: c4fbc5c
git_last_commit_date: 2023-10-24 10:51:07 -0500
nebbiolo1Linux (Ubuntu 22.04.3 LTS) / x86_64  OK    OK    WARNINGS  UNNEEDED, same version is already published
palomino3Windows Server 2022 Datacenter / x64  OK    OK    WARNINGS    OK  UNNEEDED, same version is already published
merida1macOS 12.7.1 Monterey / x86_64  OK    OK    WARNINGS    OK  UNNEEDED, same version is already published
kunpeng2Linux (openEuler 22.03 LTS-SP1) / aarch64  OK    OK    WARNINGS  
Package 128/181HostnameOS / ArchINSTALLBUILDCHECKBUILD BIN
QuasR 1.43.3  (landing page)
Michael Stadler
git_last_commit: 3346611
git_last_commit_date: 2024-01-24 10:32:48 -0500
nebbiolo1Linux (Ubuntu 22.04.3 LTS) / x86_64  OK    OK    WARNINGS  UNNEEDED, same version is already published
palomino3Windows Server 2022 Datacenter / x64  OK    OK    WARNINGS    OK  UNNEEDED, same version is already published
merida1macOS 12.7.1 Monterey / x86_64  OK    OK    WARNINGS    OK  UNNEEDED, same version is already published
kunpeng2Linux (openEuler 22.03 LTS-SP1) / aarch64  OK    OK    WARNINGS  
Package 129/181HostnameOS / ArchINSTALLBUILDCHECKBUILD BIN
r3Cseq 1.49.0  (landing page)
Supat Thongjuea or
git_last_commit: d9b6929
git_last_commit_date: 2023-10-24 09:48:26 -0500
nebbiolo1Linux (Ubuntu 22.04.3 LTS) / x86_64  OK    OK    OK  UNNEEDED, same version is already published
palomino3Windows Server 2022 Datacenter / x64  OK    ERROR  skippedskipped
merida1macOS 12.7.1 Monterey / x86_64  OK    OK    OK    OK  UNNEEDED, same version is already published
kunpeng2Linux (openEuler 22.03 LTS-SP1) / aarch64  OK    OK    OK  
Package 130/181HostnameOS / ArchINSTALLBUILDCHECKBUILD BIN
raer 1.1.2  (landing page)
Kent Riemondy
git_last_commit: 0129a6c
git_last_commit_date: 2024-01-23 12:43:40 -0500
nebbiolo1Linux (Ubuntu 22.04.3 LTS) / x86_64  OK    OK    OK  UNNEEDED, same version is already published
palomino3Windows Server 2022 Datacenter / x64  OK    OK    OK    OK  UNNEEDED, same version is already published
merida1macOS 12.7.1 Monterey / x86_64  OK    OK    OK    OK  UNNEEDED, same version is already published
kunpeng2Linux (openEuler 22.03 LTS-SP1) / aarch64  OK    TIMEOUT  skipped
Package 131/181HostnameOS / ArchINSTALLBUILDCHECKBUILD BIN
RCAS 1.29.3  (landing page)
Bora Uyar
git_last_commit: 29afe07
git_last_commit_date: 2024-02-04 15:30:32 -0500
nebbiolo1Linux (Ubuntu 22.04.3 LTS) / x86_64  OK    OK    OK  UNNEEDED, same version is already published
palomino3Windows Server 2022 Datacenter / x64  OK    OK    OK    OK  UNNEEDED, same version is already published
merida1macOS 12.7.1 Monterey / x86_64  OK    OK    OK    OK  UNNEEDED, same version is already published
kunpeng2Linux (openEuler 22.03 LTS-SP1) / aarch64  OK    OK    OK  
Package 132/181HostnameOS / ArchINSTALLBUILDCHECKBUILD BIN
recount 1.29.0  (landing page)
Leonardo Collado-Torres
git_last_commit: 1ee7c2e
git_last_commit_date: 2023-10-24 10:51:54 -0500
nebbiolo1Linux (Ubuntu 22.04.3 LTS) / x86_64  OK    ERROR  skipped
palomino3Windows Server 2022 Datacenter / x64  OK    OK    OK    OK  UNNEEDED, same version is already published
merida1macOS 12.7.1 Monterey / x86_64  OK    ERROR  skippedskipped
kunpeng2Linux (openEuler 22.03 LTS-SP1) / aarch64  OK    ERROR  skipped
Package 133/181HostnameOS / ArchINSTALLBUILDCHECKBUILD BIN
recount3 1.13.0  (landing page)
Leonardo Collado-Torres
git_last_commit: fd3d39d
git_last_commit_date: 2023-10-24 11:26:40 -0500
nebbiolo1Linux (Ubuntu 22.04.3 LTS) / x86_64  OK    OK    OK  UNNEEDED, same version is already published
palomino3Windows Server 2022 Datacenter / x64  OK    OK    OK    OK  UNNEEDED, same version is already published
merida1macOS 12.7.1 Monterey / x86_64  OK    OK    OK    OK  UNNEEDED, same version is already published
kunpeng2Linux (openEuler 22.03 LTS-SP1) / aarch64  OK    OK    OK  
Package 134/181HostnameOS / ArchINSTALLBUILDCHECKBUILD BIN
recoup 1.31.0  (landing page)
Panagiotis Moulos
git_last_commit: 31525f0
git_last_commit_date: 2023-10-24 10:48:52 -0500
nebbiolo1Linux (Ubuntu 22.04.3 LTS) / x86_64  OK    OK    OK  UNNEEDED, same version is already published
palomino3Windows Server 2022 Datacenter / x64  OK    OK    OK    OK  UNNEEDED, same version is already published
merida1macOS 12.7.1 Monterey / x86_64  OK    OK    OK    OK  UNNEEDED, same version is already published
kunpeng2Linux (openEuler 22.03 LTS-SP1) / aarch64  OK    OK    OK  
Package 135/181HostnameOS / ArchINSTALLBUILDCHECKBUILD BIN
regioneR 1.35.0  (landing page)
Bernat Gel
git_last_commit: c7e5d3f
git_last_commit_date: 2023-10-24 10:42:41 -0500
nebbiolo1Linux (Ubuntu 22.04.3 LTS) / x86_64  OK    OK    OK  UNNEEDED, same version is already published
palomino3Windows Server 2022 Datacenter / x64  OK    OK    OK    OK  UNNEEDED, same version is already published
merida1macOS 12.7.1 Monterey / x86_64  OK    OK    OK    OK  UNNEEDED, same version is already published
kunpeng2Linux (openEuler 22.03 LTS-SP1) / aarch64  OK    OK    OK  
Package 136/181HostnameOS / ArchINSTALLBUILDCHECKBUILD BIN
REMP 1.27.0  (landing page)
Yinan Zheng
git_last_commit: 7da07ab
git_last_commit_date: 2023-10-24 10:55:28 -0500
nebbiolo1Linux (Ubuntu 22.04.3 LTS) / x86_64  OK    OK    OK  UNNEEDED, same version is already published
palomino3Windows Server 2022 Datacenter / x64  OK    ERROR  skippedskipped
merida1macOS 12.7.1 Monterey / x86_64  OK    OK    OK    OK  UNNEEDED, same version is already published
kunpeng2Linux (openEuler 22.03 LTS-SP1) / aarch64  OK    ERROR  skipped
Package 137/181HostnameOS / ArchINSTALLBUILDCHECKBUILD BIN
Repitools 1.49.0  (landing page)
Mark Robinson
git_last_commit: fc197a9
git_last_commit_date: 2023-10-24 09:47:10 -0500
nebbiolo1Linux (Ubuntu 22.04.3 LTS) / x86_64  ERROR    ERROR  skipped
palomino3Windows Server 2022 Datacenter / x64  ERROR    ERROR  skippedskipped
merida1macOS 12.7.1 Monterey / x86_64  ERROR    ERROR  skippedskipped
kunpeng2Linux (openEuler 22.03 LTS-SP1) / aarch64  OK    OK    WARNINGS  
Package 138/181HostnameOS / ArchINSTALLBUILDCHECKBUILD BIN
RGMQL 1.23.1  (landing page)
Simone Pallotta
git_last_commit: 19b296d
git_last_commit_date: 2024-02-13 14:57:26 -0500
nebbiolo1Linux (Ubuntu 22.04.3 LTS) / x86_64  OK    OK    WARNINGS  UNNEEDED, same version is already published
palomino3Windows Server 2022 Datacenter / x64  OK    OK    ERROR    OK  
merida1macOS 12.7.1 Monterey / x86_64... NOT SUPPORTED ...
kunpeng2Linux (openEuler 22.03 LTS-SP1) / aarch64  OK    ERROR  skipped
Package 139/181HostnameOS / ArchINSTALLBUILDCHECKBUILD BIN
RiboProfiling 1.33.0  (landing page)
A. Popa
git_last_commit: 6466c71
git_last_commit_date: 2023-10-24 10:45:56 -0500
nebbiolo1Linux (Ubuntu 22.04.3 LTS) / x86_64  OK    OK    WARNINGS  UNNEEDED, same version is already published
palomino3Windows Server 2022 Datacenter / x64  OK    ERROR  skippedskipped
merida1macOS 12.7.1 Monterey / x86_64  OK    OK    WARNINGS    OK  UNNEEDED, same version is already published
kunpeng2Linux (openEuler 22.03 LTS-SP1) / aarch64  OK    OK    WARNINGS  
Package 140/181HostnameOS / ArchINSTALLBUILDCHECKBUILD BIN
ribosomeProfilingQC 1.15.0  (landing page)
Jianhong Ou
git_last_commit: 4ee8832
git_last_commit_date: 2023-10-24 11:19:41 -0500
nebbiolo1Linux (Ubuntu 22.04.3 LTS) / x86_64  OK    OK    OK  UNNEEDED, same version is already published
palomino3Windows Server 2022 Datacenter / x64  OK    OK    OK    OK  UNNEEDED, same version is already published
merida1macOS 12.7.1 Monterey / x86_64  OK    OK    OK    OK  UNNEEDED, same version is already published
kunpeng2Linux (openEuler 22.03 LTS-SP1) / aarch64  OK    OK    OK  
Package 141/181HostnameOS / ArchINSTALLBUILDCHECKBUILD BIN
rifi 1.7.0  (landing page)
Jens Georg
git_last_commit: 80ec06d
git_last_commit_date: 2023-10-24 11:42:06 -0500
nebbiolo1Linux (Ubuntu 22.04.3 LTS) / x86_64  OK    OK    WARNINGS  UNNEEDED, same version is already published
palomino3Windows Server 2022 Datacenter / x64... NOT SUPPORTED ...
merida1macOS 12.7.1 Monterey / x86_64  OK    OK    WARNINGS    OK  UNNEEDED, same version is already published
kunpeng2Linux (openEuler 22.03 LTS-SP1) / aarch64  OK    OK    WARNINGS  
Package 142/181HostnameOS / ArchINSTALLBUILDCHECKBUILD BIN
rifiComparative 1.3.0  (landing page)
Loubna Youssar
git_last_commit: 309ad2b
git_last_commit_date: 2023-10-24 11:46:24 -0500
nebbiolo1Linux (Ubuntu 22.04.3 LTS) / x86_64  OK    OK    OK  UNNEEDED, same version is already published
palomino3Windows Server 2022 Datacenter / x64... NOT SUPPORTED ...
merida1macOS 12.7.1 Monterey / x86_64  OK    OK    OK    OK  UNNEEDED, same version is already published
kunpeng2Linux (openEuler 22.03 LTS-SP1) / aarch64  OK    OK    OK  
Package 143/181HostnameOS / ArchINSTALLBUILDCHECKBUILD BIN
RIPAT 1.13.1  (landing page)
Min-Jeong Baek
git_last_commit: 4672dad
git_last_commit_date: 2024-01-12 08:40:26 -0500
nebbiolo1Linux (Ubuntu 22.04.3 LTS) / x86_64  OK    OK    ERROR  
palomino3Windows Server 2022 Datacenter / x64  OK    OK    WARNINGS    OK  UNNEEDED, same version is already published
merida1macOS 12.7.1 Monterey / x86_64  OK    OK    WARNINGS    OK  UNNEEDED, same version is already published
kunpeng2Linux (openEuler 22.03 LTS-SP1) / aarch64  OK    OK    WARNINGS  
Package 144/181HostnameOS / ArchINSTALLBUILDCHECKBUILD BIN
RLSeq 1.9.0  (landing page)
Henry Miller
git_last_commit: d66b911
git_last_commit_date: 2023-10-24 11:38:24 -0500
nebbiolo1Linux (Ubuntu 22.04.3 LTS) / x86_64  OK    ERROR  skipped
palomino3Windows Server 2022 Datacenter / x64  OK    ERROR  skippedskipped
merida1macOS 12.7.1 Monterey / x86_64  OK    ERROR  skippedskipped
kunpeng2Linux (openEuler 22.03 LTS-SP1) / aarch64  OK    ERROR  skipped
Package 145/181HostnameOS / ArchINSTALLBUILDCHECKBUILD BIN
rmspc 1.9.0  (landing page)
Meriem Bahda
git_last_commit: 75871f6
git_last_commit_date: 2023-10-24 11:35:47 -0500
nebbiolo1Linux (Ubuntu 22.04.3 LTS) / x86_64  OK    OK    OK  UNNEEDED, same version is already published
palomino3Windows Server 2022 Datacenter / x64  OK    OK    OK    OK  UNNEEDED, same version is already published
merida1macOS 12.7.1 Monterey / x86_64  OK    OK    OK    OK  UNNEEDED, same version is already published
kunpeng2Linux (openEuler 22.03 LTS-SP1) / aarch64  OK    OK    OK  
Package 146/181HostnameOS / ArchINSTALLBUILDCHECKBUILD BIN
RNAmodR 1.17.0  (landing page)
Felix G.M. Ernst
git_last_commit: bb76e5a
git_last_commit_date: 2023-10-24 11:14:34 -0500
nebbiolo1Linux (Ubuntu 22.04.3 LTS) / x86_64  OK    OK    OK  UNNEEDED, same version is already published
palomino3Windows Server 2022 Datacenter / x64  OK    ERROR  skippedskipped
merida1macOS 12.7.1 Monterey / x86_64  OK    OK    OK    OK  UNNEEDED, same version is already published
kunpeng2Linux (openEuler 22.03 LTS-SP1) / aarch64  OK    ERROR  skipped
Package 147/181HostnameOS / ArchINSTALLBUILDCHECKBUILD BIN
roar 1.39.0  (landing page)
Elena Grassi
git_last_commit: 0901b38
git_last_commit_date: 2023-10-24 09:57:01 -0500
nebbiolo1Linux (Ubuntu 22.04.3 LTS) / x86_64  OK    OK    OK  UNNEEDED, same version is already published
palomino3Windows Server 2022 Datacenter / x64  OK    ERROR  skippedskipped
merida1macOS 12.7.1 Monterey / x86_64  OK    OK    OK    OK  UNNEEDED, same version is already published
kunpeng2Linux (openEuler 22.03 LTS-SP1) / aarch64  OK    OK    OK  
Package 148/181HostnameOS / ArchINSTALLBUILDCHECKBUILD BIN
scanMiRApp 1.9.0  (landing page)
Pierre-Luc Germain
git_last_commit: cdf7e7a
git_last_commit_date: 2023-10-24 11:35:21 -0500
nebbiolo1Linux (Ubuntu 22.04.3 LTS) / x86_64  OK    OK    WARNINGS  UNNEEDED, same version is already published
palomino3Windows Server 2022 Datacenter / x64  OK    OK    WARNINGS    OK  UNNEEDED, same version is already published
merida1macOS 12.7.1 Monterey / x86_64  OK    OK    WARNINGS    OK  UNNEEDED, same version is already published
kunpeng2Linux (openEuler 22.03 LTS-SP1) / aarch64  OK    OK    WARNINGS  
Package 149/181HostnameOS / ArchINSTALLBUILDCHECKBUILD BIN
SCANVIS 1.17.0  (landing page)
Phaedra Agius
git_last_commit: 8541bed
git_last_commit_date: 2023-10-24 11:15:14 -0500
nebbiolo1Linux (Ubuntu 22.04.3 LTS) / x86_64  OK    OK    OK  UNNEEDED, same version is already published
palomino3Windows Server 2022 Datacenter / x64  OK    ERROR  skippedskipped
merida1macOS 12.7.1 Monterey / x86_64  OK    OK    OK    OK  UNNEEDED, same version is already published
kunpeng2Linux (openEuler 22.03 LTS-SP1) / aarch64  OK    OK    OK  
Package 150/181HostnameOS / ArchINSTALLBUILDCHECKBUILD BIN
scDblFinder 1.17.0  (landing page)
Pierre-Luc Germain
git_last_commit: 32eae85
git_last_commit_date: 2024-01-14 05:35:33 -0500
nebbiolo1Linux (Ubuntu 22.04.3 LTS) / x86_64  OK    OK    OK  UNNEEDED, same version is already published
palomino3Windows Server 2022 Datacenter / x64  OK    OK    OK    OK  UNNEEDED, same version is already published
merida1macOS 12.7.1 Monterey / x86_64  OK    OK    OK    OK  UNNEEDED, same version is already published
kunpeng2Linux (openEuler 22.03 LTS-SP1) / aarch64  OK    TIMEOUT  skipped
Package 151/181HostnameOS / ArchINSTALLBUILDCHECKBUILD BIN
scPipe 2.3.1  (landing page)
Shian Su
git_last_commit: 225347e
git_last_commit_date: 2023-10-24 22:41:56 -0500
nebbiolo1Linux (Ubuntu 22.04.3 LTS) / x86_64  OK    OK    OK  UNNEEDED, same version is already published
palomino3Windows Server 2022 Datacenter / x64  OK    OK    OK    OK  UNNEEDED, same version is already published
merida1macOS 12.7.1 Monterey / x86_64  OK    OK    OK    OK  UNNEEDED, same version is already published
kunpeng2Linux (openEuler 22.03 LTS-SP1) / aarch64  OK    OK    OK  
Package 152/181HostnameOS / ArchINSTALLBUILDCHECKBUILD BIN
scRNAseqApp 1.3.11  (landing page)
Jianhong Ou
git_last_commit: a117853
git_last_commit_date: 2024-02-21 10:55:42 -0500
nebbiolo1Linux (Ubuntu 22.04.3 LTS) / x86_64  OK    OK    OK  UNNEEDED, same version is already published
palomino3Windows Server 2022 Datacenter / x64  OK    OK    OK    OK  UNNEEDED, same version is already published
merida1macOS 12.7.1 Monterey / x86_64  OK    OK    OK    OK  UNNEEDED, same version is already published
kunpeng2Linux (openEuler 22.03 LTS-SP1) / aarch64  OK    ERROR  skipped
Package 153/181HostnameOS / ArchINSTALLBUILDCHECKBUILD BIN
scruff 1.21.0  (landing page)
Zhe Wang
git_last_commit: b3153a5
git_last_commit_date: 2023-10-24 11:06:39 -0500
nebbiolo1Linux (Ubuntu 22.04.3 LTS) / x86_64  OK    OK    OK  UNNEEDED, same version is already published
palomino3Windows Server 2022 Datacenter / x64  OK    OK    OK    OK  UNNEEDED, same version is already published
merida1macOS 12.7.1 Monterey / x86_64  OK    OK    OK    OK  UNNEEDED, same version is already published
kunpeng2Linux (openEuler 22.03 LTS-SP1) / aarch64  OK    OK    OK  
Package 154/181HostnameOS / ArchINSTALLBUILDCHECKBUILD BIN
seqCAT 1.25.0  (landing page)
Erik Fasterius
git_last_commit: 9cc4004
git_last_commit_date: 2023-10-24 10:59:50 -0500
nebbiolo1Linux (Ubuntu 22.04.3 LTS) / x86_64  OK    OK    OK  UNNEEDED, same version is already published
palomino3Windows Server 2022 Datacenter / x64  OK    OK    OK    OK  UNNEEDED, same version is already published
merida1macOS 12.7.1 Monterey / x86_64  OK    OK    OK    OK  UNNEEDED, same version is already published
kunpeng2Linux (openEuler 22.03 LTS-SP1) / aarch64  OK    OK    OK  
Package 155/181HostnameOS / ArchINSTALLBUILDCHECKBUILD BIN
seqsetvis 1.23.5  (landing page)
Joseph R Boyd
git_last_commit: a6cdf0c
git_last_commit_date: 2024-02-02 14:43:55 -0500
nebbiolo1Linux (Ubuntu 22.04.3 LTS) / x86_64  OK    ERROR  skipped
palomino3Windows Server 2022 Datacenter / x64  OK    ERROR  skippedskipped
merida1macOS 12.7.1 Monterey / x86_64  OK    ERROR  skippedskipped
kunpeng2Linux (openEuler 22.03 LTS-SP1) / aarch64  OK    ERROR  skipped
Package 156/181HostnameOS / ArchINSTALLBUILDCHECKBUILD BIN
sevenC 1.23.0  (landing page)
Jonas Ibn-Salem
git_last_commit: 737fe7b
git_last_commit_date: 2023-10-24 11:05:00 -0500
nebbiolo1Linux (Ubuntu 22.04.3 LTS) / x86_64  OK    OK    OK  UNNEEDED, same version is already published
palomino3Windows Server 2022 Datacenter / x64  OK    OK    OK    OK  UNNEEDED, same version is already published
merida1macOS 12.7.1 Monterey / x86_64  OK    OK    OK    OK  UNNEEDED, same version is already published
kunpeng2Linux (openEuler 22.03 LTS-SP1) / aarch64  OK    OK    OK  
Package 157/181HostnameOS / ArchINSTALLBUILDCHECKBUILD BIN
SGSeq 1.37.0  (landing page)
Leonard Goldstein
git_last_commit: 756479a
git_last_commit_date: 2023-10-24 10:39:42 -0500
nebbiolo1Linux (Ubuntu 22.04.3 LTS) / x86_64  OK    OK    OK  UNNEEDED, same version is already published
palomino3Windows Server 2022 Datacenter / x64  OK    OK    OK    OK  UNNEEDED, same version is already published
merida1macOS 12.7.1 Monterey / x86_64  OK    OK    OK    OK  UNNEEDED, same version is already published
kunpeng2Linux (openEuler 22.03 LTS-SP1) / aarch64  OK    OK    OK  
Package 158/181HostnameOS / ArchINSTALLBUILDCHECKBUILD BIN
shinyepico 1.11.0  (landing page)
Octavio Morante-Palacios
git_last_commit: e11b8e3
git_last_commit_date: 2023-10-24 11:28:08 -0500
nebbiolo1Linux (Ubuntu 22.04.3 LTS) / x86_64  OK    OK    OK  UNNEEDED, same version is already published
palomino3Windows Server 2022 Datacenter / x64  OK    OK    OK    OK  UNNEEDED, same version is already published
merida1macOS 12.7.1 Monterey / x86_64  OK    OK    OK    OK  UNNEEDED, same version is already published
kunpeng2Linux (openEuler 22.03 LTS-SP1) / aarch64  OK    OK    OK  
Package 159/181HostnameOS / ArchINSTALLBUILDCHECKBUILD BIN
signeR 2.5.0  (landing page)
Renan Valieris
git_last_commit: 40d75ce
git_last_commit_date: 2023-10-24 10:52:34 -0500
nebbiolo1Linux (Ubuntu 22.04.3 LTS) / x86_64  OK    OK    OK  UNNEEDED, same version is already published
palomino3Windows Server 2022 Datacenter / x64  OK    OK    OK    OK  UNNEEDED, same version is already published
merida1macOS 12.7.1 Monterey / x86_64  OK    OK    OK    OK  UNNEEDED, same version is already published
kunpeng2Linux (openEuler 22.03 LTS-SP1) / aarch64  OK    OK    OK  
Package 160/181HostnameOS / ArchINSTALLBUILDCHECKBUILD BIN
SigsPack 1.17.0  (landing page)
Franziska Schumann
git_last_commit: b74ed31
git_last_commit_date: 2023-10-24 11:15:49 -0500
nebbiolo1Linux (Ubuntu 22.04.3 LTS) / x86_64  OK    OK    OK  UNNEEDED, same version is already published
palomino3Windows Server 2022 Datacenter / x64  OK    OK    OK    OK  UNNEEDED, same version is already published
merida1macOS 12.7.1 Monterey / x86_64  OK    OK    OK    OK  UNNEEDED, same version is already published
kunpeng2Linux (openEuler 22.03 LTS-SP1) / aarch64  OK    OK    OK  
Package 161/181HostnameOS / ArchINSTALLBUILDCHECKBUILD BIN
sitadela 1.11.0  (landing page)
Panagiotis Moulos
git_last_commit: 82b1d54
git_last_commit_date: 2023-10-24 11:30:53 -0500
nebbiolo1Linux (Ubuntu 22.04.3 LTS) / x86_64  OK    OK    OK  UNNEEDED, same version is already published
palomino3Windows Server 2022 Datacenter / x64  OK    OK    OK    OK  UNNEEDED, same version is already published
merida1macOS 12.7.1 Monterey / x86_64  OK    OK    OK    OK  UNNEEDED, same version is already published
kunpeng2Linux (openEuler 22.03 LTS-SP1) / aarch64  OK    OK    OK  
Package 162/181HostnameOS / ArchINSTALLBUILDCHECKBUILD BIN
soGGi 1.35.0  (landing page)
Tom Carroll
git_last_commit: 80ed9e5
git_last_commit_date: 2023-10-24 10:43:06 -0500
nebbiolo1Linux (Ubuntu 22.04.3 LTS) / x86_64  OK    OK    OK  UNNEEDED, same version is already published
palomino3Windows Server 2022 Datacenter / x64  OK    OK    OK    OK  UNNEEDED, same version is already published
merida1macOS 12.7.1 Monterey / x86_64  OK    OK    OK    OK  UNNEEDED, same version is already published
kunpeng2Linux (openEuler 22.03 LTS-SP1) / aarch64  OK    OK    OK  
Package 163/181HostnameOS / ArchINSTALLBUILDCHECKBUILD BIN
SOMNiBUS 1.11.0  (landing page)
Kathleen Klein
git_last_commit: 96c6ca1
git_last_commit_date: 2023-10-24 11:29:28 -0500
nebbiolo1Linux (Ubuntu 22.04.3 LTS) / x86_64  OK    OK    OK  UNNEEDED, same version is already published
palomino3Windows Server 2022 Datacenter / x64  OK    OK    OK    OK  UNNEEDED, same version is already published
merida1macOS 12.7.1 Monterey / x86_64  OK    OK    OK    OK  UNNEEDED, same version is already published
kunpeng2Linux (openEuler 22.03 LTS-SP1) / aarch64  OK    OK    OK  
Package 164/181HostnameOS / ArchINSTALLBUILDCHECKBUILD BIN
SpliceWiz 1.5.2  (landing page)
Alex Chit Hei Wong
git_last_commit: bb75f54
git_last_commit_date: 2024-01-04 21:54:55 -0500
nebbiolo1Linux (Ubuntu 22.04.3 LTS) / x86_64  OK    OK    OK  UNNEEDED, same version is already published
palomino3Windows Server 2022 Datacenter / x64  OK    OK    OK    OK  UNNEEDED, same version is already published
merida1macOS 12.7.1 Monterey / x86_64  OK    OK    OK    OK  UNNEEDED, same version is already published
kunpeng2Linux (openEuler 22.03 LTS-SP1) / aarch64  OK    OK    ERROR  
Package 165/181HostnameOS / ArchINSTALLBUILDCHECKBUILD BIN
srnadiff 1.23.2  (landing page)
Zytnicki Matthias
git_last_commit: d681bb3
git_last_commit_date: 2024-01-24 02:47:51 -0500
nebbiolo1Linux (Ubuntu 22.04.3 LTS) / x86_64  OK    ERROR  skipped
palomino3Windows Server 2022 Datacenter / x64  OK    ERROR  skippedskipped
merida1macOS 12.7.1 Monterey / x86_64  OK    ERROR  skippedskipped
kunpeng2Linux (openEuler 22.03 LTS-SP1) / aarch64  OK    ERROR  skipped
Package 166/181HostnameOS / ArchINSTALLBUILDCHECKBUILD BIN
StructuralVariantAnnotation 1.19.0  (landing page)
Daniel Cameron
git_last_commit: 69c97e4
git_last_commit_date: 2023-10-24 11:14:16 -0500
nebbiolo1Linux (Ubuntu 22.04.3 LTS) / x86_64  OK    OK    OK  UNNEEDED, same version is already published
palomino3Windows Server 2022 Datacenter / x64  OK    OK    OK    OK  UNNEEDED, same version is already published
merida1macOS 12.7.1 Monterey / x86_64  OK    OK    OK    OK  UNNEEDED, same version is already published
kunpeng2Linux (openEuler 22.03 LTS-SP1) / aarch64  OK    OK    OK  
Package 167/181HostnameOS / ArchINSTALLBUILDCHECKBUILD BIN
svaNUMT 1.9.0  (landing page)
Ruining Dong
git_last_commit: fd3b753
git_last_commit_date: 2023-10-24 11:34:45 -0500
nebbiolo1Linux (Ubuntu 22.04.3 LTS) / x86_64  OK    OK    OK  UNNEEDED, same version is already published
palomino3Windows Server 2022 Datacenter / x64  OK    OK    OK    OK  UNNEEDED, same version is already published
merida1macOS 12.7.1 Monterey / x86_64  OK    OK    OK    OK  UNNEEDED, same version is already published
kunpeng2Linux (openEuler 22.03 LTS-SP1) / aarch64  OK    OK    OK  
Package 168/181HostnameOS / ArchINSTALLBUILDCHECKBUILD BIN
svaRetro 1.9.0  (landing page)
Ruining Dong
git_last_commit: ad2a1b1
git_last_commit_date: 2023-10-24 11:35:56 -0500
nebbiolo1Linux (Ubuntu 22.04.3 LTS) / x86_64  OK    OK    OK  UNNEEDED, same version is already published
palomino3Windows Server 2022 Datacenter / x64  OK    OK    OK    OK  UNNEEDED, same version is already published
merida1macOS 12.7.1 Monterey / x86_64  OK    OK    OK    OK  UNNEEDED, same version is already published
kunpeng2Linux (openEuler 22.03 LTS-SP1) / aarch64  OK    OK    OK  
Package 169/181HostnameOS / ArchINSTALLBUILDCHECKBUILD BIN
syntenet 1.5.0  (landing page)
Fabrício Almeida-Silva
git_last_commit: 844005b
git_last_commit_date: 2023-10-24 11:42:34 -0500
nebbiolo1Linux (Ubuntu 22.04.3 LTS) / x86_64  OK    OK    OK  UNNEEDED, same version is already published
palomino3Windows Server 2022 Datacenter / x64  OK    OK    OK    OK  UNNEEDED, same version is already published
merida1macOS 12.7.1 Monterey / x86_64  OK    OK    OK    OK  UNNEEDED, same version is already published
kunpeng2Linux (openEuler 22.03 LTS-SP1) / aarch64  OK    OK    OK  
Package 170/181HostnameOS / ArchINSTALLBUILDCHECKBUILD BIN
TEKRABber 1.7.2  (landing page)
Yao-Chung Chen
git_last_commit: 34d358f
git_last_commit_date: 2024-02-23 12:02:30 -0500
nebbiolo1Linux (Ubuntu 22.04.3 LTS) / x86_64  OK    OK    ERROR  
palomino3Windows Server 2022 Datacenter / x64  OK    OK    ERROR    OK  
merida1macOS 12.7.1 Monterey / x86_64  OK    OK    ERROR    OK  
kunpeng2Linux (openEuler 22.03 LTS-SP1) / aarch64  OK    OK    ERROR  
Package 171/181HostnameOS / ArchINSTALLBUILDCHECKBUILD BIN
TFBSTools 1.41.0  (landing page)
Ge Tan
git_last_commit: 0bc27e4
git_last_commit_date: 2023-10-24 09:56:29 -0500
nebbiolo1Linux (Ubuntu 22.04.3 LTS) / x86_64  OK    OK    OK  UNNEEDED, same version is already published
palomino3Windows Server 2022 Datacenter / x64  OK    OK    OK    OK  UNNEEDED, same version is already published
merida1macOS 12.7.1 Monterey / x86_64  OK    OK    OK    OK  UNNEEDED, same version is already published
kunpeng2Linux (openEuler 22.03 LTS-SP1) / aarch64  OK    OK    OK  
Package 172/181HostnameOS / ArchINSTALLBUILDCHECKBUILD BIN
tidyCoverage 0.99.4  (landing page)
Jacques Serizay
git_last_commit: 17d83fc
git_last_commit_date: 2024-01-09 07:06:54 -0500
nebbiolo1Linux (Ubuntu 22.04.3 LTS) / x86_64  OK    OK    OK  UNNEEDED, same version is already published
palomino3Windows Server 2022 Datacenter / x64  OK    OK    OK    OK  UNNEEDED, same version is already published
merida1macOS 12.7.1 Monterey / x86_64  OK    OK    OK    OK  UNNEEDED, same version is already published
kunpeng2Linux (openEuler 22.03 LTS-SP1) / aarch64  OK    ERROR  skipped
Package 173/181HostnameOS / ArchINSTALLBUILDCHECKBUILD BIN
trackViewer 1.39.12  (landing page)
Jianhong Ou
git_last_commit: a340db6
git_last_commit_date: 2024-02-16 19:36:57 -0500
nebbiolo1Linux (Ubuntu 22.04.3 LTS) / x86_64  OK    OK    OK  UNNEEDED, same version is already published
palomino3Windows Server 2022 Datacenter / x64  OK    OK    OK    OK  UNNEEDED, same version is already published
merida1macOS 12.7.1 Monterey / x86_64  OK    OK    OK    OK  UNNEEDED, same version is already published
kunpeng2Linux (openEuler 22.03 LTS-SP1) / aarch64  OK    ERROR  skipped
Package 174/181HostnameOS / ArchINSTALLBUILDCHECKBUILD BIN
transcriptR 1.31.0  (landing page)
Armen R. Karapetyan
git_last_commit: 021f50c
git_last_commit_date: 2023-10-24 10:46:44 -0500
nebbiolo1Linux (Ubuntu 22.04.3 LTS) / x86_64  OK    OK    OK  UNNEEDED, same version is already published
palomino3Windows Server 2022 Datacenter / x64  OK    OK    OK    OK  UNNEEDED, same version is already published
merida1macOS 12.7.1 Monterey / x86_64  OK    OK    OK    OK  UNNEEDED, same version is already published
kunpeng2Linux (openEuler 22.03 LTS-SP1) / aarch64  OK    OK    OK  
Package 175/181HostnameOS / ArchINSTALLBUILDCHECKBUILD BIN
TRESS 1.9.0  (landing page)
Zhenxing Guo
git_last_commit: 31094a4
git_last_commit_date: 2023-10-24 11:37:07 -0500
nebbiolo1Linux (Ubuntu 22.04.3 LTS) / x86_64  OK    OK    OK  UNNEEDED, same version is already published
palomino3Windows Server 2022 Datacenter / x64  OK    OK    OK    OK  UNNEEDED, same version is already published
merida1macOS 12.7.1 Monterey / x86_64  OK    OK    OK    OK  UNNEEDED, same version is already published
kunpeng2Linux (openEuler 22.03 LTS-SP1) / aarch64  OK    OK    OK  
Package 176/181HostnameOS / ArchINSTALLBUILDCHECKBUILD BIN
tRNAscanImport 1.23.0  (landing page)
Felix G.M. Ernst
git_last_commit: 7d2fc57
git_last_commit_date: 2023-10-24 11:03:16 -0500
nebbiolo1Linux (Ubuntu 22.04.3 LTS) / x86_64  OK    OK    OK  UNNEEDED, same version is already published
palomino3Windows Server 2022 Datacenter / x64  OK    OK    OK    OK  UNNEEDED, same version is already published
merida1macOS 12.7.1 Monterey / x86_64  OK    OK    OK    OK  UNNEEDED, same version is already published
kunpeng2Linux (openEuler 22.03 LTS-SP1) / aarch64  OK    OK    OK  
Package 177/181HostnameOS / ArchINSTALLBUILDCHECKBUILD BIN