Back to Multiple platform build/check report for BioC 3.14
A[B]CDEFGHIJKLMNOPQRSTUVWXYZ

This page was generated on 2021-10-19 12:03:56 -0400 (Tue, 19 Oct 2021).

All results for package BiocSet

To the developers/maintainers of the BiocSet package:
- Please allow up to 24 hours (and sometimes 48 hours) for your latest push to git@git.bioconductor.org:packages/BiocSet.git to
reflect on this report. See How and When does the builder pull? When will my changes propagate? here for more information.
- Make sure to use the following settings in order to reproduce any error or warning you see on this page.

raw results

Package 166/2060HostnameOS / ArchINSTALLBUILDCHECKBUILD BIN
BiocSet 1.7.1  (landing page)
Kayla Morrell
Snapshot Date: 2021-10-18 14:50:10 -0400 (Mon, 18 Oct 2021)
git_url: https://git.bioconductor.org/packages/BiocSet
git_branch: master
git_last_commit: 01a4533
git_last_commit_date: 2021-08-05 16:15:06 -0400 (Thu, 05 Aug 2021)
nebbiolo2Linux (Ubuntu 20.04.2 LTS) / x86_64  OK    OK    ERROR  
riesling1Windows Server 2019 Standard / x64  OK    OK    ERROR    OK  
merida1macOS 10.14.6 Mojave / x86_64  OK    OK    ERROR    OK  

Results for Bioconductor software packages that depend directly on package BiocSet

QUICK STATSOS / ArchINSTALLBUILDCHECKBUILD BIN
nebbiolo2Linux (Ubuntu 20.04.2 LTS) / x86_64
002
002
0002
riesling1Windows Server 2019 Standard / x64
002
011
0001
001
merida1macOS 10.14.6 Mojave / x86_64
002
002
0002
000
Package 1/2HostnameOS / ArchINSTALLBUILDCHECKBUILD BIN
RegEnrich 1.3.1  (landing page)
Weiyang Tao
git_last_commit: 2e41cd7
git_last_commit_date: 2021-07-31 02:42:10 -0400
nebbiolo2Linux (Ubuntu 20.04.2 LTS) / x86_64  OK    OK    OK  UNNEEDED, same version is already published
riesling1Windows Server 2019 Standard / x64  OK    ERROR  skippedskipped
merida1macOS 10.14.6 Mojave / x86_64  OK    OK    OK    NA  
Package 2/2HostnameOS / ArchINSTALLBUILDCHECKBUILD BIN
sparrow 0.99.6  (landing page)
Steve Lianoglou
git_last_commit: b3bf9f5
git_last_commit_date: 2021-10-18 14:19:09 -0400
nebbiolo2Linux (Ubuntu 20.04.2 LTS) / x86_64  OK    OK    OK  YES
riesling1Windows Server 2019 Standard / x64  OK    OK    OK    OK  YES
merida1macOS 10.14.6 Mojave / x86_64  OK    OK    OK    NA