Back to Build/check report for BioC 3.15
ABCDEFGHIJKLMNOPQRS[T]UVWXYZ

This page was generated on 2021-12-06 12:31:53 -0500 (Mon, 06 Dec 2021).

All results for package twilight

To the developers/maintainers of the twilight package:
- Please allow up to 24 hours (and sometimes 48 hours) for your latest push to git@git.bioconductor.org:packages/twilight.git to
reflect on this report. See How and When does the builder pull? When will my changes propagate? here for more information.
- Make sure to use the following settings in order to reproduce any error or warning you see on this page.

raw results

Package 2004/2068HostnameOS / ArchINSTALLBUILDCHECKBUILD BIN
twilight 1.71.0  (landing page)
Stefanie Scheid
Snapshot Date: 2021-12-05 13:55:08 -0500 (Sun, 05 Dec 2021)
git_url: https://git.bioconductor.org/packages/twilight
git_branch: master
git_last_commit: 6640c18
git_last_commit_date: 2021-10-26 11:47:20 -0500 (Tue, 26 Oct 2021)
nebbiolo1Linux (Ubuntu 20.04.3 LTS) / x86_64  OK    OK    OK  UNNEEDED, same version is already published

Results for Bioconductor software packages that depend directly on package twilight

QUICK STATSOS / ArchINSTALLBUILDCHECKBUILD BIN
nebbiolo1Linux (Ubuntu 20.04.3 LTS) / x86_64
001
001
0001
Package 1/1HostnameOS / ArchINSTALLBUILDCHECKBUILD BIN
OrderedList 1.67.0  (landing page)
Claudio Lottaz
git_last_commit: c28359f
git_last_commit_date: 2021-10-26 11:49:41 -0500
nebbiolo1Linux (Ubuntu 20.04.3 LTS) / x86_64  OK    OK    OK  UNNEEDED, same version is already published