Back to Multiple platform build/check report for BioC 3.16
ABCDEFGHIJKLMNOPQRSTU[V]WXYZ

This page was generated on 2022-06-24 11:08:48 -0400 (Fri, 24 Jun 2022).

HostnameOSArch (*)R versionInstalled pkgs
nebbiolo2Linux (Ubuntu 20.04.4 LTS)x86_644.2.0 Patched (2022-06-02 r82447) -- "Vigorous Calisthenics" 4331
palomino4Windows Server 2022 Datacenterx644.2.0 Patched (2022-06-02 r82447 ucrt) -- "Vigorous Calisthenics" 4136
lconwaymacOS 12.2.1 Montereyx86_644.2.0 Patched (2022-05-29 r82424) -- "Vigorous Calisthenics" 4147
Click on any hostname to see more info about the system (e.g. compilers)      (*) as reported by 'uname -p', except on Windows and Mac OS X

BUILD BIN results for VariantFiltering on lconway


To the developers/maintainers of the VariantFiltering package:
- Please allow up to 24 hours (and sometimes 48 hours) for your latest push to git@git.bioconductor.org:packages/VariantFiltering.git to
reflect on this report. See How and When does the builder pull? When will my changes propagate? for more information.
- Make sure to use the following settings in order to reproduce any error or warning you see on this page.

raw results

Package 2074/2118HostnameOS / ArchINSTALLBUILDCHECKBUILD BIN
VariantFiltering 1.33.0  (landing page)
Robert Castelo
Snapshot Date: 2022-06-23 14:00:04 -0400 (Thu, 23 Jun 2022)
git_url: https://git.bioconductor.org/packages/VariantFiltering
git_branch: master
git_last_commit: d9fa4db
git_last_commit_date: 2022-04-26 11:19:20 -0400 (Tue, 26 Apr 2022)
nebbiolo2Linux (Ubuntu 20.04.4 LTS) / x86_64  OK    OK    OK  UNNEEDED, same version is already published
palomino4Windows Server 2022 Datacenter / x64  OK    OK    OK    OK  UNNEEDED, same version is already published
lconwaymacOS 12.2.1 Monterey / x86_64  OK    OK    OK    OK  UNNEEDED, same version is already published

Summary

Package: VariantFiltering
Version: 1.33.0
Command: rm -rf VariantFiltering.buildbin-libdir && mkdir VariantFiltering.buildbin-libdir && /Users/biocbuild/BBS/utils/build-universal.sh VariantFiltering_1.33.0.tar.gz /Library/Frameworks/R.framework/Resources/bin/R VariantFiltering.buildbin-libdir
StartedAt: 2022-06-24 00:02:01 -0400 (Fri, 24 Jun 2022)
EndedAt: 2022-06-24 00:03:12 -0400 (Fri, 24 Jun 2022)
EllapsedTime: 71.0 seconds
RetCode: 0
Status:   OK  
PackageFile: VariantFiltering_1.33.0.tgz
PackageFileSize: 4.153 MiB

Command output

##############################################################################
##############################################################################
###
### Running command:
###
###   rm -rf VariantFiltering.buildbin-libdir && mkdir VariantFiltering.buildbin-libdir && /Users/biocbuild/BBS/utils/build-universal.sh VariantFiltering_1.33.0.tar.gz /Library/Frameworks/R.framework/Resources/bin/R VariantFiltering.buildbin-libdir
###
##############################################################################
##############################################################################


>>>>>>> 
>>>>>>> INSTALLATION WITH 'R CMD INSTALL --preclean --no-multiarch --library=VariantFiltering.buildbin-libdir VariantFiltering_1.33.0.tar.gz'
>>>>>>> 

* installing *source* package ‘VariantFiltering’ ...
** using staged installation
** libs
clang -mmacosx-version-min=10.13 -I"/Library/Frameworks/R.framework/Resources/include" -DNDEBUG  -I'/Library/Frameworks/R.framework/Versions/4.2/Resources/library/S4Vectors/include' -I'/Library/Frameworks/R.framework/Versions/4.2/Resources/library/IRanges/include' -I'/Library/Frameworks/R.framework/Versions/4.2/Resources/library/XVector/include' -I'/Library/Frameworks/R.framework/Versions/4.2/Resources/library/Biostrings/include' -I/usr/local/include   -fPIC  -Wall -g -O2  -c Biostrings_stubs.c -o Biostrings_stubs.o
clang -mmacosx-version-min=10.13 -I"/Library/Frameworks/R.framework/Resources/include" -DNDEBUG  -I'/Library/Frameworks/R.framework/Versions/4.2/Resources/library/S4Vectors/include' -I'/Library/Frameworks/R.framework/Versions/4.2/Resources/library/IRanges/include' -I'/Library/Frameworks/R.framework/Versions/4.2/Resources/library/XVector/include' -I'/Library/Frameworks/R.framework/Versions/4.2/Resources/library/Biostrings/include' -I/usr/local/include   -fPIC  -Wall -g -O2  -c R_init_VariantFiltering.c -o R_init_VariantFiltering.o
clang -mmacosx-version-min=10.13 -I"/Library/Frameworks/R.framework/Resources/include" -DNDEBUG  -I'/Library/Frameworks/R.framework/Versions/4.2/Resources/library/S4Vectors/include' -I'/Library/Frameworks/R.framework/Versions/4.2/Resources/library/IRanges/include' -I'/Library/Frameworks/R.framework/Versions/4.2/Resources/library/XVector/include' -I'/Library/Frameworks/R.framework/Versions/4.2/Resources/library/Biostrings/include' -I/usr/local/include   -fPIC  -Wall -g -O2  -c methods-WeightMatrix.c -o methods-WeightMatrix.o
clang -mmacosx-version-min=10.13 -dynamiclib -Wl,-headerpad_max_install_names -undefined dynamic_lookup -single_module -multiply_defined suppress -L/Library/Frameworks/R.framework/Resources/lib -L/usr/local/lib -o VariantFiltering.so Biostrings_stubs.o R_init_VariantFiltering.o methods-WeightMatrix.o -F/Library/Frameworks/R.framework/.. -framework R -Wl,-framework -Wl,CoreFoundation
installing to /Users/biocbuild/bbs-3.16-bioc/meat/VariantFiltering.buildbin-libdir/00LOCK-VariantFiltering/00new/VariantFiltering/libs
** R
** inst
** byte-compile and prepare package for lazy loading
No methods found in package 'GenomeInfoDb' for request: 'releaseName' when loading 'VariantFiltering'
** help
*** installing help indices
** building package indices
** installing vignettes
** testing if installed package can be loaded from temporary location
No methods found in package 'GenomeInfoDb' for request: 'releaseName' when loading 'VariantFiltering'
** checking absolute paths in shared objects and dynamic libraries
** testing if installed package can be loaded from final location
No methods found in package 'GenomeInfoDb' for request: 'releaseName' when loading 'VariantFiltering'
** testing if installed package keeps a record of temporary installation path
* DONE (VariantFiltering)


>>>>>>> 
>>>>>>> FIXING LINKS FOR VariantFiltering.buildbin-libdir/VariantFiltering/libs/VariantFiltering.so
>>>>>>> 

install_name_tool -change "/usr/local/lib/libgcc_s.1.dylib" "/Library/Frameworks/R.framework/Versions/4.2/Resources/lib/libgcc_s.1.dylib" "VariantFiltering.buildbin-libdir/VariantFiltering/libs/VariantFiltering.so"
install_name_tool -change "/usr/local/lib/libgfortran.5.dylib" "/Library/Frameworks/R.framework/Versions/4.2/Resources/lib/libgfortran.5.dylib" "VariantFiltering.buildbin-libdir/VariantFiltering/libs/VariantFiltering.so"
install_name_tool -change "/usr/local/lib/libquadmath.0.dylib" "/Library/Frameworks/R.framework/Versions/4.2/Resources/lib/libquadmath.0.dylib" "VariantFiltering.buildbin-libdir/VariantFiltering/libs/VariantFiltering.so"