Back to Multiple platform build/check report for BioC 3.16
ABCDEFGHIJKLMNOPQR[S]TUVWXYZ

This page was generated on 2022-06-24 11:08:37 -0400 (Fri, 24 Jun 2022).

HostnameOSArch (*)R versionInstalled pkgs
nebbiolo2Linux (Ubuntu 20.04.4 LTS)x86_644.2.0 Patched (2022-06-02 r82447) -- "Vigorous Calisthenics" 4331
palomino4Windows Server 2022 Datacenterx644.2.0 Patched (2022-06-02 r82447 ucrt) -- "Vigorous Calisthenics" 4136
lconwaymacOS 12.2.1 Montereyx86_644.2.0 Patched (2022-05-29 r82424) -- "Vigorous Calisthenics" 4147
Click on any hostname to see more info about the system (e.g. compilers)      (*) as reported by 'uname -p', except on Windows and Mac OS X

BUILD BIN results for ShortRead on lconway


To the developers/maintainers of the ShortRead package:
- Please allow up to 24 hours (and sometimes 48 hours) for your latest push to git@git.bioconductor.org:packages/ShortRead.git to
reflect on this report. See How and When does the builder pull? When will my changes propagate? for more information.
- Make sure to use the following settings in order to reproduce any error or warning you see on this page.

raw results

Package 1811/2118HostnameOS / ArchINSTALLBUILDCHECKBUILD BIN
ShortRead 1.55.0  (landing page)
Bioconductor Package Maintainer
Snapshot Date: 2022-06-23 14:00:04 -0400 (Thu, 23 Jun 2022)
git_url: https://git.bioconductor.org/packages/ShortRead
git_branch: master
git_last_commit: cca7724
git_last_commit_date: 2022-04-26 11:01:12 -0400 (Tue, 26 Apr 2022)
nebbiolo2Linux (Ubuntu 20.04.4 LTS) / x86_64  OK    OK    WARNINGS  UNNEEDED, same version is already published
palomino4Windows Server 2022 Datacenter / x64  OK    OK    OK    OK  UNNEEDED, same version is already published
lconwaymacOS 12.2.1 Monterey / x86_64  OK    OK    OK    OK  UNNEEDED, same version is already published

Summary

Package: ShortRead
Version: 1.55.0
Command: rm -rf ShortRead.buildbin-libdir && mkdir ShortRead.buildbin-libdir && /Users/biocbuild/BBS/utils/build-universal.sh ShortRead_1.55.0.tar.gz /Library/Frameworks/R.framework/Resources/bin/R ShortRead.buildbin-libdir
StartedAt: 2022-06-23 23:57:33 -0400 (Thu, 23 Jun 2022)
EndedAt: 2022-06-23 23:58:39 -0400 (Thu, 23 Jun 2022)
EllapsedTime: 66.0 seconds
RetCode: 0
Status:   OK  
PackageFile: ShortRead_1.55.0.tgz
PackageFileSize: 5.391 MiB

Command output

##############################################################################
##############################################################################
###
### Running command:
###
###   rm -rf ShortRead.buildbin-libdir && mkdir ShortRead.buildbin-libdir && /Users/biocbuild/BBS/utils/build-universal.sh ShortRead_1.55.0.tar.gz /Library/Frameworks/R.framework/Resources/bin/R ShortRead.buildbin-libdir
###
##############################################################################
##############################################################################


>>>>>>> 
>>>>>>> INSTALLATION WITH 'R CMD INSTALL --preclean --no-multiarch --library=ShortRead.buildbin-libdir ShortRead_1.55.0.tar.gz'
>>>>>>> 

* installing *source* package ‘ShortRead’ ...
** using staged installation
checking for gcc... clang -mmacosx-version-min=10.13
checking whether the C compiler works... yes
checking for C compiler default output file name... a.out
checking for suffix of executables... 
checking whether we are cross compiling... no
checking for suffix of object files... o
checking whether we are using the GNU C compiler... yes
checking whether clang -mmacosx-version-min=10.13 accepts -g... yes
checking for clang -mmacosx-version-min=10.13 option to accept ISO C89... none needed
checking for gzeof in -lz... yes
checking how to run the C preprocessor... clang -mmacosx-version-min=10.13 -E
checking for grep that handles long lines and -e... /usr/bin/grep
checking for egrep... /usr/bin/grep -E
checking for ANSI C header files... yes
checking for sys/types.h... yes
checking for sys/stat.h... yes
checking for stdlib.h... yes
checking for string.h... yes
checking for memory.h... yes
checking for strings.h... yes
checking for inttypes.h... yes
checking for stdint.h... yes
checking for unistd.h... yes
checking size of unsigned long... 8
configure: creating ./config.status
config.status: creating src/Makevars
** libs
clang -mmacosx-version-min=10.13 -I"/Library/Frameworks/R.framework/Resources/include" -DNDEBUG  -I'/Library/Frameworks/R.framework/Versions/4.2/Resources/library/S4Vectors/include' -I'/Library/Frameworks/R.framework/Versions/4.2/Resources/library/IRanges/include' -I'/Library/Frameworks/R.framework/Versions/4.2/Resources/library/XVector/include' -I'/Library/Frameworks/R.framework/Versions/4.2/Resources/library/Biostrings/include' -I'/Library/Frameworks/R.framework/Versions/4.2/Resources/library/Rhtslib/include' -I'/Library/Frameworks/R.framework/Versions/4.2/Resources/library/zlibbioc/include' -I/usr/local/include   -fPIC  -Wall -g -O2  -c Biostrings_stubs.c -o Biostrings_stubs.o
clang -mmacosx-version-min=10.13 -I"/Library/Frameworks/R.framework/Resources/include" -DNDEBUG  -I'/Library/Frameworks/R.framework/Versions/4.2/Resources/library/S4Vectors/include' -I'/Library/Frameworks/R.framework/Versions/4.2/Resources/library/IRanges/include' -I'/Library/Frameworks/R.framework/Versions/4.2/Resources/library/XVector/include' -I'/Library/Frameworks/R.framework/Versions/4.2/Resources/library/Biostrings/include' -I'/Library/Frameworks/R.framework/Versions/4.2/Resources/library/Rhtslib/include' -I'/Library/Frameworks/R.framework/Versions/4.2/Resources/library/zlibbioc/include' -I/usr/local/include   -fPIC  -Wall -g -O2  -c IRanges_stubs.c -o IRanges_stubs.o
clang -mmacosx-version-min=10.13 -I"/Library/Frameworks/R.framework/Resources/include" -DNDEBUG  -I'/Library/Frameworks/R.framework/Versions/4.2/Resources/library/S4Vectors/include' -I'/Library/Frameworks/R.framework/Versions/4.2/Resources/library/IRanges/include' -I'/Library/Frameworks/R.framework/Versions/4.2/Resources/library/XVector/include' -I'/Library/Frameworks/R.framework/Versions/4.2/Resources/library/Biostrings/include' -I'/Library/Frameworks/R.framework/Versions/4.2/Resources/library/Rhtslib/include' -I'/Library/Frameworks/R.framework/Versions/4.2/Resources/library/zlibbioc/include' -I/usr/local/include   -fPIC  -Wall -g -O2  -c R_init_ShortRead.c -o R_init_ShortRead.o
clang -mmacosx-version-min=10.13 -I"/Library/Frameworks/R.framework/Resources/include" -DNDEBUG  -I'/Library/Frameworks/R.framework/Versions/4.2/Resources/library/S4Vectors/include' -I'/Library/Frameworks/R.framework/Versions/4.2/Resources/library/IRanges/include' -I'/Library/Frameworks/R.framework/Versions/4.2/Resources/library/XVector/include' -I'/Library/Frameworks/R.framework/Versions/4.2/Resources/library/Biostrings/include' -I'/Library/Frameworks/R.framework/Versions/4.2/Resources/library/Rhtslib/include' -I'/Library/Frameworks/R.framework/Versions/4.2/Resources/library/zlibbioc/include' -I/usr/local/include   -fPIC  -Wall -g -O2  -c S4Vectors_stubs.c -o S4Vectors_stubs.o
clang -mmacosx-version-min=10.13 -I"/Library/Frameworks/R.framework/Resources/include" -DNDEBUG  -I'/Library/Frameworks/R.framework/Versions/4.2/Resources/library/S4Vectors/include' -I'/Library/Frameworks/R.framework/Versions/4.2/Resources/library/IRanges/include' -I'/Library/Frameworks/R.framework/Versions/4.2/Resources/library/XVector/include' -I'/Library/Frameworks/R.framework/Versions/4.2/Resources/library/Biostrings/include' -I'/Library/Frameworks/R.framework/Versions/4.2/Resources/library/Rhtslib/include' -I'/Library/Frameworks/R.framework/Versions/4.2/Resources/library/zlibbioc/include' -I/usr/local/include   -fPIC  -Wall -g -O2  -c XVector_stubs.c -o XVector_stubs.o
clang -mmacosx-version-min=10.13 -I"/Library/Frameworks/R.framework/Resources/include" -DNDEBUG  -I'/Library/Frameworks/R.framework/Versions/4.2/Resources/library/S4Vectors/include' -I'/Library/Frameworks/R.framework/Versions/4.2/Resources/library/IRanges/include' -I'/Library/Frameworks/R.framework/Versions/4.2/Resources/library/XVector/include' -I'/Library/Frameworks/R.framework/Versions/4.2/Resources/library/Biostrings/include' -I'/Library/Frameworks/R.framework/Versions/4.2/Resources/library/Rhtslib/include' -I'/Library/Frameworks/R.framework/Versions/4.2/Resources/library/zlibbioc/include' -I/usr/local/include   -fPIC  -Wall -g -O2  -c alphabet.c -o alphabet.o
clang -mmacosx-version-min=10.13 -I"/Library/Frameworks/R.framework/Resources/include" -DNDEBUG  -I'/Library/Frameworks/R.framework/Versions/4.2/Resources/library/S4Vectors/include' -I'/Library/Frameworks/R.framework/Versions/4.2/Resources/library/IRanges/include' -I'/Library/Frameworks/R.framework/Versions/4.2/Resources/library/XVector/include' -I'/Library/Frameworks/R.framework/Versions/4.2/Resources/library/Biostrings/include' -I'/Library/Frameworks/R.framework/Versions/4.2/Resources/library/Rhtslib/include' -I'/Library/Frameworks/R.framework/Versions/4.2/Resources/library/zlibbioc/include' -I/usr/local/include   -fPIC  -Wall -g -O2  -c count.c -o count.o
clang -mmacosx-version-min=10.13 -I"/Library/Frameworks/R.framework/Resources/include" -DNDEBUG  -I'/Library/Frameworks/R.framework/Versions/4.2/Resources/library/S4Vectors/include' -I'/Library/Frameworks/R.framework/Versions/4.2/Resources/library/IRanges/include' -I'/Library/Frameworks/R.framework/Versions/4.2/Resources/library/XVector/include' -I'/Library/Frameworks/R.framework/Versions/4.2/Resources/library/Biostrings/include' -I'/Library/Frameworks/R.framework/Versions/4.2/Resources/library/Rhtslib/include' -I'/Library/Frameworks/R.framework/Versions/4.2/Resources/library/zlibbioc/include' -I/usr/local/include   -fPIC  -Wall -g -O2  -c io.c -o io.o
clang -mmacosx-version-min=10.13 -I"/Library/Frameworks/R.framework/Resources/include" -DNDEBUG  -I'/Library/Frameworks/R.framework/Versions/4.2/Resources/library/S4Vectors/include' -I'/Library/Frameworks/R.framework/Versions/4.2/Resources/library/IRanges/include' -I'/Library/Frameworks/R.framework/Versions/4.2/Resources/library/XVector/include' -I'/Library/Frameworks/R.framework/Versions/4.2/Resources/library/Biostrings/include' -I'/Library/Frameworks/R.framework/Versions/4.2/Resources/library/Rhtslib/include' -I'/Library/Frameworks/R.framework/Versions/4.2/Resources/library/zlibbioc/include' -I/usr/local/include   -fPIC  -Wall -g -O2  -c io_bowtie.c -o io_bowtie.o
clang -mmacosx-version-min=10.13 -I"/Library/Frameworks/R.framework/Resources/include" -DNDEBUG  -I'/Library/Frameworks/R.framework/Versions/4.2/Resources/library/S4Vectors/include' -I'/Library/Frameworks/R.framework/Versions/4.2/Resources/library/IRanges/include' -I'/Library/Frameworks/R.framework/Versions/4.2/Resources/library/XVector/include' -I'/Library/Frameworks/R.framework/Versions/4.2/Resources/library/Biostrings/include' -I'/Library/Frameworks/R.framework/Versions/4.2/Resources/library/Rhtslib/include' -I'/Library/Frameworks/R.framework/Versions/4.2/Resources/library/zlibbioc/include' -I/usr/local/include   -fPIC  -Wall -g -O2  -c io_soap.c -o io_soap.o
clang++ -mmacosx-version-min=10.13 -std=gnu++14 -I"/Library/Frameworks/R.framework/Resources/include" -DNDEBUG  -I'/Library/Frameworks/R.framework/Versions/4.2/Resources/library/S4Vectors/include' -I'/Library/Frameworks/R.framework/Versions/4.2/Resources/library/IRanges/include' -I'/Library/Frameworks/R.framework/Versions/4.2/Resources/library/XVector/include' -I'/Library/Frameworks/R.framework/Versions/4.2/Resources/library/Biostrings/include' -I'/Library/Frameworks/R.framework/Versions/4.2/Resources/library/Rhtslib/include' -I'/Library/Frameworks/R.framework/Versions/4.2/Resources/library/zlibbioc/include' -I/usr/local/include  -DPACKAGE_NAME=\"\" -DPACKAGE_TARNAME=\"\" -DPACKAGE_VERSION=\"\" -DPACKAGE_STRING=\"\" -DPACKAGE_BUGREPORT=\"\" -DPACKAGE_URL=\"\" -DHAVE_LIBZ=1 -DSTDC_HEADERS=1 -DHAVE_SYS_TYPES_H=1 -DHAVE_SYS_STAT_H=1 -DHAVE_STDLIB_H=1 -DHAVE_STRING_H=1 -DHAVE_MEMORY_H=1 -DHAVE_STRINGS_H=1 -DHAVE_INTTYPES_H=1 -DHAVE_STDINT_H=1 -DHAVE_UNISTD_H=1 -DSIZEOF_UNSIGNED_LONG=8 -fPIC  -Wall -g -O2  -c readBfaToc.cc -o readBfaToc.o
clang++ -mmacosx-version-min=10.13 -std=gnu++14 -I"/Library/Frameworks/R.framework/Resources/include" -DNDEBUG  -I'/Library/Frameworks/R.framework/Versions/4.2/Resources/library/S4Vectors/include' -I'/Library/Frameworks/R.framework/Versions/4.2/Resources/library/IRanges/include' -I'/Library/Frameworks/R.framework/Versions/4.2/Resources/library/XVector/include' -I'/Library/Frameworks/R.framework/Versions/4.2/Resources/library/Biostrings/include' -I'/Library/Frameworks/R.framework/Versions/4.2/Resources/library/Rhtslib/include' -I'/Library/Frameworks/R.framework/Versions/4.2/Resources/library/zlibbioc/include' -I/usr/local/include  -DPACKAGE_NAME=\"\" -DPACKAGE_TARNAME=\"\" -DPACKAGE_VERSION=\"\" -DPACKAGE_STRING=\"\" -DPACKAGE_BUGREPORT=\"\" -DPACKAGE_URL=\"\" -DHAVE_LIBZ=1 -DSTDC_HEADERS=1 -DHAVE_SYS_TYPES_H=1 -DHAVE_SYS_STAT_H=1 -DHAVE_STDLIB_H=1 -DHAVE_STRING_H=1 -DHAVE_MEMORY_H=1 -DHAVE_STRINGS_H=1 -DHAVE_INTTYPES_H=1 -DHAVE_STDINT_H=1 -DHAVE_UNISTD_H=1 -DSIZEOF_UNSIGNED_LONG=8 -fPIC  -Wall -g -O2  -c read_maq_map.cc -o read_maq_map.o
clang -mmacosx-version-min=10.13 -I"/Library/Frameworks/R.framework/Resources/include" -DNDEBUG  -I'/Library/Frameworks/R.framework/Versions/4.2/Resources/library/S4Vectors/include' -I'/Library/Frameworks/R.framework/Versions/4.2/Resources/library/IRanges/include' -I'/Library/Frameworks/R.framework/Versions/4.2/Resources/library/XVector/include' -I'/Library/Frameworks/R.framework/Versions/4.2/Resources/library/Biostrings/include' -I'/Library/Frameworks/R.framework/Versions/4.2/Resources/library/Rhtslib/include' -I'/Library/Frameworks/R.framework/Versions/4.2/Resources/library/zlibbioc/include' -I/usr/local/include   -fPIC  -Wall -g -O2  -c sampler.c -o sampler.o
clang -mmacosx-version-min=10.13 -I"/Library/Frameworks/R.framework/Resources/include" -DNDEBUG  -I'/Library/Frameworks/R.framework/Versions/4.2/Resources/library/S4Vectors/include' -I'/Library/Frameworks/R.framework/Versions/4.2/Resources/library/IRanges/include' -I'/Library/Frameworks/R.framework/Versions/4.2/Resources/library/XVector/include' -I'/Library/Frameworks/R.framework/Versions/4.2/Resources/library/Biostrings/include' -I'/Library/Frameworks/R.framework/Versions/4.2/Resources/library/Rhtslib/include' -I'/Library/Frameworks/R.framework/Versions/4.2/Resources/library/zlibbioc/include' -I/usr/local/include   -fPIC  -Wall -g -O2  -c trim.c -o trim.o
clang -mmacosx-version-min=10.13 -I"/Library/Frameworks/R.framework/Resources/include" -DNDEBUG  -I'/Library/Frameworks/R.framework/Versions/4.2/Resources/library/S4Vectors/include' -I'/Library/Frameworks/R.framework/Versions/4.2/Resources/library/IRanges/include' -I'/Library/Frameworks/R.framework/Versions/4.2/Resources/library/XVector/include' -I'/Library/Frameworks/R.framework/Versions/4.2/Resources/library/Biostrings/include' -I'/Library/Frameworks/R.framework/Versions/4.2/Resources/library/Rhtslib/include' -I'/Library/Frameworks/R.framework/Versions/4.2/Resources/library/zlibbioc/include' -I/usr/local/include   -fPIC  -Wall -g -O2  -c util.c -o util.o
clang -mmacosx-version-min=10.13 -I"/Library/Frameworks/R.framework/Resources/include" -DNDEBUG  -I'/Library/Frameworks/R.framework/Versions/4.2/Resources/library/S4Vectors/include' -I'/Library/Frameworks/R.framework/Versions/4.2/Resources/library/IRanges/include' -I'/Library/Frameworks/R.framework/Versions/4.2/Resources/library/XVector/include' -I'/Library/Frameworks/R.framework/Versions/4.2/Resources/library/Biostrings/include' -I'/Library/Frameworks/R.framework/Versions/4.2/Resources/library/Rhtslib/include' -I'/Library/Frameworks/R.framework/Versions/4.2/Resources/library/zlibbioc/include' -I/usr/local/include   -fPIC  -Wall -g -O2  -c xsnap.c -o xsnap.o
clang++ -mmacosx-version-min=10.13 -std=gnu++14 -dynamiclib -Wl,-headerpad_max_install_names -undefined dynamic_lookup -single_module -multiply_defined suppress -L/Library/Frameworks/R.framework/Resources/lib -L/usr/local/lib -o ShortRead.so Biostrings_stubs.o IRanges_stubs.o R_init_ShortRead.o S4Vectors_stubs.o XVector_stubs.o alphabet.o count.o io.o io_bowtie.o io_soap.o readBfaToc.o read_maq_map.o sampler.o trim.o util.o xsnap.o -lz -F/Library/Frameworks/R.framework/.. -framework R -Wl,-framework -Wl,CoreFoundation
installing to /Users/biocbuild/bbs-3.16-bioc/meat/ShortRead.buildbin-libdir/00LOCK-ShortRead/00new/ShortRead/libs
** R
** inst
** byte-compile and prepare package for lazy loading
** help
*** installing help indices
** building package indices
** installing vignettes
** testing if installed package can be loaded from temporary location
** checking absolute paths in shared objects and dynamic libraries
** testing if installed package can be loaded from final location
** testing if installed package keeps a record of temporary installation path
* DONE (ShortRead)


>>>>>>> 
>>>>>>> FIXING LINKS FOR ShortRead.buildbin-libdir/ShortRead/libs/ShortRead.so
>>>>>>> 

install_name_tool -change "/usr/local/lib/libgcc_s.1.dylib" "/Library/Frameworks/R.framework/Versions/4.2/Resources/lib/libgcc_s.1.dylib" "ShortRead.buildbin-libdir/ShortRead/libs/ShortRead.so"
install_name_tool -change "/usr/local/lib/libgfortran.5.dylib" "/Library/Frameworks/R.framework/Versions/4.2/Resources/lib/libgfortran.5.dylib" "ShortRead.buildbin-libdir/ShortRead/libs/ShortRead.so"
install_name_tool -change "/usr/local/lib/libquadmath.0.dylib" "/Library/Frameworks/R.framework/Versions/4.2/Resources/lib/libquadmath.0.dylib" "ShortRead.buildbin-libdir/ShortRead/libs/ShortRead.so"