Back to Build/check report for BioC 3.16
ABCDEFGHIJKLM[N]OPQRSTUVWXYZ

This page was generated on 2022-06-27 11:05:25 -0400 (Mon, 27 Jun 2022).

HostnameOSArch (*)R versionInstalled pkgs
nebbiolo2Linux (Ubuntu 20.04.4 LTS)x86_644.2.0 Patched (2022-06-02 r82447) -- "Vigorous Calisthenics" 4331
Click on any hostname to see more info about the system (e.g. compilers)      (*) as reported by 'uname -p', except on Windows and Mac OS X

INSTALL results for NanoTube on nebbiolo2


To the developers/maintainers of the NanoTube package:
- Please allow up to 24 hours (and sometimes 48 hours) for your latest push to git@git.bioconductor.org:packages/NanoTube.git to
reflect on this report. See How and When does the builder pull? When will my changes propagate? for more information.
- Make sure to use the following settings in order to reproduce any error or warning you see on this page.

raw results

Package 1289/2118HostnameOS / ArchINSTALLBUILDCHECKBUILD BIN
NanoTube 1.3.6  (landing page)
Caleb Class
Snapshot Date: 2022-06-26 14:00:03 -0400 (Sun, 26 Jun 2022)
git_url: https://git.bioconductor.org/packages/NanoTube
git_branch: master
git_last_commit: 84db14f
git_last_commit_date: 2022-06-17 15:40:18 -0400 (Fri, 17 Jun 2022)
nebbiolo2Linux (Ubuntu 20.04.4 LTS) / x86_64  OK    OK    OK  UNNEEDED, same version is already published

Summary

Package: NanoTube
Version: 1.3.6
Command: /home/biocbuild/bbs-3.16-bioc/R/bin/R CMD INSTALL NanoTube
StartedAt: 2022-06-26 15:17:30 -0400 (Sun, 26 Jun 2022)
EndedAt: 2022-06-26 15:17:40 -0400 (Sun, 26 Jun 2022)
EllapsedTime: 10.7 seconds
RetCode: 0
Status:   OK  

Command output

##############################################################################
##############################################################################
###
### Running command:
###
###   /home/biocbuild/bbs-3.16-bioc/R/bin/R CMD INSTALL NanoTube
###
##############################################################################
##############################################################################


* installing to library ‘/home/biocbuild/bbs-3.16-bioc/R/library’
* installing *source* package ‘NanoTube’ ...
** using staged installation
** R
** data
** inst
** byte-compile and prepare package for lazy loading
** help
*** installing help indices
** building package indices
** installing vignettes
** testing if installed package can be loaded from temporary location
** testing if installed package can be loaded from final location
** testing if installed package keeps a record of temporary installation path
* DONE (NanoTube)