Back to Multiple platform build/check report for BioC 3.16 |
|
This page was generated on 2022-05-14 11:04:52 -0400 (Sat, 14 May 2022).
Hostname | OS | Arch (*) | R version | Installed pkgs |
---|---|---|---|---|
nebbiolo2 | Linux (Ubuntu 20.04.4 LTS) | x86_64 | 4.2.0 RC (2022-04-21 r82226) -- "Vigorous Calisthenics" | 4351 |
palomino4 | Windows Server 2022 Datacenter | x64 | 4.2.0 Patched (2022-04-24 r82246 ucrt) -- "Vigorous Calisthenics" | 4122 |
lconway | macOS 12.2.1 Monterey | x86_64 | 4.2.0 Patched (2022-04-24 r82246) -- "Vigorous Calisthenics" | 4132 |
Click on any hostname to see more info about the system (e.g. compilers) (*) as reported by 'uname -p', except on Windows and Mac OS X |
To the developers/maintainers of the VAExprs package: - Please allow up to 24 hours (and sometimes 48 hours) for your latest push to git@git.bioconductor.org:packages/VAExprs.git to reflect on this report. See How and When does the builder pull? When will my changes propagate? for more information. - Make sure to use the following settings in order to reproduce any error or warning you see on this page. |
Package 2062/2112 | Hostname | OS / Arch | INSTALL | BUILD | CHECK | BUILD BIN | ||||||||
VAExprs 1.3.0 (landing page) Dongmin Jung
| nebbiolo2 | Linux (Ubuntu 20.04.4 LTS) / x86_64 | OK | OK | OK | ![]() | ||||||||
palomino4 | Windows Server 2022 Datacenter / x64 | OK | OK | OK | OK | ![]() | ||||||||
lconway | macOS 12.2.1 Monterey / x86_64 | OK | OK | OK | OK | ![]() | ||||||||