Back to Multiple platform build/check report for BioC 3.14
ABCDEFGHIJKLMNOPQ[R]STUVWXYZ

This page was generated on 2021-10-19 12:04:14 -0400 (Tue, 19 Oct 2021).

All results for package regioneR

To the developers/maintainers of the regioneR package:
- Please allow up to 24 hours (and sometimes 48 hours) for your latest push to git@git.bioconductor.org:packages/regioneR.git to
reflect on this report. See How and When does the builder pull? When will my changes propagate? here for more information.
- Make sure to use the following settings in order to reproduce any error or warning you see on this page.

raw results

Package 1556/2060HostnameOS / ArchINSTALLBUILDCHECKBUILD BIN
regioneR 1.25.1  (landing page)
Bernat Gel
Snapshot Date: 2021-10-18 14:50:10 -0400 (Mon, 18 Oct 2021)
git_url: https://git.bioconductor.org/packages/regioneR
git_branch: master
git_last_commit: de2bd47
git_last_commit_date: 2021-07-29 11:17:02 -0400 (Thu, 29 Jul 2021)
nebbiolo2Linux (Ubuntu 20.04.2 LTS) / x86_64  OK    OK    OK  UNNEEDED, same version is already published
riesling1Windows Server 2019 Standard / x64  OK    OK    OK    OK  UNNEEDED, same version is already published
merida1macOS 10.14.6 Mojave / x86_64  OK    OK    OK    NA  

Results for Bioconductor software packages that depend directly on package regioneR

QUICK STATSOS / ArchINSTALLBUILDCHECKBUILD BIN
nebbiolo2Linux (Ubuntu 20.04.2 LTS) / x86_64
007
025
0014
riesling1Windows Server 2019 Standard / x64
007
025
0113
005
merida1macOS 10.14.6 Mojave / x86_64
007
025
0014
002
Package 1/7HostnameOS / ArchINSTALLBUILDCHECKBUILD BIN
annotatr 1.19.1  (landing page)
Raymond G. Cavalcante
git_last_commit: d6b7760
git_last_commit_date: 2021-07-12 11:04:21 -0400
nebbiolo2Linux (Ubuntu 20.04.2 LTS) / x86_64  OK    OK    WARNINGS  UNNEEDED, same version is already published
riesling1Windows Server 2019 Standard / x64  OK    OK    WARNINGS    OK  UNNEEDED, same version is already published
merida1macOS 10.14.6 Mojave / x86_64  OK    OK    WARNINGS    OK  UNNEEDED, same version is already published
Package 2/7HostnameOS / ArchINSTALLBUILDCHECKBUILD BIN
ChIPpeakAnno 3.27.6  (landing page)
Jianhong Ou
git_last_commit: 66a9c05
git_last_commit_date: 2021-09-09 15:08:28 -0400
nebbiolo2Linux (Ubuntu 20.04.2 LTS) / x86_64  OK    OK    OK  UNNEEDED, same version is already published
riesling1Windows Server 2019 Standard / x64  OK    OK    ERROR    OK  
merida1macOS 10.14.6 Mojave / x86_64  OK    OK    OK    OK  UNNEEDED, same version is already published
Package 3/7HostnameOS / ArchINSTALLBUILDCHECKBUILD BIN
CNVfilteR 1.7.3  (landing page)
Jose Marcos Moreno-Cabrera
git_last_commit: 1478e3b
git_last_commit_date: 2021-09-09 04:04:12 -0400
nebbiolo2Linux (Ubuntu 20.04.2 LTS) / x86_64  OK    ERROR  skipped
riesling1Windows Server 2019 Standard / x64  OK    ERROR  skippedskipped
merida1macOS 10.14.6 Mojave / x86_64  OK    ERROR  skippedskipped
Package 4/7HostnameOS / ArchINSTALLBUILDCHECKBUILD BIN
CopyNumberPlots 1.9.1  (landing page)
Bernat Gel
git_last_commit: bf3e49e
git_last_commit_date: 2021-07-29 11:32:28 -0400
nebbiolo2Linux (Ubuntu 20.04.2 LTS) / x86_64  OK    ERROR  skipped
riesling1Windows Server 2019 Standard / x64  OK    ERROR  skippedskipped
merida1macOS 10.14.6 Mojave / x86_64  OK    ERROR  skippedskipped
Package 5/7HostnameOS / ArchINSTALLBUILDCHECKBUILD BIN
karyoploteR 1.19.4  (landing page)
Bernat Gel
git_last_commit: bf710b0
git_last_commit_date: 2021-10-11 09:52:58 -0400
nebbiolo2Linux (Ubuntu 20.04.2 LTS) / x86_64  OK    OK    OK  UNNEEDED, same version is already published
riesling1Windows Server 2019 Standard / x64  OK    OK    OK    OK  UNNEEDED, same version is already published
merida1macOS 10.14.6 Mojave / x86_64  OK    OK    OK    NA  
Package 6/7HostnameOS / ArchINSTALLBUILDCHECKBUILD BIN
RIPAT 1.3.0  (landing page)
Min-Jeong Baek
git_last_commit: a2d1616
git_last_commit_date: 2021-05-19 12:54:50 -0400
nebbiolo2Linux (Ubuntu 20.04.2 LTS) / x86_64  OK    OK    OK  UNNEEDED, same version is already published
riesling1Windows Server 2019 Standard / x64  OK    OK    OK    OK  UNNEEDED, same version is already published
merida1macOS 10.14.6 Mojave / x86_64  OK    OK    OK    NA  
Package 7/7HostnameOS / ArchINSTALLBUILDCHECKBUILD BIN
UMI4Cats 1.3.1  (landing page)
Mireia Ramos-Rodriguez
git_last_commit: d3a7908
git_last_commit_date: 2021-06-11 08:57:40 -0400
nebbiolo2Linux (Ubuntu 20.04.2 LTS) / x86_64  OK    OK    OK  UNNEEDED, same version is already published
riesling1Windows Server 2019 Standard / x64  OK    OK    OK    OK  UNNEEDED, same version is already published
merida1macOS 10.14.6 Mojave / x86_64  OK    OK    OK    NA