Back to Build/check report for BioC 3.15
A[B]CDEFGHIJKLMNOPQRSTUVWXYZ

This page was generated on 2021-12-04 12:32:06 -0500 (Sat, 04 Dec 2021).

All results for package BeadDataPackR

To the developers/maintainers of the BeadDataPackR package:
- Please allow up to 24 hours (and sometimes 48 hours) for your latest push to git@git.bioconductor.org:packages/BeadDataPackR.git to
reflect on this report. See How and When does the builder pull? When will my changes propagate? here for more information.
- Make sure to use the following settings in order to reproduce any error or warning you see on this page.

raw results

Package 132/2068HostnameOS / ArchINSTALLBUILDCHECKBUILD BIN
BeadDataPackR 1.47.0  (landing page)
Mike Smith
Snapshot Date: 2021-12-03 13:55:11 -0500 (Fri, 03 Dec 2021)
git_url: https://git.bioconductor.org/packages/BeadDataPackR
git_branch: master
git_last_commit: eb85bbf
git_last_commit_date: 2021-10-26 11:55:42 -0500 (Tue, 26 Oct 2021)
nebbiolo1Linux (Ubuntu 20.04.3 LTS) / x86_64  OK    OK    OK  UNNEEDED, same version is already published

Results for Bioconductor software packages that depend directly on package BeadDataPackR

QUICK STATSOS / ArchINSTALLBUILDCHECKBUILD BIN
nebbiolo1Linux (Ubuntu 20.04.3 LTS) / x86_64
001
001
0001
Package 1/1HostnameOS / ArchINSTALLBUILDCHECKBUILD BIN
beadarray 2.45.0  (landing page)
Mark Dunning
git_last_commit: 3ac2907
git_last_commit_date: 2021-10-26 11:49:14 -0500
nebbiolo1Linux (Ubuntu 20.04.3 LTS) / x86_64  OK    OK    OK  UNNEEDED, same version is already published