Back to Multiple platform build/check report for BioC 3.16
ABCDEFGHIJKLMN[O]PQRSTUVWXYZ

This page was generated on 2022-06-24 11:05:38 -0400 (Fri, 24 Jun 2022).

HostnameOSArch (*)R versionInstalled pkgs
nebbiolo2Linux (Ubuntu 20.04.4 LTS)x86_644.2.0 Patched (2022-06-02 r82447) -- "Vigorous Calisthenics" 4331
palomino4Windows Server 2022 Datacenterx644.2.0 Patched (2022-06-02 r82447 ucrt) -- "Vigorous Calisthenics" 4136
lconwaymacOS 12.2.1 Montereyx86_644.2.0 Patched (2022-05-29 r82424) -- "Vigorous Calisthenics" 4147
Click on any hostname to see more info about the system (e.g. compilers)      (*) as reported by 'uname -p', except on Windows and Mac OS X

CHECK results for OTUbase on nebbiolo2


To the developers/maintainers of the OTUbase package:
- Please allow up to 24 hours (and sometimes 48 hours) for your latest push to git@git.bioconductor.org:packages/OTUbase.git to
reflect on this report. See How and When does the builder pull? When will my changes propagate? for more information.
- Make sure to use the following settings in order to reproduce any error or warning you see on this page.

raw results

Package 1378/2118HostnameOS / ArchINSTALLBUILDCHECKBUILD BIN
OTUbase 1.47.0  (landing page)
Daniel Beck
Snapshot Date: 2022-06-23 14:00:04 -0400 (Thu, 23 Jun 2022)
git_url: https://git.bioconductor.org/packages/OTUbase
git_branch: master
git_last_commit: 8ea132a
git_last_commit_date: 2022-04-26 11:05:52 -0400 (Tue, 26 Apr 2022)
nebbiolo2Linux (Ubuntu 20.04.4 LTS) / x86_64  OK    OK    OK  UNNEEDED, same version is already published
palomino4Windows Server 2022 Datacenter / x64  OK    OK    OK    OK  UNNEEDED, same version is already published
lconwaymacOS 12.2.1 Monterey / x86_64  OK    OK    OK    OK  UNNEEDED, same version is already published

Summary

Package: OTUbase
Version: 1.47.0
Command: /home/biocbuild/bbs-3.16-bioc/R/bin/R CMD check --install=check:OTUbase.install-out.txt --library=/home/biocbuild/bbs-3.16-bioc/R/library --no-vignettes --timings OTUbase_1.47.0.tar.gz
StartedAt: 2022-06-23 21:03:50 -0400 (Thu, 23 Jun 2022)
EndedAt: 2022-06-23 21:07:21 -0400 (Thu, 23 Jun 2022)
EllapsedTime: 211.2 seconds
RetCode: 0
Status:   OK  
CheckDir: OTUbase.Rcheck
Warnings: 0

Command output

##############################################################################
##############################################################################
###
### Running command:
###
###   /home/biocbuild/bbs-3.16-bioc/R/bin/R CMD check --install=check:OTUbase.install-out.txt --library=/home/biocbuild/bbs-3.16-bioc/R/library --no-vignettes --timings OTUbase_1.47.0.tar.gz
###
##############################################################################
##############################################################################


* using log directory ‘/home/biocbuild/bbs-3.16-bioc/meat/OTUbase.Rcheck’
* using R version 4.2.0 Patched (2022-06-02 r82447)
* using platform: x86_64-pc-linux-gnu (64-bit)
* using session charset: UTF-8
* using option ‘--no-vignettes’
* checking for file ‘OTUbase/DESCRIPTION’ ... OK
* checking extension type ... Package
* this is package ‘OTUbase’ version ‘1.47.0’
* checking package namespace information ... OK
* checking package dependencies ... OK
* checking if this is a source package ... OK
* checking if there is a namespace ... OK
* checking for hidden files and directories ... OK
* checking for portable file names ... OK
* checking for sufficient/correct file permissions ... OK
* checking whether package ‘OTUbase’ can be installed ... OK
* checking installed package size ... OK
* checking package directory ... OK
* checking ‘build’ directory ... OK
* checking DESCRIPTION meta-information ... NOTE
Malformed Description field: should contain one or more complete sentences.
* checking top-level files ... OK
* checking for left-over files ... OK
* checking index information ... OK
* checking package subdirectories ... OK
* checking R files for non-ASCII characters ... OK
* checking R files for syntax errors ... OK
* checking whether the package can be loaded ... OK
* checking whether the package can be loaded with stated dependencies ... OK
* checking whether the package can be unloaded cleanly ... OK
* checking whether the namespace can be loaded with stated dependencies ... OK
* checking whether the namespace can be unloaded cleanly ... OK
* checking dependencies in R code ... NOTE
Package in Depends field not imported from: ‘vegan’
  These packages need to be imported from (in the NAMESPACE file)
  for when this namespace is loaded but not attached.
* checking S3 generic/method consistency ... OK
* checking replacement functions ... OK
* checking foreign function calls ... OK
* checking R code for possible problems ... NOTE
.onAttach: warning in packageDescription("OTUbase", field = "Version"):
  partial argument match of 'field' to 'fields'
.readADF: warning in read.table(file.path(dirPath, ADF), sep = "\t",
  head = T): partial argument match of 'head' to 'header'
.readRDP: warning in read.table(file.path(dirPath, ADF), head = F, sep
  = "\t", stringsAsFactors = F): partial argument match of 'head' to
  'header'
.readrdpfix: warning in read.table(file.path(dirPath, rdpfile), head =
  F, stringsAsFactors = F, sep = "\t"): partial argument match of
  'head' to 'header'
readTAXset: warning in read.table(file.path(dirPath, namefile), head =
  F, stringsAsFactors = F, sep = "\t"): partial argument match of
  'head' to 'header'
o_diversity: no visible global function definition for ‘diversity’
o_estimateR : <anonymous>: no visible global function definition for
  ‘estimateR’
clusterSamples,.OTUset: no visible global function definition for
  ‘vegdist’
clusterSamples,.TAXset: no visible global function definition for
  ‘vegdist’
Undefined global functions or variables:
  diversity estimateR vegdist
* checking Rd files ... OK
* checking Rd metadata ... OK
* checking Rd cross-references ... OK
* checking for missing documentation entries ... OK
* checking for code/documentation mismatches ... OK
* checking Rd \usage sections ... OK
* checking Rd contents ... OK
* checking for unstated dependencies in examples ... OK
* checking files in ‘vignettes’ ... OK
* checking examples ... OK
* checking for unstated dependencies in vignettes ... OK
* checking package vignettes in ‘inst/doc’ ... OK
* checking running R code from vignettes ... SKIPPED
* checking re-building of vignette outputs ... SKIPPED
* checking PDF version of manual ... OK
* DONE

Status: 3 NOTEs
See
  ‘/home/biocbuild/bbs-3.16-bioc/meat/OTUbase.Rcheck/00check.log’
for details.



Installation output

OTUbase.Rcheck/00install.out

##############################################################################
##############################################################################
###
### Running command:
###
###   /home/biocbuild/bbs-3.16-bioc/R/bin/R CMD INSTALL OTUbase
###
##############################################################################
##############################################################################


* installing to library ‘/home/biocbuild/bbs-3.16-bioc/R/library’
* installing *source* package ‘OTUbase’ ...
** using staged installation
** R
** inst
** byte-compile and prepare package for lazy loading
** help
*** installing help indices
** building package indices
** installing vignettes
** testing if installed package can be loaded from temporary location
** testing if installed package can be loaded from final location
** testing if installed package keeps a record of temporary installation path
* DONE (OTUbase)

Tests output


Example timings

OTUbase.Rcheck/OTUbase-Ex.timings

nameusersystemelapsed
OTUset-class0.6180.0880.709
TAXset-class0.7180.0281.102
abundance0.3290.0090.575
accessors0.1520.0080.240
assignmentData0.1170.0070.140
clusterSamples0.1990.0000.310
other_functions0.1490.0000.222
other_generics0.1240.0040.192
readOTUset0.4500.0000.467
readTAXset0.1270.0000.144
sampleData0.1210.0040.125
subOTUset0.1660.0000.208
subTAXset0.1320.0000.147