Back to Multiple platform build/check report for BioC 3.16
[A]BCDEFGHIJKLMNOPQRSTUVWXYZ

This page was generated on 2022-06-29 11:04:52 -0400 (Wed, 29 Jun 2022).

HostnameOSArch (*)R versionInstalled pkgs
nebbiolo2Linux (Ubuntu 20.04.4 LTS)x86_644.2.0 Patched (2022-06-02 r82447) -- "Vigorous Calisthenics" 4343
lconwaymacOS 12.2.1 Montereyx86_644.2.0 Patched (2022-05-29 r82424) -- "Vigorous Calisthenics" 4159
Click on any hostname to see more info about the system (e.g. compilers)      (*) as reported by 'uname -p', except on Windows and Mac OS X

CHECK results for apComplex on lconway


To the developers/maintainers of the apComplex package:
- Please allow up to 24 hours (and sometimes 48 hours) for your latest push to git@git.bioconductor.org:packages/apComplex.git to
reflect on this report. See How and When does the builder pull? When will my changes propagate? for more information.
- Make sure to use the following settings in order to reproduce any error or warning you see on this page.

raw results

Package 70/2124HostnameOS / ArchINSTALLBUILDCHECKBUILD BIN
apComplex 2.63.0  (landing page)
Denise Scholtens
Snapshot Date: 2022-06-28 14:00:02 -0400 (Tue, 28 Jun 2022)
git_url: https://git.bioconductor.org/packages/apComplex
git_branch: master
git_last_commit: a54a96e
git_last_commit_date: 2022-04-26 10:56:39 -0400 (Tue, 26 Apr 2022)
nebbiolo2Linux (Ubuntu 20.04.4 LTS) / x86_64  OK    OK    OK  UNNEEDED, same version is already published
lconwaymacOS 12.2.1 Monterey / x86_64  OK    OK    OK    OK  UNNEEDED, same version is already published

Summary

Package: apComplex
Version: 2.63.0
Command: /Library/Frameworks/R.framework/Resources/bin/R CMD check --install=check:apComplex.install-out.txt --library=/Library/Frameworks/R.framework/Resources/library --no-vignettes --timings apComplex_2.63.0.tar.gz
StartedAt: 2022-06-28 19:07:51 -0400 (Tue, 28 Jun 2022)
EndedAt: 2022-06-28 19:09:57 -0400 (Tue, 28 Jun 2022)
EllapsedTime: 126.8 seconds
RetCode: 0
Status:   OK  
CheckDir: apComplex.Rcheck
Warnings: 0

Command output

##############################################################################
##############################################################################
###
### Running command:
###
###   /Library/Frameworks/R.framework/Resources/bin/R CMD check --install=check:apComplex.install-out.txt --library=/Library/Frameworks/R.framework/Resources/library --no-vignettes --timings apComplex_2.63.0.tar.gz
###
##############################################################################
##############################################################################


* using log directory ‘/Users/biocbuild/bbs-3.16-bioc/meat/apComplex.Rcheck’
* using R version 4.2.0 Patched (2022-05-29 r82424)
* using platform: x86_64-apple-darwin17.0 (64-bit)
* using session charset: UTF-8
* using option ‘--no-vignettes’
* checking for file ‘apComplex/DESCRIPTION’ ... OK
* this is package ‘apComplex’ version ‘2.63.0’
* checking package namespace information ... OK
* checking package dependencies ... OK
* checking if this is a source package ... OK
* checking if there is a namespace ... OK
* checking for hidden files and directories ... OK
* checking for portable file names ... OK
* checking for sufficient/correct file permissions ... OK
* checking whether package ‘apComplex’ can be installed ... OK
* checking installed package size ... OK
* checking package directory ... OK
* checking ‘build’ directory ... OK
* checking DESCRIPTION meta-information ... OK
* checking top-level files ... OK
* checking for left-over files ... OK
* checking index information ... OK
* checking package subdirectories ... OK
* checking R files for non-ASCII characters ... OK
* checking R files for syntax errors ... OK
* checking whether the package can be loaded ... OK
* checking whether the package can be loaded with stated dependencies ... OK
* checking whether the package can be unloaded cleanly ... OK
* checking whether the namespace can be loaded with stated dependencies ... OK
* checking whether the namespace can be unloaded cleanly ... OK
* checking dependencies in R code ... NOTE
Packages in Depends field not imported from:
  ‘RBGL’ ‘graph’
  These packages need to be imported from (in the NAMESPACE file)
  for when this namespace is loaded but not attached.
* checking S3 generic/method consistency ... OK
* checking replacement functions ... OK
* checking foreign function calls ... OK
* checking R code for possible problems ... NOTE
plotComplex: warning in mget(complexMembers, env = org.Sc.sgdGENENAME,
  ifnotfound = NA): partial argument match of 'env' to 'envir'
bhmaxSubgraph: no visible global function definition for ‘as’
bhmaxSubgraph: no visible global function definition for ‘ugraph’
bhmaxSubgraph: no visible global function definition for ‘maxClique’
plotComplex: no visible global function definition for ‘subGraph’
plotComplex: no visible global function definition for
  ‘removeSelfLoops’
plotComplex: no visible global function definition for ‘edgeNames’
plotComplex: no visible global function definition for ‘numEdges’
plotComplex: no visible global function definition for ‘degree’
Undefined global functions or variables:
  as degree edgeNames maxClique numEdges removeSelfLoops subGraph
  ugraph
Consider adding
  importFrom("methods", "as")
to your NAMESPACE file (and ensure that your DESCRIPTION Imports field
contains 'methods').
* checking Rd files ... OK
* checking Rd metadata ... OK
* checking Rd cross-references ... OK
* checking for missing documentation entries ... OK
* checking for code/documentation mismatches ... OK
* checking Rd \usage sections ... OK
* checking Rd contents ... OK
* checking for unstated dependencies in examples ... OK
* checking contents of ‘data’ directory ... OK
* checking data for non-ASCII characters ... OK
* checking data for ASCII and uncompressed saves ... OK
* checking sizes of PDF files under ‘inst/doc’ ... OK
* checking files in ‘vignettes’ ... OK
* checking examples ... OK
* checking for unstated dependencies in vignettes ... OK
* checking package vignettes in ‘inst/doc’ ... OK
* checking running R code from vignettes ... SKIPPED
* checking re-building of vignette outputs ... SKIPPED
* checking PDF version of manual ... OK
* DONE

Status: 2 NOTEs
See
  ‘/Users/biocbuild/bbs-3.16-bioc/meat/apComplex.Rcheck/00check.log’
for details.



Installation output

apComplex.Rcheck/00install.out

##############################################################################
##############################################################################
###
### Running command:
###
###   /Library/Frameworks/R.framework/Resources/bin/R CMD INSTALL apComplex
###
##############################################################################
##############################################################################


* installing to library ‘/Library/Frameworks/R.framework/Versions/4.2/Resources/library’
* installing *source* package ‘apComplex’ ...
** using staged installation
** R
** data
** byte-compile and prepare package for lazy loading
** help
*** installing help indices
** building package indices
** installing vignettes
** testing if installed package can be loaded from temporary location
** testing if installed package can be loaded from final location
** testing if installed package keeps a record of temporary installation path
* DONE (apComplex)

Tests output


Example timings

apComplex.Rcheck/apComplex-Ex.timings

nameusersystemelapsed
FilteredEstimates0.0390.0040.043
HMSPCI0.0580.0060.066
Krogan0.0020.0010.004
LCjoin0.5390.0100.550
MBMEcHMSPCI0.0030.0010.003
MBMEcKrogan0.0010.0010.002
MBMEcTAP0.0040.0010.005
TAP0.0200.0030.023
apEX0.0020.0020.004
bhmaxSubgraph0.0520.0060.058
findComplexes0.0280.0050.033
gavinBP20060.0980.0240.123
kroganBPMat20060.2290.0540.286
mergeComplexes0.3210.0160.340
plotComplex0.0930.0040.099
sortComplexes0.0310.0010.033
yNameTAP0.0080.0010.010
yTAP0.0040.0020.007