Back to Multiple platform build/check report for BioC 3.14
ABCDEF[G]HIJKLMNOPQRSTUVWXYZ

This page was generated on 2021-10-20 12:04:43 -0400 (Wed, 20 Oct 2021).

BUILD results for Glimma on nebbiolo2

To the developers/maintainers of the Glimma package:
- Please allow up to 24 hours (and sometimes 48 hours) for your latest push to git@git.bioconductor.org:packages/Glimma.git to
reflect on this report. See How and When does the builder pull? When will my changes propagate? here for more information.
- Make sure to use the following settings in order to reproduce any error or warning you see on this page.

raw results

Package 782/2072HostnameOS / ArchINSTALLBUILDCHECKBUILD BIN
Glimma 2.3.2  (landing page)
Shian Su
Snapshot Date: 2021-10-19 14:50:04 -0400 (Tue, 19 Oct 2021)
git_url: https://git.bioconductor.org/packages/Glimma
git_branch: master
git_last_commit: 454469c
git_last_commit_date: 2021-09-23 09:23:21 -0400 (Thu, 23 Sep 2021)
nebbiolo2Linux (Ubuntu 20.04.2 LTS) / x86_64  OK    OK    OK  UNNEEDED, same version is already published
riesling1Windows Server 2019 Standard / x64  OK    OK    OK    OK  UNNEEDED, same version is already published
merida1macOS 10.14.6 Mojave / x86_64  OK    OK    OK    OK  UNNEEDED, same version is already published

Summary

Package: Glimma
Version: 2.3.2
Command: /home/biocbuild/bbs-3.14-bioc/R/bin/R CMD build --keep-empty-dirs --no-resave-data Glimma
StartedAt: 2021-10-19 17:26:23 -0400 (Tue, 19 Oct 2021)
EndedAt: 2021-10-19 17:34:07 -0400 (Tue, 19 Oct 2021)
EllapsedTime: 463.9 seconds
RetCode: 0
Status:   OK  
PackageFile: Glimma_2.3.2.tar.gz
PackageFileSize: 11.14 MiB

Command output

##############################################################################
##############################################################################
###
### Running command:
###
###   /home/biocbuild/bbs-3.14-bioc/R/bin/R CMD build --keep-empty-dirs --no-resave-data Glimma
###
##############################################################################
##############################################################################


* checking for file ‘Glimma/DESCRIPTION’ ... OK
* preparing ‘Glimma’:
* checking DESCRIPTION meta-information ... OK
* installing the package to build vignettes
* creating vignettes ... OK
* checking for LF line-endings in source and make files and shell scripts
* checking for empty or unneeded directories
* building ‘Glimma_2.3.2.tar.gz’