Back to Multiple platform build/check report for BioC 3.20:   simplified   long
AB[C]DEFGHIJKLMNOPQRSTUVWXYZ

This page was generated on 2024-06-25 11:37 -0400 (Tue, 25 Jun 2024).

HostnameOSArch (*)R versionInstalled pkgs
nebbiolo2Linux (Ubuntu 22.04.3 LTS)x86_644.4.0 RC (2024-04-16 r86468) -- "Puppy Cup" 4690
lconwaymacOS 12.7.1 Montereyx86_644.4.1 RC (2024-06-06 r86719) -- "Race for Your Life" 4404
kjohnson3macOS 13.6.5 Venturaarm644.4.1 RC (2024-06-06 r86719) -- "Race for Your Life" 4353
Click on any hostname to see more info about the system (e.g. compilers)      (*) as reported by 'uname -p', except on Windows and Mac OS X

All results for package clusterProfiler


To the developers/maintainers of the clusterProfiler package:
- Allow up to 24 hours (and sometimes 48 hours) for your latest push to git@git.bioconductor.org:packages/clusterProfiler.git to reflect on this report. See Troubleshooting Build Report for more information.
- Use the following Renviron settings to reproduce errors and warnings.
- If 'R CMD check' started to fail recently on the Linux builder(s) over a missing dependency, add the missing dependency to 'Suggests:' in your DESCRIPTION file. See Renviron.bioc for more information.

raw results

Package 369/2242HostnameOS / ArchINSTALLBUILDCHECKBUILD BIN
clusterProfiler 4.13.0  (landing page)
Guangchuang Yu
Snapshot Date: 2024-06-24 14:00 -0400 (Mon, 24 Jun 2024)
git_url: https://git.bioconductor.org/packages/clusterProfiler
git_branch: devel
git_last_commit: 3dc99f8
git_last_commit_date: 2024-04-30 10:23:45 -0400 (Tue, 30 Apr 2024)
nebbiolo2Linux (Ubuntu 22.04.3 LTS) / x86_64  OK    OK    OK  UNNEEDED, same version is already published
lconwaymacOS 12.7.1 Monterey / x86_64  OK    OK    OK    OK  UNNEEDED, same version is already published
kjohnson3macOS 13.6.5 Ventura / arm64  OK    OK    OK    OK  UNNEEDED, same version is already published



Results for Bioconductor software packages that depend directly on package clusterProfiler

QUICK STATSOS / ArchINSTALLBUILDCHECKBUILD BIN
nebbiolo2Linux (Ubuntu 22.04.3 LTS) / x86_64
0028
0028
01126
lconwaymacOS 12.7.1 Monterey / x86_64
0226
0226
00125
0026
kjohnson3macOS 13.6.5 Ventura / arm64
0226
0226
00125
0026
Package 1/28HostnameOS / ArchINSTALLBUILDCHECKBUILD BIN
bioCancer 1.33.0  (landing page)
Karim Mezhoud
git_last_commit: a889558
git_last_commit_date: 2024-04-30 10:51:18 -0400
nebbiolo2Linux (Ubuntu 22.04.3 LTS) / x86_64  OK    OK    OK  UNNEEDED, same version is already published
lconwaymacOS 12.7.1 Monterey / x86_64  ERROR    ERROR  skippedskipped
kjohnson3macOS 13.6.5 Ventura / arm64  ERROR    ERROR  skippedskipped
Package 2/28HostnameOS / ArchINSTALLBUILDCHECKBUILD BIN
broadSeq 0.99.3  (landing page)
Rishi Das Roy
git_last_commit: 788035b
git_last_commit_date: 2024-06-05 05:25:26 -0400
nebbiolo2Linux (Ubuntu 22.04.3 LTS) / x86_64  OK    OK    OK  UNNEEDED, same version is already published
lconwaymacOS 12.7.1 Monterey / x86_64  OK    OK    OK    OK  UNNEEDED, same version is already published
kjohnson3macOS 13.6.5 Ventura / arm64  OK    OK    OK    OK  UNNEEDED, same version is already published
Package 3/28HostnameOS / ArchINSTALLBUILDCHECKBUILD BIN
CaMutQC 1.1.0  (landing page)
Xin Wang
git_last_commit: f2d131d
git_last_commit_date: 2024-04-30 11:55:10 -0400
nebbiolo2Linux (Ubuntu 22.04.3 LTS) / x86_64  OK    OK    OK  UNNEEDED, same version is already published
lconwaymacOS 12.7.1 Monterey / x86_64  OK    OK    OK    OK  UNNEEDED, same version is already published
kjohnson3macOS 13.6.5 Ventura / arm64  OK    OK    OK    OK  UNNEEDED, same version is already published
Package 4/28HostnameOS / ArchINSTALLBUILDCHECKBUILD BIN
CBNplot 1.5.0  (landing page)
Noriaki Sato
git_last_commit: feb27bf
git_last_commit_date: 2024-04-30 11:48:49 -0400
nebbiolo2Linux (Ubuntu 22.04.3 LTS) / x86_64  OK    OK    OK  UNNEEDED, same version is already published
lconwaymacOS 12.7.1 Monterey / x86_64  OK    OK    OK    OK  UNNEEDED, same version is already published
kjohnson3macOS 13.6.5 Ventura / arm64  OK    OK    OK    OK  UNNEEDED, same version is already published
Package 5/28HostnameOS / ArchINSTALLBUILDCHECKBUILD BIN
CEMiTool 1.29.0  (landing page)
Helder Nakaya
git_last_commit: 5bf6507
git_last_commit_date: 2024-04-30 10:59:39 -0400
nebbiolo2Linux (Ubuntu 22.04.3 LTS) / x86_64  OK    OK    OK  UNNEEDED, same version is already published
lconwaymacOS 12.7.1 Monterey / x86_64  OK    OK    OK    OK  UNNEEDED, same version is already published
kjohnson3macOS 13.6.5 Ventura / arm64  OK    OK    OK    OK  UNNEEDED, same version is already published
Package 6/28HostnameOS / ArchINSTALLBUILDCHECKBUILD BIN
CeTF 1.17.0  (landing page)
Carlos Alberto Oliveira de Biagi Junior
git_last_commit: 7988071
git_last_commit_date: 2024-04-30 11:19:45 -0400
nebbiolo2Linux (Ubuntu 22.04.3 LTS) / x86_64  OK    OK    OK  UNNEEDED, same version is already published
lconwaymacOS 12.7.1 Monterey / x86_64  OK    OK    OK    OK  UNNEEDED, same version is already published
kjohnson3macOS 13.6.5 Ventura / arm64  OK    OK    OK    OK  UNNEEDED, same version is already published
Package 7/28HostnameOS / ArchINSTALLBUILDCHECKBUILD BIN
debrowser 1.33.0  (landing page)
Alper Kucukural
git_last_commit: ec057cc
git_last_commit_date: 2024-04-30 10:49:26 -0400
nebbiolo2Linux (Ubuntu 22.04.3 LTS) / x86_64  OK    OK    OK  UNNEEDED, same version is already published
lconwaymacOS 12.7.1 Monterey / x86_64  OK    OK    OK    OK  UNNEEDED, same version is already published
kjohnson3macOS 13.6.5 Ventura / arm64  OK    OK    OK    OK  UNNEEDED, same version is already published
Package 8/28HostnameOS / ArchINSTALLBUILDCHECKBUILD BIN
EasyCellType 1.7.0  (landing page)
Ruoxing Li
git_last_commit: ecf1fde
git_last_commit_date: 2024-04-30 11:44:15 -0400
nebbiolo2Linux (Ubuntu 22.04.3 LTS) / x86_64  OK    OK    OK  UNNEEDED, same version is already published
lconwaymacOS 12.7.1 Monterey / x86_64  OK    OK    OK    OK  UNNEEDED, same version is already published
kjohnson3macOS 13.6.5 Ventura / arm64  OK    OK    OK    OK  UNNEEDED, same version is already published
Package 9/28HostnameOS / ArchINSTALLBUILDCHECKBUILD BIN
epiregulon.extra 1.1.0  (landing page)
Xiaosai Yao
git_last_commit: 9bb71fe
git_last_commit_date: 2024-04-30 11:56:37 -0400
nebbiolo2Linux (Ubuntu 22.04.3 LTS) / x86_64  OK    OK    OK  UNNEEDED, same version is already published
lconwaymacOS 12.7.1 Monterey / x86_64  OK    OK    OK    OK  UNNEEDED, same version is already published
kjohnson3macOS 13.6.5 Ventura / arm64  OK    OK    OK    OK  UNNEEDED, same version is already published
Package 10/28HostnameOS / ArchINSTALLBUILDCHECKBUILD BIN
esATAC 1.27.0  (landing page)
Zheng Wei
git_last_commit: 150e526
git_last_commit_date: 2024-04-30 11:02:36 -0400
nebbiolo2Linux (Ubuntu 22.04.3 LTS) / x86_64  OK    OK    OK  UNNEEDED, same version is already published
lconwaymacOS 12.7.1 Monterey / x86_64  OK    OK    OK    OK  UNNEEDED, same version is already published
kjohnson3macOS 13.6.5 Ventura / arm64  OK    OK    OK    OK  NO, package depends on 'TFBSTools' which is only available as a source package that needs compilation
Package 11/28HostnameOS / ArchINSTALLBUILDCHECKBUILD BIN
famat 1.15.0  (landing page)
Mathieu Charles
git_last_commit: 043e161
git_last_commit_date: 2024-04-30 11:28:49 -0400
nebbiolo2Linux (Ubuntu 22.04.3 LTS) / x86_64  OK    OK    OK  UNNEEDED, same version is already published
lconwaymacOS 12.7.1 Monterey / x86_64  OK    OK    OK    OK  UNNEEDED, same version is already published
kjohnson3macOS 13.6.5 Ventura / arm64  OK    OK    OK    OK  UNNEEDED, same version is already published
Package 12/28HostnameOS / ArchINSTALLBUILDCHECKBUILD BIN
GDCRNATools 1.25.0  (landing page)
Ruidong Li
git_last_commit: fd0461c
git_last_commit_date: 2024-04-30 11:03:29 -0400
nebbiolo2Linux (Ubuntu 22.04.3 LTS) / x86_64  OK    OK    OK  UNNEEDED, same version is already published
lconwaymacOS 12.7.1 Monterey / x86_64  OK    OK    OK    OK  UNNEEDED, same version is already published
kjohnson3macOS 13.6.5 Ventura / arm64  OK    OK    OK    OK  UNNEEDED, same version is already published
Package 13/28HostnameOS / ArchINSTALLBUILDCHECKBUILD BIN
gINTomics 1.1.0  (landing page)
Angelo Velle
git_last_commit: c1c358f
git_last_commit_date: 2024-04-30 11:56:24 -0400
nebbiolo2Linux (Ubuntu 22.04.3 LTS) / x86_64  OK    OK    OK  NO, package depends on 'OmnipathR' which is not available
lconwaymacOS 12.7.1 Monterey / x86_64  ERROR    ERROR  skippedskipped
kjohnson3macOS 13.6.5 Ventura / arm64  ERROR    ERROR  skippedskipped
Package 14/28HostnameOS / ArchINSTALLBUILDCHECKBUILD BIN
goSorensen 1.7.0  (landing page)
Pablo Flores
git_last_commit: 2be7d70
git_last_commit_date: 2024-04-30 11:43:56 -0400
nebbiolo2Linux (Ubuntu 22.04.3 LTS) / x86_64  OK    OK    OK  UNNEEDED, same version is already published
lconwaymacOS 12.7.1 Monterey / x86_64  OK    OK    OK    OK  UNNEEDED, same version is already published
kjohnson3macOS 13.6.5 Ventura / arm64  OK    OK    OK    OK  UNNEEDED, same version is already published
Package 15/28HostnameOS / ArchINSTALLBUILDCHECKBUILD BIN
MAGeCKFlute 2.9.0  (landing page)
Wubing Zhang
git_last_commit: 056f370
git_last_commit_date: 2024-04-30 11:02:57 -0400
nebbiolo2Linux (Ubuntu 22.04.3 LTS) / x86_64  OK    OK    OK  UNNEEDED, same version is already published
lconwaymacOS 12.7.1 Monterey / x86_64  OK    OK    OK    OK  UNNEEDED, same version is already published
kjohnson3macOS 13.6.5 Ventura / arm64  OK    OK    OK    OK  UNNEEDED, same version is already published
Package 16/28HostnameOS / ArchINSTALLBUILDCHECKBUILD BIN
MetaPhOR 1.7.0  (landing page)
Emily Isenhart
git_last_commit: bd8ea30
git_last_commit_date: 2024-04-30 11:45:20 -0400
nebbiolo2Linux (Ubuntu 22.04.3 LTS) / x86_64  OK    OK    OK  UNNEEDED, same version is already published
lconwaymacOS 12.7.1 Monterey / x86_64  OK    OK    OK    OK  UNNEEDED, same version is already published
kjohnson3macOS 13.6.5 Ventura / arm64  OK    OK    OK    OK  UNNEEDED, same version is already published
Package 17/28HostnameOS / ArchINSTALLBUILDCHECKBUILD BIN
methylGSA 1.23.0  (landing page)
Xu Ren
git_last_commit: 54e1b7f
git_last_commit_date: 2024-04-30 11:07:40 -0400
nebbiolo2Linux (Ubuntu 22.04.3 LTS) / x86_64  OK    OK    OK  UNNEEDED, same version is already published
lconwaymacOS 12.7.1 Monterey / x86_64  OK    OK    OK    OK  UNNEEDED, same version is already published
kjohnson3macOS 13.6.5 Ventura / arm64  OK    OK    OK    OK  UNNEEDED, same version is already published
Package 18/28HostnameOS / ArchINSTALLBUILDCHECKBUILD BIN
MicrobiomeProfiler 1.11.0  (landing page)
Meijun Chen
git_last_commit: 0b41aed
git_last_commit_date: 2024-04-30 11:37:53 -0400
nebbiolo2Linux (Ubuntu 22.04.3 LTS) / x86_64  OK    OK    OK  UNNEEDED, same version is already published
lconwaymacOS 12.7.1 Monterey / x86_64  OK    OK    OK    OK  UNNEEDED, same version is already published
kjohnson3macOS 13.6.5 Ventura / arm64  OK    OK    OK    OK  UNNEEDED, same version is already published
Package 19/28HostnameOS / ArchINSTALLBUILDCHECKBUILD BIN
miRSM 2.1.0  (landing page)
Junpeng Zhang
git_last_commit: 059eed1
git_last_commit_date: 2024-04-30 11:08:44 -0400
nebbiolo2Linux (Ubuntu 22.04.3 LTS) / x86_64  OK    OK    OK  UNNEEDED, same version is already published
lconwaymacOS 12.7.1 Monterey / x86_64  OK    OK    OK    OK  UNNEEDED, same version is already published
kjohnson3macOS 13.6.5 Ventura / arm64  OK    OK    OK    OK  UNNEEDED, same version is already published
Package 20/28HostnameOS / ArchINSTALLBUILDCHECKBUILD BIN
miRspongeR 2.9.0  (landing page)
Junpeng Zhang
git_last_commit: 6e3455f
git_last_commit_date: 2024-04-30 10:59:49 -0400
nebbiolo2Linux (Ubuntu 22.04.3 LTS) / x86_64  OK    OK    OK  NO, package depends on 'SPONGE' which is not available
lconwaymacOS 12.7.1 Monterey / x86_64  OK    OK    OK    OK  UNNEEDED, same version is already published
kjohnson3macOS 13.6.5 Ventura / arm64  OK    OK    OK    OK  UNNEEDED, same version is already published
Package 21/28HostnameOS / ArchINSTALLBUILDCHECKBUILD BIN
Moonlight2R 1.3.0  (landing page)
Matteo Tiberti
git_last_commit: d5b0796
git_last_commit_date: 2024-04-30 11:51:36 -0400
nebbiolo2Linux (Ubuntu 22.04.3 LTS) / x86_64  OK    OK    ERROR  
lconwaymacOS 12.7.1 Monterey / x86_64  OK    OK    OK    OK  UNNEEDED, same version is already published
kjohnson3macOS 13.6.5 Ventura / arm64  OK    OK    OK    OK  UNNEEDED, same version is already published
Package 22/28HostnameOS / ArchINSTALLBUILDCHECKBUILD BIN
MoonlightR 1.31.0  (landing page)
Matteo Tiberti
git_last_commit: bba1442
git_last_commit_date: 2024-04-30 10:54:23 -0400
nebbiolo2Linux (Ubuntu 22.04.3 LTS) / x86_64  OK    OK    OK  UNNEEDED, same version is already published
lconwaymacOS 12.7.1 Monterey / x86_64  OK    OK    OK    OK  UNNEEDED, same version is already published
kjohnson3macOS 13.6.5 Ventura / arm64  OK    OK    OK    OK  UNNEEDED, same version is already published
Package 23/28HostnameOS / ArchINSTALLBUILDCHECKBUILD BIN
mosdef 1.1.0  (landing page)
Federico Marini
git_last_commit: 33678ac
git_last_commit_date: 2024-04-30 11:56:21 -0400
nebbiolo2Linux (Ubuntu 22.04.3 LTS) / x86_64  OK    OK    OK  UNNEEDED, same version is already published
lconwaymacOS 12.7.1 Monterey / x86_64  OK    OK    OK    OK  UNNEEDED, same version is already published
kjohnson3macOS 13.6.5 Ventura / arm64  OK    OK    OK    OK  UNNEEDED, same version is already published
Package 24/28HostnameOS / ArchINSTALLBUILDCHECKBUILD BIN
PanomiR 1.9.0  (landing page)
Pourya Naderi
git_last_commit: b2155ce
git_last_commit_date: 2024-04-30 11:40:10 -0400
nebbiolo2Linux (Ubuntu 22.04.3 LTS) / x86_64  OK    OK    OK  UNNEEDED, same version is already published
lconwaymacOS 12.7.1 Monterey / x86_64  OK    OK    OK    OK  UNNEEDED, same version is already published
kjohnson3macOS 13.6.5 Ventura / arm64  OK    OK    OK    OK  UNNEEDED, same version is already published
Package 25/28HostnameOS / ArchINSTALLBUILDCHECKBUILD BIN
pathlinkR 1.1.11  (landing page)
Travis Blimkie
git_last_commit: b8c8be2
git_last_commit_date: 2024-06-03 14:38:00 -0400
nebbiolo2Linux (Ubuntu 22.04.3 LTS) / x86_64  OK    OK    OK  UNNEEDED, same version is already published
lconwaymacOS 12.7.1 Monterey / x86_64  OK    OK    OK    OK  UNNEEDED, same version is already published
kjohnson3macOS 13.6.5 Ventura / arm64  OK    OK    OK    OK  UNNEEDED, same version is already published
Package 26/28HostnameOS / ArchINSTALLBUILDCHECKBUILD BIN
Pigengene 1.31.2  (landing page)
Habil Zare
git_last_commit: e04cac6
git_last_commit_date: 2024-06-23 12:56:04 -0400
nebbiolo2Linux (Ubuntu 22.04.3 LTS) / x86_64  OK    OK    OK  UNNEEDED, same version is already published
lconwaymacOS 12.7.1 Monterey / x86_64  OK    OK    OK    OK  UNNEEDED, same version is already published
kjohnson3macOS 13.6.5 Ventura / arm64  OK    OK    OK    OK  YES
Package 27/28HostnameOS / ArchINSTALLBUILDCHECKBUILD BIN
seqArchRplus 1.5.0  (landing page)
Sarvesh Nikumbh
git_last_commit: 67eccab
git_last_commit_date: 2024-04-30 11:46:19 -0400
nebbiolo2Linux (Ubuntu 22.04.3 LTS) / x86_64  OK    OK    WARNINGS  UNNEEDED, same version is already published
lconwaymacOS 12.7.1 Monterey / x86_64  OK    OK    WARNINGS    OK  UNNEEDED, same version is already published
kjohnson3macOS 13.6.5 Ventura / arm64  OK    OK    WARNINGS    OK  UNNEEDED, same version is already published
Package 28/28HostnameOS / ArchINSTALLBUILDCHECKBUILD BIN
signatureSearch 1.19.0  (landing page)
Brendan Gongol
git_last_commit: d3e13a4
git_last_commit_date: 2024-04-30 11:19:09 -0400
nebbiolo2Linux (Ubuntu 22.04.3 LTS) / x86_64  OK    OK    OK  UNNEEDED, same version is already published
lconwaymacOS 12.7.1 Monterey / x86_64  OK    OK    OK    OK  UNNEEDED, same version is already published
kjohnson3macOS 13.6.5 Ventura / arm64  OK    OK    OK    OK  UNNEEDED, same version is already published