Back to Multiple platform build/check report for BioC 3.14
ABCDEFGHIJKLMNOPQR[S]TUVWXYZ

This page was generated on 2021-10-14 12:04:56 -0400 (Thu, 14 Oct 2021).

All results for package spatialHeatmap

To the developers/maintainers of the spatialHeatmap package:
- Please allow up to 24 hours (and sometimes 48 hours) for your latest push to git@git.bioconductor.org:packages/spatialHeatmap.git to
reflect on this report. See How and When does the builder pull? When will my changes propagate? here for more information.
- Make sure to use the following settings in order to reproduce any error or warning you see on this page.

raw results

Package 1824/2056HostnameOS / ArchINSTALLBUILDCHECKBUILD BIN
spatialHeatmap 1.3.1  (landing page)
Jianhai Zhang
Snapshot Date: 2021-10-13 14:50:09 -0400 (Wed, 13 Oct 2021)
git_url: https://git.bioconductor.org/packages/spatialHeatmap
git_branch: master
git_last_commit: 7511f5e
git_last_commit_date: 2021-08-24 12:16:04 -0400 (Tue, 24 Aug 2021)
nebbiolo2Linux (Ubuntu 20.04.2 LTS) / x86_64  OK    OK    OK  UNNEEDED, same version is already published
riesling1Windows Server 2019 Standard / x64  OK    OK    OK    OK  UNNEEDED, same version is already published
merida1macOS 10.14.6 Mojave / x86_64  OK    OK    OK    NA