Back to Multiple platform build/check report for BioC 3.17
ABCDEFGHIJKL[M]NOPQRSTUVWXYZ

This page was generated on 2022-11-29 11:04:53 -0500 (Tue, 29 Nov 2022).

HostnameOSArch (*)R versionInstalled pkgs
nebbiolo1Linux (Ubuntu 22.04.1 LTS)x86_64R Under development (unstable) (2022-10-25 r83175) -- "Unsuffered Consequences" 4462
palomino3Windows Server 2022 Datacenterx64R Under development (unstable) (2022-10-11 r83083 ucrt) -- "Unsuffered Consequences" 4201
merida1macOS 10.14.6 Mojavex86_64R Under development (unstable) (2022-11-13 r83342) -- "Unsuffered Consequences" 4231
Click on any hostname to see more info about the system (e.g. compilers)      (*) as reported by 'uname -p', except on Windows and Mac OS X

All results for package maser


To the developers/maintainers of the maser package:
- Please allow up to 24 hours (and sometimes 48 hours) for your latest push to git@git.bioconductor.org:packages/maser.git to
reflect on this report. See How and When does the builder pull? When will my changes propagate? for more information.
- Make sure to use the following settings in order to reproduce any error or warning you see on this page.

raw results

Package 1079/2154HostnameOS / ArchINSTALLBUILDCHECKBUILD BIN
maser 1.17.0  (landing page)
Diogo F.T. Veiga
Snapshot Date: 2022-11-28 14:00:12 -0500 (Mon, 28 Nov 2022)
git_url: https://git.bioconductor.org/packages/maser
git_branch: master
git_last_commit: 2aacb1a
git_last_commit_date: 2022-11-01 11:17:54 -0500 (Tue, 01 Nov 2022)
nebbiolo1Linux (Ubuntu 22.04.1 LTS) / x86_64  OK    OK    OK  UNNEEDED, same version is already published
palomino3Windows Server 2022 Datacenter / x64  OK    OK    OK    OK  NO, package depends on 'GenomicRanges' which is not available
merida1macOS 10.14.6 Mojave / x86_64  OK    OK    OK    OK  NO, package depends on 'rtracklayer' which is not available