Back to Multiple platform build/check report for BioC 3.13
ABCDEF[G]HIJKLMNOPQRSTUVWXYZ

Multiple platform build/check report for BioC 3.13

All results for package gsean

This page was generated on 2021-04-12 12:56:37 -0400 (Mon, 12 Apr 2021).

Package 796/1981HostnameOS / ArchINSTALLBUILDCHECKBUILD BIN
gsean 1.11.0  (landing page)
Dongmin Jung
Snapshot Date: 2021-04-11 14:50:10 -0400 (Sun, 11 Apr 2021)
URL: https://git.bioconductor.org/packages/gsean
Branch: master
Last Commit: e74d54f
Last Changed Date: 2020-10-27 11:31:38 -0400 (Tue, 27 Oct 2020)
nebbiolo1Linux (Ubuntu 20.04.2 LTS) / x86_64  OK    OK    OK  UNNEEDED, same version exists in internal repository
riesling1Windows Server 2019 Standard / x64  OK    OK    OK    OK  UNNEEDED, same version exists in internal repository
machv2macOS 10.14.6 Mojave / x86_64  OK    OK    OK    OK  UNNEEDED, same version exists in internal repository