Back to Build/check report for BioC 3.15
ABCDEFGHIJK[L]MNOPQRSTUVWXYZ

This page was generated on 2021-12-04 12:32:09 -0500 (Sat, 04 Dec 2021).

All results for package LEA

To the developers/maintainers of the LEA package:
- Please allow up to 24 hours (and sometimes 48 hours) for your latest push to git@git.bioconductor.org:packages/LEA.git to
reflect on this report. See How and When does the builder pull? When will my changes propagate? here for more information.
- Make sure to use the following settings in order to reproduce any error or warning you see on this page.

raw results

Package 983/2068HostnameOS / ArchINSTALLBUILDCHECKBUILD BIN
LEA 3.7.0  (landing page)
Olivier Francois
Snapshot Date: 2021-12-03 13:55:11 -0500 (Fri, 03 Dec 2021)
git_url: https://git.bioconductor.org/packages/LEA
git_branch: master
git_last_commit: ddc2336
git_last_commit_date: 2021-10-29 07:44:15 -0500 (Fri, 29 Oct 2021)
nebbiolo1Linux (Ubuntu 20.04.3 LTS) / x86_64  OK    OK    OK  UNNEEDED, same version is already published