Back to Multiple platform build/check report for BioC 3.16
ABCDEFGHIJKLMNOP[Q]RSTUVWXYZ

This page was generated on 2022-06-29 11:05:29 -0400 (Wed, 29 Jun 2022).

HostnameOSArch (*)R versionInstalled pkgs
nebbiolo2Linux (Ubuntu 20.04.4 LTS)x86_644.2.0 Patched (2022-06-02 r82447) -- "Vigorous Calisthenics" 4343
lconwaymacOS 12.2.1 Montereyx86_644.2.0 Patched (2022-05-29 r82424) -- "Vigorous Calisthenics" 4159
Click on any hostname to see more info about the system (e.g. compilers)      (*) as reported by 'uname -p', except on Windows and Mac OS X

BUILD results for QuasR on lconway


To the developers/maintainers of the QuasR package:
- Please allow up to 24 hours (and sometimes 48 hours) for your latest push to git@git.bioconductor.org:packages/QuasR.git to
reflect on this report. See How and When does the builder pull? When will my changes propagate? for more information.
- Make sure to use the following settings in order to reproduce any error or warning you see on this page.

raw results

Package 1536/2124HostnameOS / ArchINSTALLBUILDCHECKBUILD BIN
QuasR 1.37.1  (landing page)
Michael Stadler
Snapshot Date: 2022-06-28 14:00:02 -0400 (Tue, 28 Jun 2022)
git_url: https://git.bioconductor.org/packages/QuasR
git_branch: master
git_last_commit: ff049af
git_last_commit_date: 2022-05-03 14:20:29 -0400 (Tue, 03 May 2022)
nebbiolo2Linux (Ubuntu 20.04.4 LTS) / x86_64  OK    OK    OK  UNNEEDED, same version is already published
lconwaymacOS 12.2.1 Monterey / x86_64  OK    OK    ERROR    OK  

Summary

Package: QuasR
Version: 1.37.1
Command: /Library/Frameworks/R.framework/Resources/bin/R CMD build --keep-empty-dirs --no-resave-data QuasR
StartedAt: 2022-06-28 17:49:09 -0400 (Tue, 28 Jun 2022)
EndedAt: 2022-06-28 17:53:40 -0400 (Tue, 28 Jun 2022)
EllapsedTime: 270.7 seconds
RetCode: 0
Status:   OK  
PackageFile: QuasR_1.37.1.tar.gz
PackageFileSize: 2.196 MiB

Command output

##############################################################################
##############################################################################
###
### Running command:
###
###   /Library/Frameworks/R.framework/Resources/bin/R CMD build --keep-empty-dirs --no-resave-data QuasR
###
##############################################################################
##############################################################################


* checking for file ‘QuasR/DESCRIPTION’ ... OK
* preparing ‘QuasR’:
* checking DESCRIPTION meta-information ... OK
* cleaning src
* installing the package to build vignettes
* creating vignettes ... OK
* cleaning src
* checking for LF line-endings in source and make files and shell scripts
* checking for empty or unneeded directories
WARNING: directory ‘QuasR/inst/AlignerIndexPkg-template/R’ is empty
* building ‘QuasR_1.37.1.tar.gz’