Back to Multiple platform build/check report for BioC 3.14
AB[C]DEFGHIJKLMNOPQRSTUVWXYZ

This page was generated on 2021-10-21 12:04:14 -0400 (Thu, 21 Oct 2021).

INSTALL results for CGHbase on nebbiolo2

To the developers/maintainers of the CGHbase package:
- Please allow up to 24 hours (and sometimes 48 hours) for your latest push to git@git.bioconductor.org:packages/CGHbase.git to
reflect on this report. See How and When does the builder pull? When will my changes propagate? here for more information.
- Make sure to use the following settings in order to reproduce any error or warning you see on this page.

raw results

Package 283/2075HostnameOS / ArchINSTALLBUILDCHECKBUILD BIN
CGHbase 1.53.0  (landing page)
Mark van de Wiel
Snapshot Date: 2021-10-20 14:50:05 -0400 (Wed, 20 Oct 2021)
git_url: https://git.bioconductor.org/packages/CGHbase
git_branch: master
git_last_commit: a8d3c92
git_last_commit_date: 2021-05-19 11:40:57 -0400 (Wed, 19 May 2021)
nebbiolo2Linux (Ubuntu 20.04.2 LTS) / x86_64  OK    OK    OK  UNNEEDED, same version is already published
riesling1Windows Server 2019 Standard / x64  OK    OK    OK    OK  UNNEEDED, same version is already published
merida1macOS 10.14.6 Mojave / x86_64  OK    OK    OK    OK  UNNEEDED, same version is already published

Summary

Package: CGHbase
Version: 1.53.0
Command: /home/biocbuild/bbs-3.14-bioc/R/bin/R CMD INSTALL CGHbase
StartedAt: 2021-10-20 16:06:38 -0400 (Wed, 20 Oct 2021)
EndedAt: 2021-10-20 16:06:53 -0400 (Wed, 20 Oct 2021)
EllapsedTime: 15.7 seconds
RetCode: 0
Status:   OK  

Command output

##############################################################################
##############################################################################
###
### Running command:
###
###   /home/biocbuild/bbs-3.14-bioc/R/bin/R CMD INSTALL CGHbase
###
##############################################################################
##############################################################################


* installing to library ‘/home/biocbuild/bbs-3.14-bioc/R/library’
* installing *source* package ‘CGHbase’ ...
** using staged installation
** R
** data
** byte-compile and prepare package for lazy loading
** help
*** installing help indices
** building package indices
** testing if installed package can be loaded from temporary location
** testing if installed package can be loaded from final location
** testing if installed package keeps a record of temporary installation path
* DONE (CGHbase)