Back to Multiple platform build/check report for BioC 3.16 |
|
This page was generated on 2022-06-29 11:04:43 -0400 (Wed, 29 Jun 2022).
Hostname | OS | Arch (*) | R version | Installed pkgs |
---|---|---|---|---|
nebbiolo2 | Linux (Ubuntu 20.04.4 LTS) | x86_64 | 4.2.0 Patched (2022-06-02 r82447) -- "Vigorous Calisthenics" | 4343 |
lconway | macOS 12.2.1 Monterey | x86_64 | 4.2.0 Patched (2022-05-29 r82424) -- "Vigorous Calisthenics" | 4159 |
Click on any hostname to see more info about the system (e.g. compilers) (*) as reported by 'uname -p', except on Windows and Mac OS X |
To the developers/maintainers of the segmentSeq package: - Please allow up to 24 hours (and sometimes 48 hours) for your latest push to git@git.bioconductor.org:packages/segmentSeq.git to reflect on this report. See How and When does the builder pull? When will my changes propagate? for more information. - Make sure to use the following settings in order to reproduce any error or warning you see on this page. |
Package 1786/2124 | Hostname | OS / Arch | INSTALL | BUILD | CHECK | BUILD BIN | ||||||||
segmentSeq 2.31.0 (landing page) Thomas J. Hardcastle
| nebbiolo2 | Linux (Ubuntu 20.04.4 LTS) / x86_64 | OK | OK | OK | ![]() | ||||||||
lconway | macOS 12.2.1 Monterey / x86_64 | OK | OK | OK | OK | ![]() | ||||||||
Package: segmentSeq |
Version: 2.31.0 |
Command: /home/biocbuild/bbs-3.16-bioc/R/bin/R CMD build --keep-empty-dirs --no-resave-data segmentSeq |
StartedAt: 2022-06-28 17:52:22 -0400 (Tue, 28 Jun 2022) |
EndedAt: 2022-06-28 17:59:33 -0400 (Tue, 28 Jun 2022) |
EllapsedTime: 431.7 seconds |
RetCode: 0 |
Status: OK |
PackageFile: segmentSeq_2.31.0.tar.gz |
PackageFileSize: 2.754 MiB |
############################################################################## ############################################################################## ### ### Running command: ### ### /home/biocbuild/bbs-3.16-bioc/R/bin/R CMD build --keep-empty-dirs --no-resave-data segmentSeq ### ############################################################################## ############################################################################## * checking for file ‘segmentSeq/DESCRIPTION’ ... OK * preparing ‘segmentSeq’: * checking DESCRIPTION meta-information ... OK * installing the package to build vignettes * creating vignettes ... OK * checking for LF line-endings in source and make files and shell scripts * checking for empty or unneeded directories * looking to see if a ‘data/datalist’ file should be added NB: this package now depends on R (>= 3.5.0) WARNING: Added dependency on R >= 3.5.0 because serialized objects in serialize/load version 3 cannot be read in older versions of R. File(s) containing such objects: ‘segmentSeq/data/hSL.RData’ * building ‘segmentSeq_2.31.0.tar.gz’